BEGIN:VCALENDAR
VERSION:2.0
PRODID:-//Nelson Hockey Association (1993) Inc - ECPv6.15.16//NONSGML v1.0//EN
CALSCALE:GREGORIAN
METHOD:PUBLISH
X-WR-CALNAME:Nelson Hockey Association (1993) Inc
X-ORIGINAL-URL:https://www.nelsonhockey.org.nz
X-WR-CALDESC:Events for Nelson Hockey Association (1993) Inc
REFRESH-INTERVAL;VALUE=DURATION:PT1H
X-Robots-Tag:noindex
X-PUBLISHED-TTL:PT1H
BEGIN:VTIMEZONE
TZID:Pacific/Auckland
BEGIN:STANDARD
TZOFFSETFROM:+1300
TZOFFSETTO:+1200
TZNAME:NZST
DTSTART:20240406T140000
END:STANDARD
BEGIN:DAYLIGHT
TZOFFSETFROM:+1200
TZOFFSETTO:+1300
TZNAME:NZDT
DTSTART:20240928T140000
END:DAYLIGHT
BEGIN:STANDARD
TZOFFSETFROM:+1300
TZOFFSETTO:+1200
TZNAME:NZST
DTSTART:20250405T140000
END:STANDARD
BEGIN:DAYLIGHT
TZOFFSETFROM:+1200
TZOFFSETTO:+1300
TZNAME:NZDT
DTSTART:20250927T140000
END:DAYLIGHT
BEGIN:STANDARD
TZOFFSETFROM:+1300
TZOFFSETTO:+1200
TZNAME:NZST
DTSTART:20260404T140000
END:STANDARD
BEGIN:DAYLIGHT
TZOFFSETFROM:+1200
TZOFFSETTO:+1300
TZNAME:NZDT
DTSTART:20260926T140000
END:DAYLIGHT
END:VTIMEZONE
BEGIN:VEVENT
DTSTART;VALUE=DATE:20250127
DTEND;VALUE=DATE:20250412
DTSTAMP:20260421T205420
CREATED:20241227T200958Z
LAST-MODIFIED:20241227T201736Z
UID:22507-1737936000-1744415999@www.nelsonhockey.org.nz
SUMMARY:Term 1
DESCRIPTION:
URL:https://www.nelsonhockey.org.nz/event/term-1-2/
LOCATION:Tasman/Nelson
CATEGORIES:Term 1
ATTACH;FMTTYPE=image/jpeg:https://www.nelsonhockey.org.nz/wp-content/uploads/2023/11/Back-to-school.jpg
END:VEVENT
BEGIN:VEVENT
DTSTART;TZID=Pacific/Auckland:20250406T110000
DTEND;TZID=Pacific/Auckland:20250406T123000
DTSTAMP:20260421T205420
CREATED:20250404T012114Z
LAST-MODIFIED:20250404T012114Z
UID:23395-1743937200-1743942600@www.nelsonhockey.org.nz
SUMMARY:Premier 2 Men - Round 1 - Stoke Gold P2 Men vs. Waimai United P2 Men
DESCRIPTION:
URL:https://www.nelsonhockey.org.nz/event/premier-2-men-round-1-stoke-gold-p2-men-vs-waimai-united-p2-men/
LOCATION:Tasman/Nelson
CATEGORIES:Club Competition Week
END:VEVENT
BEGIN:VEVENT
DTSTART;TZID=Pacific/Auckland:20250406T111500
DTEND;TZID=Pacific/Auckland:20250406T124500
DTSTAMP:20260421T205420
CREATED:20250404T012321Z
LAST-MODIFIED:20250404T012321Z
UID:23409-1743938100-1743943500@www.nelsonhockey.org.nz
SUMMARY:Premier 2 Women - Round 1 - Stoke Gold vs. Endeavours
DESCRIPTION:
URL:https://www.nelsonhockey.org.nz/event/premier-2-women-round-1-stoke-gold-vs-endeavours/
LOCATION:Tasman/Nelson
CATEGORIES:Club Competition Week
END:VEVENT
BEGIN:VEVENT
DTSTART;TZID=Pacific/Auckland:20250406T124500
DTEND;TZID=Pacific/Auckland:20250406T141500
DTSTAMP:20260421T205420
CREATED:20250404T012818Z
LAST-MODIFIED:20250404T012818Z
UID:23423-1743943500-1743948900@www.nelsonhockey.org.nz
SUMMARY:Premier 2 Men - Round 1 - Tasman P2 Mens vs. Federal Coffin Dodgers
DESCRIPTION:
URL:https://www.nelsonhockey.org.nz/event/premier-2-men-round-1-tasman-p2-mens-vs-federal-coffin-dodgers/
LOCATION:Tasman/Nelson
CATEGORIES:Club Competition Week
END:VEVENT
BEGIN:VEVENT
DTSTART;TZID=Pacific/Auckland:20250406T130000
DTEND;TZID=Pacific/Auckland:20250406T143000
DTSTAMP:20260421T205420
CREATED:20250404T012847Z
LAST-MODIFIED:20250404T012847Z
UID:23436-1743944400-1743949800@www.nelsonhockey.org.nz
SUMMARY:Premier 2 Women - Round 1 - Waimai United P2 Women vs. Rewa Hockey
DESCRIPTION:
URL:https://www.nelsonhockey.org.nz/event/premier-2-women-round-1-waimai-united-p2-women-vs-rewa-hockey/
LOCATION:Tasman/Nelson
CATEGORIES:Club Competition Week
END:VEVENT
BEGIN:VEVENT
DTSTART;TZID=Pacific/Auckland:20250406T143000
DTEND;TZID=Pacific/Auckland:20250406T160000
DTSTAMP:20260421T205420
CREATED:20250404T013047Z
LAST-MODIFIED:20250404T013047Z
UID:23485-1743949800-1743955200@www.nelsonhockey.org.nz
SUMMARY:Premier 2 Men - Round 1 - Nelson College vs. Stoke Black P2 Men
DESCRIPTION:
URL:https://www.nelsonhockey.org.nz/event/premier-2-men-round-1-nelson-college-vs-stoke-black-p2-men/
LOCATION:Tasman/Nelson
CATEGORIES:Club Competition Week
END:VEVENT
BEGIN:VEVENT
DTSTART;TZID=Pacific/Auckland:20250406T144500
DTEND;TZID=Pacific/Auckland:20250406T161500
DTSTAMP:20260421T205420
CREATED:20250404T013108Z
LAST-MODIFIED:20250404T013108Z
UID:23499-1743950700-1743956100@www.nelsonhockey.org.nz
SUMMARY:Premier 2 Women - Round 1 - Federal Senior Women vs. Tasman Women's P2
DESCRIPTION:
URL:https://www.nelsonhockey.org.nz/event/premier-2-women-round-1-federal-senior-women-vs-tasman-womens-p2/
LOCATION:Tasman/Nelson
CATEGORIES:Club Competition Week
END:VEVENT
END:VCALENDAR