BEGIN:VCALENDAR
VERSION:2.0
PRODID:-//Nelson Hockey Association (1993) Inc - ECPv6.15.16//NONSGML v1.0//EN
CALSCALE:GREGORIAN
METHOD:PUBLISH
X-WR-CALNAME:Nelson Hockey Association (1993) Inc
X-ORIGINAL-URL:https://www.nelsonhockey.org.nz
X-WR-CALDESC:Events for Nelson Hockey Association (1993) Inc
REFRESH-INTERVAL;VALUE=DURATION:PT1H
X-Robots-Tag:noindex
X-PUBLISHED-TTL:PT1H
BEGIN:VTIMEZONE
TZID:Pacific/Auckland
BEGIN:STANDARD
TZOFFSETFROM:+1300
TZOFFSETTO:+1200
TZNAME:NZST
DTSTART:20240406T140000
END:STANDARD
BEGIN:DAYLIGHT
TZOFFSETFROM:+1200
TZOFFSETTO:+1300
TZNAME:NZDT
DTSTART:20240928T140000
END:DAYLIGHT
BEGIN:STANDARD
TZOFFSETFROM:+1300
TZOFFSETTO:+1200
TZNAME:NZST
DTSTART:20250405T140000
END:STANDARD
BEGIN:DAYLIGHT
TZOFFSETFROM:+1200
TZOFFSETTO:+1300
TZNAME:NZDT
DTSTART:20250927T140000
END:DAYLIGHT
BEGIN:STANDARD
TZOFFSETFROM:+1300
TZOFFSETTO:+1200
TZNAME:NZST
DTSTART:20260404T140000
END:STANDARD
BEGIN:DAYLIGHT
TZOFFSETFROM:+1200
TZOFFSETTO:+1300
TZNAME:NZDT
DTSTART:20260926T140000
END:DAYLIGHT
END:VTIMEZONE
BEGIN:VEVENT
DTSTART;VALUE=DATE:20250428
DTEND;VALUE=DATE:20250628
DTSTAMP:20260423T192840
CREATED:20241228T010933Z
LAST-MODIFIED:20241228T230818Z
UID:22613-1745798400-1751068799@www.nelsonhockey.org.nz
SUMMARY:Term 2
DESCRIPTION:
URL:https://www.nelsonhockey.org.nz/event/term-2-2/
CATEGORIES:Term 2
ATTACH;FMTTYPE=image/jpeg:https://www.nelsonhockey.org.nz/wp-content/uploads/2023/11/Back-to-school.jpg
END:VEVENT
BEGIN:VEVENT
DTSTART;TZID=Pacific/Auckland:20250504T110000
DTEND;TZID=Pacific/Auckland:20250504T123000
DTSTAMP:20260423T192840
CREATED:20250404T012115Z
LAST-MODIFIED:20250404T012115Z
UID:23398-1746356400-1746361800@www.nelsonhockey.org.nz
SUMMARY:Premier 2 Women - Round 4 - Waimai United P2 Women vs. Nelson College for Girls 1st XI
DESCRIPTION:
URL:https://www.nelsonhockey.org.nz/event/premier-2-women-round-4-waimai-united-p2-women-vs-nelson-college-for-girls-1st-xi/
CATEGORIES:Club Competition Week
END:VEVENT
BEGIN:VEVENT
DTSTART;TZID=Pacific/Auckland:20250504T111500
DTEND;TZID=Pacific/Auckland:20250504T124500
DTSTAMP:20260423T192840
CREATED:20250404T012521Z
LAST-MODIFIED:20250404T012521Z
UID:23412-1746357300-1746362700@www.nelsonhockey.org.nz
SUMMARY:Premier 2 Men - Round 4 - Stoke Gold P2 Men vs. Federal Coffin Dodgers
DESCRIPTION:
URL:https://www.nelsonhockey.org.nz/event/premier-2-men-round-4-stoke-gold-p2-men-vs-federal-coffin-dodgers/
CATEGORIES:Club Competition Week
END:VEVENT
BEGIN:VEVENT
DTSTART;TZID=Pacific/Auckland:20250504T124500
DTEND;TZID=Pacific/Auckland:20250504T141500
DTSTAMP:20260423T192840
CREATED:20250404T012827Z
LAST-MODIFIED:20250404T012827Z
UID:23426-1746362700-1746368100@www.nelsonhockey.org.nz
SUMMARY:Premier 2 Women - Round 4 - Stoke Gold vs. Rewa Hockey
DESCRIPTION:
URL:https://www.nelsonhockey.org.nz/event/premier-2-women-round-4-stoke-gold-vs-rewa-hockey/
CATEGORIES:Club Competition Week
END:VEVENT
BEGIN:VEVENT
DTSTART;TZID=Pacific/Auckland:20250504T130000
DTEND;TZID=Pacific/Auckland:20250504T143000
DTSTAMP:20260423T192840
CREATED:20250404T012848Z
LAST-MODIFIED:20250404T012848Z
UID:23439-1746363600-1746369000@www.nelsonhockey.org.nz
SUMMARY:Premier 2 Men - Round 4 - Tasman P2 Mens vs. Nelson College
DESCRIPTION:
URL:https://www.nelsonhockey.org.nz/event/premier-2-men-round-4-tasman-p2-mens-vs-nelson-college/
CATEGORIES:Club Competition Week
END:VEVENT
BEGIN:VEVENT
DTSTART;TZID=Pacific/Auckland:20250504T143000
DTEND;TZID=Pacific/Auckland:20250504T160000
DTSTAMP:20260423T192840
CREATED:20250404T013049Z
LAST-MODIFIED:20250404T013049Z
UID:23488-1746369000-1746374400@www.nelsonhockey.org.nz
SUMMARY:Premier 2 Women - Round 4 - Tasman Women's P2 vs. Endeavours
DESCRIPTION:
URL:https://www.nelsonhockey.org.nz/event/premier-2-women-round-4-tasman-womens-p2-vs-endeavours/
CATEGORIES:Club Competition Week
END:VEVENT
BEGIN:VEVENT
DTSTART;TZID=Pacific/Auckland:20250504T144500
DTEND;TZID=Pacific/Auckland:20250504T161500
DTSTAMP:20260423T192840
CREATED:20250404T013113Z
LAST-MODIFIED:20250404T013113Z
UID:23502-1746369900-1746375300@www.nelsonhockey.org.nz
SUMMARY:Premier 2 Men - Round 4 - Stoke Black P2 Men vs. Waimai United P2 Men
DESCRIPTION:
URL:https://www.nelsonhockey.org.nz/event/premier-2-men-round-4-stoke-black-p2-men-vs-waimai-united-p2-men/
CATEGORIES:Club Competition Week
END:VEVENT
END:VCALENDAR