BEGIN:VCALENDAR
VERSION:2.0
PRODID:-//Nelson Hockey Association (1993) Inc - ECPv6.15.16//NONSGML v1.0//EN
CALSCALE:GREGORIAN
METHOD:PUBLISH
X-WR-CALNAME:Nelson Hockey Association (1993) Inc
X-ORIGINAL-URL:https://www.nelsonhockey.org.nz
X-WR-CALDESC:Events for Nelson Hockey Association (1993) Inc
REFRESH-INTERVAL;VALUE=DURATION:PT1H
X-Robots-Tag:noindex
X-PUBLISHED-TTL:PT1H
BEGIN:VTIMEZONE
TZID:Pacific/Auckland
BEGIN:STANDARD
TZOFFSETFROM:+1300
TZOFFSETTO:+1200
TZNAME:NZST
DTSTART:20240406T140000
END:STANDARD
BEGIN:DAYLIGHT
TZOFFSETFROM:+1200
TZOFFSETTO:+1300
TZNAME:NZDT
DTSTART:20240928T140000
END:DAYLIGHT
BEGIN:STANDARD
TZOFFSETFROM:+1300
TZOFFSETTO:+1200
TZNAME:NZST
DTSTART:20250405T140000
END:STANDARD
BEGIN:DAYLIGHT
TZOFFSETFROM:+1200
TZOFFSETTO:+1300
TZNAME:NZDT
DTSTART:20250927T140000
END:DAYLIGHT
BEGIN:STANDARD
TZOFFSETFROM:+1300
TZOFFSETTO:+1200
TZNAME:NZST
DTSTART:20260404T140000
END:STANDARD
BEGIN:DAYLIGHT
TZOFFSETFROM:+1200
TZOFFSETTO:+1300
TZNAME:NZDT
DTSTART:20260926T140000
END:DAYLIGHT
END:VTIMEZONE
BEGIN:VEVENT
DTSTART;VALUE=DATE:20250428
DTEND;VALUE=DATE:20250628
DTSTAMP:20260424T151013
CREATED:20241228T010933Z
LAST-MODIFIED:20241228T230818Z
UID:22613-1745798400-1751068799@www.nelsonhockey.org.nz
SUMMARY:Term 2
DESCRIPTION:
URL:https://www.nelsonhockey.org.nz/event/term-2-2/
CATEGORIES:Term 2
ATTACH;FMTTYPE=image/jpeg:https://www.nelsonhockey.org.nz/wp-content/uploads/2023/11/Back-to-school.jpg
END:VEVENT
BEGIN:VEVENT
DTSTART;TZID=Pacific/Auckland:20250606T163000
DTEND;TZID=Pacific/Auckland:20250606T180000
DTSTAMP:20260424T151013
CREATED:20250430T031152Z
LAST-MODIFIED:20250430T031152Z
UID:23733-1749227400-1749232800@www.nelsonhockey.org.nz
SUMMARY:Secondary Boys - Round 6 - Waimai United vs Garin Senior Boys
DESCRIPTION:
URL:https://www.nelsonhockey.org.nz/event/secondary-boys-round-6-waimai-united-vs-garin-senior-boys/
CATEGORIES:Club Competition Week
END:VEVENT
BEGIN:VEVENT
DTSTART;TZID=Pacific/Auckland:20250606T163000
DTEND;TZID=Pacific/Auckland:20250606T180000
DTSTAMP:20260424T151013
CREATED:20250430T031453Z
LAST-MODIFIED:20250430T031453Z
UID:23807-1749227400-1749232800@www.nelsonhockey.org.nz
SUMMARY:Secondary Girls/Mixed - Round 6 - Nelson College for Girls combined vs Tasman Titans
DESCRIPTION:
URL:https://www.nelsonhockey.org.nz/event/secondary-girls-mixed-round-6-nelson-college-for-girls-combined-vs-tasman-titans/
CATEGORIES:Club Competition Week
END:VEVENT
BEGIN:VEVENT
DTSTART;TZID=Pacific/Auckland:20250606T175500
DTEND;TZID=Pacific/Auckland:20250606T192500
DTSTAMP:20260424T151013
CREATED:20250430T031007Z
LAST-MODIFIED:20250430T031007Z
UID:23745-1749232500-1749237900@www.nelsonhockey.org.nz
SUMMARY:Secondary Boys - Round 6 - NC Sky vs NC Navy
DESCRIPTION:
URL:https://www.nelsonhockey.org.nz/event/secondary-boys-round-6-nc-sky-vs-nc-navy/
CATEGORIES:Club Competition Week
END:VEVENT
BEGIN:VEVENT
DTSTART;TZID=Pacific/Auckland:20250606T175500
DTEND;TZID=Pacific/Auckland:20250606T192500
DTSTAMP:20260424T151013
CREATED:20250430T031855Z
LAST-MODIFIED:20250430T031855Z
UID:23819-1749232500-1749237900@www.nelsonhockey.org.nz
SUMMARY:Secondary Girls/Mixed - Round 6 - Garin Senior Girls vs Garin Development
DESCRIPTION:
URL:https://www.nelsonhockey.org.nz/event/secondary-girls-mixed-round-6-garin-senior-girls-vs-garin-development/
CATEGORIES:Club Competition Week
END:VEVENT
BEGIN:VEVENT
DTSTART;TZID=Pacific/Auckland:20250606T192000
DTEND;TZID=Pacific/Auckland:20250606T205000
DTSTAMP:20260424T151013
CREATED:20250430T030125Z
LAST-MODIFIED:20250430T030125Z
UID:23757-1749237600-1749243000@www.nelsonhockey.org.nz
SUMMARY:Secondary Boys - Round 6 - Federal vs Stoke Mixed Secondary
DESCRIPTION:
URL:https://www.nelsonhockey.org.nz/event/secondary-boys-round-6-federal-vs-stoke-mixed-secondary/
CATEGORIES:Club Competition Week
END:VEVENT
BEGIN:VEVENT
DTSTART;TZID=Pacific/Auckland:20250606T192000
DTEND;TZID=Pacific/Auckland:20250606T205000
DTSTAMP:20260424T151013
CREATED:20250430T032255Z
LAST-MODIFIED:20250430T032255Z
UID:23831-1749237600-1749243000@www.nelsonhockey.org.nz
SUMMARY:Secondary Girls/Mixed - Round 6 - Nelson College for Girls 9&10 vs Waimea College Tasman
DESCRIPTION:
URL:https://www.nelsonhockey.org.nz/event/secondary-girls-mixed-round-6-nelson-college-for-girls-910-vs-waimea-college-tasman/
CATEGORIES:Club Competition Week
END:VEVENT
END:VCALENDAR