BEGIN:VCALENDAR
VERSION:2.0
PRODID:-//Nelson Hockey Association (1993) Inc - ECPv6.15.16//NONSGML v1.0//EN
CALSCALE:GREGORIAN
METHOD:PUBLISH
X-WR-CALNAME:Nelson Hockey Association (1993) Inc
X-ORIGINAL-URL:https://www.nelsonhockey.org.nz
X-WR-CALDESC:Events for Nelson Hockey Association (1993) Inc
REFRESH-INTERVAL;VALUE=DURATION:PT1H
X-Robots-Tag:noindex
X-PUBLISHED-TTL:PT1H
BEGIN:VTIMEZONE
TZID:Pacific/Auckland
BEGIN:STANDARD
TZOFFSETFROM:+1300
TZOFFSETTO:+1200
TZNAME:NZST
DTSTART:20240406T140000
END:STANDARD
BEGIN:DAYLIGHT
TZOFFSETFROM:+1200
TZOFFSETTO:+1300
TZNAME:NZDT
DTSTART:20240928T140000
END:DAYLIGHT
BEGIN:STANDARD
TZOFFSETFROM:+1300
TZOFFSETTO:+1200
TZNAME:NZST
DTSTART:20250405T140000
END:STANDARD
BEGIN:DAYLIGHT
TZOFFSETFROM:+1200
TZOFFSETTO:+1300
TZNAME:NZDT
DTSTART:20250927T140000
END:DAYLIGHT
BEGIN:STANDARD
TZOFFSETFROM:+1300
TZOFFSETTO:+1200
TZNAME:NZST
DTSTART:20260404T140000
END:STANDARD
BEGIN:DAYLIGHT
TZOFFSETFROM:+1200
TZOFFSETTO:+1300
TZNAME:NZDT
DTSTART:20260926T140000
END:DAYLIGHT
END:VTIMEZONE
BEGIN:VEVENT
DTSTART;VALUE=DATE:20250428
DTEND;VALUE=DATE:20250628
DTSTAMP:20260422T142242
CREATED:20241228T010933Z
LAST-MODIFIED:20241228T230818Z
UID:22613-1745798400-1751068799@www.nelsonhockey.org.nz
SUMMARY:Term 2
DESCRIPTION:
URL:https://www.nelsonhockey.org.nz/event/term-2-2/
LOCATION:Tasman/Nelson
CATEGORIES:Term 2
ATTACH;FMTTYPE=image/jpeg:https://www.nelsonhockey.org.nz/wp-content/uploads/2023/11/Back-to-school.jpg
END:VEVENT
BEGIN:VEVENT
DTSTART;TZID=Pacific/Auckland:20250621T133000
DTEND;TZID=Pacific/Auckland:20250621T150000
DTSTAMP:20260422T142242
CREATED:20250404T012952Z
LAST-MODIFIED:20250404T012954Z
UID:23463-1750512600-1750518000@www.nelsonhockey.org.nz
SUMMARY:Premier 1 Women - Round 9 - Federal Premier Women vs. Stoke P1 Women
DESCRIPTION:
URL:https://www.nelsonhockey.org.nz/event/premier-1-women-round-9-federal-premier-women-vs-stoke-p1-women/
LOCATION:Tasman/Nelson
CATEGORIES:Club Competition Week
END:VEVENT
BEGIN:VEVENT
DTSTART;TZID=Pacific/Auckland:20250621T134500
DTEND;TZID=Pacific/Auckland:20250621T151500
DTSTAMP:20260422T142242
CREATED:20250404T013043Z
LAST-MODIFIED:20250404T013043Z
UID:23480-1750513500-1750518900@www.nelsonhockey.org.nz
SUMMARY:Premier 1 Men - Round 10 - Waimai United P1 Men vs. Stoke Premier Men
DESCRIPTION:
URL:https://www.nelsonhockey.org.nz/event/premier-1-men-round-10-waimai-united-p1-men-vs-stoke-premier-men/
LOCATION:Tasman/Nelson
CATEGORIES:Club Competition Week
END:VEVENT
BEGIN:VEVENT
DTSTART;TZID=Pacific/Auckland:20250621T151500
DTEND;TZID=Pacific/Auckland:20250621T164500
DTSTAMP:20260422T142242
CREATED:20250404T013206Z
LAST-MODIFIED:20250404T013211Z
UID:23522-1750518900-1750524300@www.nelsonhockey.org.nz
SUMMARY:Premier 1 Women - Round 9 - Tasman Black Women's P1 vs. Waimai United P1 Women
DESCRIPTION:
URL:https://www.nelsonhockey.org.nz/event/premier-1-women-round-9-tasman-black-womens-p1-vs-waimai-united-p1-women/
LOCATION:Tasman/Nelson
CATEGORIES:Club Competition Week
END:VEVENT
BEGIN:VEVENT
DTSTART;TZID=Pacific/Auckland:20250621T153000
DTEND;TZID=Pacific/Auckland:20250621T170000
DTSTAMP:20260422T142242
CREATED:20250404T013230Z
LAST-MODIFIED:20250404T013230Z
UID:23539-1750519800-1750525200@www.nelsonhockey.org.nz
SUMMARY:Premier 1 Men - Round 10 - Tasman Black vs. Tasman White
DESCRIPTION:
URL:https://www.nelsonhockey.org.nz/event/premier-1-men-round-10-tasman-black-vs-tasman-white/
LOCATION:Tasman/Nelson
CATEGORIES:Club Competition Week
END:VEVENT
END:VCALENDAR