BEGIN:VCALENDAR
VERSION:2.0
PRODID:-//Nelson Hockey Association (1993) Inc - ECPv6.15.16//NONSGML v1.0//EN
CALSCALE:GREGORIAN
METHOD:PUBLISH
X-WR-CALNAME:Nelson Hockey Association (1993) Inc
X-ORIGINAL-URL:https://www.nelsonhockey.org.nz
X-WR-CALDESC:Events for Nelson Hockey Association (1993) Inc
REFRESH-INTERVAL;VALUE=DURATION:PT1H
X-Robots-Tag:noindex
X-PUBLISHED-TTL:PT1H
BEGIN:VTIMEZONE
TZID:Pacific/Auckland
BEGIN:STANDARD
TZOFFSETFROM:+1300
TZOFFSETTO:+1200
TZNAME:NZST
DTSTART:20240406T140000
END:STANDARD
BEGIN:DAYLIGHT
TZOFFSETFROM:+1200
TZOFFSETTO:+1300
TZNAME:NZDT
DTSTART:20240928T140000
END:DAYLIGHT
BEGIN:STANDARD
TZOFFSETFROM:+1300
TZOFFSETTO:+1200
TZNAME:NZST
DTSTART:20250405T140000
END:STANDARD
BEGIN:DAYLIGHT
TZOFFSETFROM:+1200
TZOFFSETTO:+1300
TZNAME:NZDT
DTSTART:20250927T140000
END:DAYLIGHT
BEGIN:STANDARD
TZOFFSETFROM:+1300
TZOFFSETTO:+1200
TZNAME:NZST
DTSTART:20260404T140000
END:STANDARD
BEGIN:DAYLIGHT
TZOFFSETFROM:+1200
TZOFFSETTO:+1300
TZNAME:NZDT
DTSTART:20260926T140000
END:DAYLIGHT
END:VTIMEZONE
BEGIN:VEVENT
DTSTART;VALUE=DATE:20250628
DTEND;VALUE=DATE:20250714
DTSTAMP:20260425T050150
CREATED:20241228T225601Z
LAST-MODIFIED:20241228T225601Z
UID:22688-1751068800-1752451199@www.nelsonhockey.org.nz
SUMMARY:School Holidays
DESCRIPTION:
URL:https://www.nelsonhockey.org.nz/event/school-holidays-15/
CATEGORIES:School Holidays
ATTACH;FMTTYPE=image/jpeg:https://www.nelsonhockey.org.nz/wp-content/uploads/2018/07/happy-holidays-happy-holidays-text-message-with-little-kids-climbing-around-clip-art_csp1670532.jpg
END:VEVENT
BEGIN:VEVENT
DTSTART;VALUE=DATE:20250629
DTEND;VALUE=DATE:20250706
DTSTAMP:20260425T050150
CREATED:20241228T230216Z
LAST-MODIFIED:20241228T230216Z
UID:22690-1751155200-1751759999@www.nelsonhockey.org.nz
SUMMARY:HNZ U18W National Tournament
DESCRIPTION:
URL:https://www.nelsonhockey.org.nz/event/hnz-u18w-national-tournament/
LOCATION:North Harbour Hockey\, 159 Bush Road\, Rosedale\, Auckland\, Auckland\, 0632\, New Zealand
CATEGORIES:NZ Hockey
ATTACH;FMTTYPE=image/png:https://www.nelsonhockey.org.nz/wp-content/uploads/2022/11/Hockey-New-Zealand-Logo-1.png
ORGANIZER;CN="North Harbour Hockey":MAILTO:administration@harbourhockey.org.nz
END:VEVENT
BEGIN:VEVENT
DTSTART;VALUE=DATE:20250629
DTEND;VALUE=DATE:20250706
DTSTAMP:20260425T050150
CREATED:20241228T230550Z
LAST-MODIFIED:20241228T230550Z
UID:22694-1751155200-1751759999@www.nelsonhockey.org.nz
SUMMARY:HNZ U18M National Tournament
DESCRIPTION:
URL:https://www.nelsonhockey.org.nz/event/hnz-u18m-national-tournament/
LOCATION:South Canterbury Hockey\, Aorangi Park\, Morgans Road\,\, Timaru\, Canterbury\, 7940\, New Zealand
CATEGORIES:NZ Hockey
ATTACH;FMTTYPE=image/png:https://www.nelsonhockey.org.nz/wp-content/uploads/2022/03/Hockey-New-Zealand-Logo.png
END:VEVENT
BEGIN:VEVENT
DTSTART;TZID=Pacific/Auckland:20250705T133000
DTEND;TZID=Pacific/Auckland:20250705T150000
DTSTAMP:20260425T050150
CREATED:20250404T013011Z
LAST-MODIFIED:20250404T013011Z
UID:23470-1751722200-1751727600@www.nelsonhockey.org.nz
SUMMARY:Premier 1 Women - Round 11 - Tasman Black Women's P1 vs. Federal Premier Women
DESCRIPTION:
URL:https://www.nelsonhockey.org.nz/event/premier-1-women-round-11-tasman-black-womens-p1-vs-federal-premier-women/
CATEGORIES:Club Competition Week
END:VEVENT
BEGIN:VEVENT
DTSTART;TZID=Pacific/Auckland:20250705T134500
DTEND;TZID=Pacific/Auckland:20250705T151500
DTSTAMP:20260425T050150
CREATED:20250404T013043Z
LAST-MODIFIED:20250404T013043Z
UID:23482-1751723100-1751728500@www.nelsonhockey.org.nz
SUMMARY:Premier 1 Men - Round 12 - Stoke Premier Men vs. Tasman Black
DESCRIPTION:
URL:https://www.nelsonhockey.org.nz/event/premier-1-men-round-12-stoke-premier-men-vs-tasman-black/
CATEGORIES:Club Competition Week
END:VEVENT
BEGIN:VEVENT
DTSTART;TZID=Pacific/Auckland:20250705T151500
DTEND;TZID=Pacific/Auckland:20250705T164500
DTSTAMP:20260425T050150
CREATED:20250404T013206Z
LAST-MODIFIED:20250404T013211Z
UID:23524-1751728500-1751733900@www.nelsonhockey.org.nz
SUMMARY:Premier 1 Women - Round 11 - Stoke P1 Women vs. Waimai United P1 Women
DESCRIPTION:
URL:https://www.nelsonhockey.org.nz/event/premier-1-women-round-11-stoke-p1-women-vs-waimai-united-p1-women/
CATEGORIES:Club Competition Week
END:VEVENT
BEGIN:VEVENT
DTSTART;TZID=Pacific/Auckland:20250705T153000
DTEND;TZID=Pacific/Auckland:20250705T170000
DTSTAMP:20260425T050150
CREATED:20250404T013249Z
LAST-MODIFIED:20250404T013249Z
UID:23541-1751729400-1751734800@www.nelsonhockey.org.nz
SUMMARY:Premier 1 Men - Round 12 - Federal Premier Men vs. Waimai United P1 Men
DESCRIPTION:
URL:https://www.nelsonhockey.org.nz/event/premier-1-men-round-12-federal-premier-men-vs-waimai-united-p1-men/
CATEGORIES:Club Competition Week
END:VEVENT
END:VCALENDAR