BEGIN:VCALENDAR
VERSION:2.0
PRODID:-//Nelson Hockey Association (1993) Inc - ECPv6.15.16//NONSGML v1.0//EN
CALSCALE:GREGORIAN
METHOD:PUBLISH
X-WR-CALNAME:Nelson Hockey Association (1993) Inc
X-ORIGINAL-URL:https://www.nelsonhockey.org.nz
X-WR-CALDESC:Events for Nelson Hockey Association (1993) Inc
REFRESH-INTERVAL;VALUE=DURATION:PT1H
X-Robots-Tag:noindex
X-PUBLISHED-TTL:PT1H
BEGIN:VTIMEZONE
TZID:Pacific/Auckland
BEGIN:STANDARD
TZOFFSETFROM:+1300
TZOFFSETTO:+1200
TZNAME:NZST
DTSTART:20240406T140000
END:STANDARD
BEGIN:DAYLIGHT
TZOFFSETFROM:+1200
TZOFFSETTO:+1300
TZNAME:NZDT
DTSTART:20240928T140000
END:DAYLIGHT
BEGIN:STANDARD
TZOFFSETFROM:+1300
TZOFFSETTO:+1200
TZNAME:NZST
DTSTART:20250405T140000
END:STANDARD
BEGIN:DAYLIGHT
TZOFFSETFROM:+1200
TZOFFSETTO:+1300
TZNAME:NZDT
DTSTART:20250927T140000
END:DAYLIGHT
BEGIN:STANDARD
TZOFFSETFROM:+1300
TZOFFSETTO:+1200
TZNAME:NZST
DTSTART:20260404T140000
END:STANDARD
BEGIN:DAYLIGHT
TZOFFSETFROM:+1200
TZOFFSETTO:+1300
TZNAME:NZDT
DTSTART:20260926T140000
END:DAYLIGHT
END:VTIMEZONE
BEGIN:VEVENT
DTSTART;VALUE=DATE:20250714
DTEND;VALUE=DATE:20250920
DTSTAMP:20260422T215015
CREATED:20241229T201801Z
LAST-MODIFIED:20241229T201801Z
UID:22716-1752451200-1758326399@www.nelsonhockey.org.nz
SUMMARY:Term 3
DESCRIPTION:
URL:https://www.nelsonhockey.org.nz/event/term-3-2/
LOCATION:Tasman/Nelson
CATEGORIES:Term 3
ATTACH;FMTTYPE=image/jpeg:https://www.nelsonhockey.org.nz/wp-content/uploads/2023/11/Back-to-school.jpg
END:VEVENT
BEGIN:VEVENT
DTSTART;TZID=Pacific/Auckland:20250716T163000
DTEND;TZID=Pacific/Auckland:20250716T170000
DTSTAMP:20260422T215015
CREATED:20250516T021622Z
LAST-MODIFIED:20250516T021622Z
UID:24073-1752683400-1752685200@www.nelsonhockey.org.nz
SUMMARY:Primary Grade - Round 7 - Waimai United VS Tasman Tigers
DESCRIPTION:
URL:https://www.nelsonhockey.org.nz/event/primary-grade-round-7-waimai-united-vs-tasman-tigers/
LOCATION:Tasman/Nelson
CATEGORIES:Club Competition Week
END:VEVENT
BEGIN:VEVENT
DTSTART;TZID=Pacific/Auckland:20250716T163000
DTEND;TZID=Pacific/Auckland:20250716T170000
DTSTAMP:20260422T215015
CREATED:20250516T021622Z
LAST-MODIFIED:20250516T021622Z
UID:24075-1752683400-1752685200@www.nelsonhockey.org.nz
SUMMARY:Primary Grade - Round 7 - Stoke Primary Mixed VS Federal Primary
DESCRIPTION:
URL:https://www.nelsonhockey.org.nz/event/primary-grade-round-7-stoke-primary-mixed-vs-federal-primary/
LOCATION:Tasman/Nelson
CATEGORIES:Club Competition Week
END:VEVENT
BEGIN:VEVENT
DTSTART;TZID=Pacific/Auckland:20250716T163000
DTEND;TZID=Pacific/Auckland:20250716T173500
DTSTAMP:20260422T215015
CREATED:20250514T032144Z
LAST-MODIFIED:20250514T032144Z
UID:24006-1752683400-1752687300@www.nelsonhockey.org.nz
SUMMARY:Intermediate Grade - Round 7 - N.C.G. Prep Thunder vs NC Prep Sky
DESCRIPTION:
URL:https://www.nelsonhockey.org.nz/event/intermediate-grade-round-7-n-c-g-prep-thunder-vs-nc-prep-sky/
LOCATION:Tasman/Nelson
CATEGORIES:Club Competition Week
END:VEVENT
BEGIN:VEVENT
DTSTART;TZID=Pacific/Auckland:20250716T163000
DTEND;TZID=Pacific/Auckland:20250716T173500
DTSTAMP:20260422T215015
CREATED:20250514T032144Z
LAST-MODIFIED:20250514T032144Z
UID:24007-1752683400-1752687300@www.nelsonhockey.org.nz
SUMMARY:Intermediate Grade - Round 7 - Waimai United vs Waimai United  - Blue
DESCRIPTION:
URL:https://www.nelsonhockey.org.nz/event/intermediate-grade-round-7-waimai-united-vs-waimai-united-blue/
LOCATION:Tasman/Nelson
CATEGORIES:Club Competition Week
END:VEVENT
BEGIN:VEVENT
DTSTART;TZID=Pacific/Auckland:20250716T170000
DTEND;TZID=Pacific/Auckland:20250716T173000
DTSTAMP:20260422T215015
CREATED:20250516T021622Z
LAST-MODIFIED:20250516T021622Z
UID:24074-1752685200-1752687000@www.nelsonhockey.org.nz
SUMMARY:Primary Grade - Round 7 - Waimai United Whizzers VS St Paul's Tasman
DESCRIPTION:
URL:https://www.nelsonhockey.org.nz/event/primary-grade-round-7-waimai-united-whizzers-vs-st-pauls-tasman/
LOCATION:Tasman/Nelson
CATEGORIES:Club Competition Week
END:VEVENT
BEGIN:VEVENT
DTSTART;TZID=Pacific/Auckland:20250716T170000
DTEND;TZID=Pacific/Auckland:20250716T173000
DTSTAMP:20260422T215015
CREATED:20250516T021823Z
LAST-MODIFIED:20250516T021823Z
UID:24078-1752685200-1752687000@www.nelsonhockey.org.nz
SUMMARY:Primary Grade - Round 7 - Waimai United VS Stoke Primary Mixed
DESCRIPTION:
URL:https://www.nelsonhockey.org.nz/event/primary-grade-round-7-waimai-united-vs-stoke-primary-mixed/
LOCATION:Tasman/Nelson
CATEGORIES:Club Competition Week
END:VEVENT
BEGIN:VEVENT
DTSTART;TZID=Pacific/Auckland:20250716T173000
DTEND;TZID=Pacific/Auckland:20250716T180000
DTSTAMP:20260422T215015
CREATED:20250516T021622Z
LAST-MODIFIED:20250516T021622Z
UID:24076-1752687000-1752688800@www.nelsonhockey.org.nz
SUMMARY:Primary Grade - Round 7 - St Paul's Tasman VS Federal Primary
DESCRIPTION:
URL:https://www.nelsonhockey.org.nz/event/primary-grade-round-7-st-pauls-tasman-vs-federal-primary/
LOCATION:Tasman/Nelson
CATEGORIES:Club Competition Week
END:VEVENT
BEGIN:VEVENT
DTSTART;TZID=Pacific/Auckland:20250716T173000
DTEND;TZID=Pacific/Auckland:20250716T180000
DTSTAMP:20260422T215015
CREATED:20250516T021823Z
LAST-MODIFIED:20250516T021823Z
UID:24077-1752687000-1752688800@www.nelsonhockey.org.nz
SUMMARY:Primary Grade - Round 7 - Tasman Tigers VS Waimai United Whizzers
DESCRIPTION:
URL:https://www.nelsonhockey.org.nz/event/primary-grade-round-7-tasman-tigers-vs-waimai-united-whizzers/
LOCATION:Tasman/Nelson
CATEGORIES:Club Competition Week
END:VEVENT
BEGIN:VEVENT
DTSTART;TZID=Pacific/Auckland:20250716T173500
DTEND;TZID=Pacific/Auckland:20250716T184000
DTSTAMP:20260422T215015
CREATED:20250514T031944Z
LAST-MODIFIED:20250514T031944Z
UID:24005-1752687300-1752691200@www.nelsonhockey.org.nz
SUMMARY:Intermediate Grade - Round 7 - Stoke Intermediate mixed vs NC Prep Navy
DESCRIPTION:
URL:https://www.nelsonhockey.org.nz/event/intermediate-grade-round-7-stoke-intermediate-mixed-vs-nc-prep-navy/
LOCATION:Tasman/Nelson
CATEGORIES:Club Competition Week
END:VEVENT
BEGIN:VEVENT
DTSTART;TZID=Pacific/Auckland:20250716T173500
DTEND;TZID=Pacific/Auckland:20250716T184000
DTSTAMP:20260422T215015
CREATED:20250514T032145Z
LAST-MODIFIED:20250514T032145Z
UID:24008-1752687300-1752691200@www.nelsonhockey.org.nz
SUMMARY:Intermediate Grade - Round 7 - Federal Intermediate vs Waimai United  - Orange
DESCRIPTION:
URL:https://www.nelsonhockey.org.nz/event/intermediate-grade-round-7-federal-intermediate-vs-waimai-united-orange/
LOCATION:Tasman/Nelson
CATEGORIES:Club Competition Week
END:VEVENT
BEGIN:VEVENT
DTSTART;TZID=Pacific/Auckland:20250716T180000
DTEND;TZID=Pacific/Auckland:20250716T190000
DTSTAMP:20260422T215015
CREATED:20241228T011442Z
LAST-MODIFIED:20241228T011442Z
UID:22633-1752688800-1752692400@www.nelsonhockey.org.nz
SUMMARY:GK Training Program
DESCRIPTION:
URL:https://www.nelsonhockey.org.nz/event/gk-training-program-2/2025-07-16/
LOCATION:NELSON HOCKEY\, SAXTON FIELDS\, Nelson\, Tasman/Nelson\, 7011\, New Zealand
CATEGORIES:GK TRAINING PROGRAM
ATTACH;FMTTYPE=image/jpeg:https://www.nelsonhockey.org.nz/wp-content/uploads/2024/10/2025-NHA-GK-Training-Program.jpg
GEO:-41.3280994;173.2181794
X-APPLE-STRUCTURED-LOCATION;VALUE=URI;X-ADDRESS=NELSON HOCKEY SAXTON FIELDS Nelson Tasman/Nelson 7011 New Zealand;X-APPLE-RADIUS=500;X-TITLE=SAXTON FIELDS:geo:173.2181794,-41.3280994
END:VEVENT
END:VCALENDAR