BEGIN:VCALENDAR
VERSION:2.0
PRODID:-//Nelson Hockey Association (1993) Inc - ECPv6.15.16//NONSGML v1.0//EN
CALSCALE:GREGORIAN
METHOD:PUBLISH
X-WR-CALNAME:Nelson Hockey Association (1993) Inc
X-ORIGINAL-URL:https://www.nelsonhockey.org.nz
X-WR-CALDESC:Events for Nelson Hockey Association (1993) Inc
REFRESH-INTERVAL;VALUE=DURATION:PT1H
X-Robots-Tag:noindex
X-PUBLISHED-TTL:PT1H
BEGIN:VTIMEZONE
TZID:Pacific/Auckland
BEGIN:STANDARD
TZOFFSETFROM:+1300
TZOFFSETTO:+1200
TZNAME:NZST
DTSTART:20240406T140000
END:STANDARD
BEGIN:DAYLIGHT
TZOFFSETFROM:+1200
TZOFFSETTO:+1300
TZNAME:NZDT
DTSTART:20240928T140000
END:DAYLIGHT
BEGIN:STANDARD
TZOFFSETFROM:+1300
TZOFFSETTO:+1200
TZNAME:NZST
DTSTART:20250405T140000
END:STANDARD
BEGIN:DAYLIGHT
TZOFFSETFROM:+1200
TZOFFSETTO:+1300
TZNAME:NZDT
DTSTART:20250927T140000
END:DAYLIGHT
BEGIN:STANDARD
TZOFFSETFROM:+1300
TZOFFSETTO:+1200
TZNAME:NZST
DTSTART:20260404T140000
END:STANDARD
BEGIN:DAYLIGHT
TZOFFSETFROM:+1200
TZOFFSETTO:+1300
TZNAME:NZDT
DTSTART:20260926T140000
END:DAYLIGHT
END:VTIMEZONE
BEGIN:VEVENT
DTSTART;VALUE=DATE:20250714
DTEND;VALUE=DATE:20250920
DTSTAMP:20260422T122447
CREATED:20241229T201801Z
LAST-MODIFIED:20241229T201801Z
UID:22716-1752451200-1758326399@www.nelsonhockey.org.nz
SUMMARY:Term 3
DESCRIPTION:
URL:https://www.nelsonhockey.org.nz/event/term-3-2/
LOCATION:Tasman/Nelson
CATEGORIES:Term 3
ATTACH;FMTTYPE=image/jpeg:https://www.nelsonhockey.org.nz/wp-content/uploads/2023/11/Back-to-school.jpg
END:VEVENT
BEGIN:VEVENT
DTSTART;TZID=Pacific/Auckland:20250718T163000
DTEND;TZID=Pacific/Auckland:20250718T180000
DTSTAMP:20260422T122447
CREATED:20250430T031118Z
LAST-MODIFIED:20250430T031118Z
UID:23736-1752856200-1752861600@www.nelsonhockey.org.nz
SUMMARY:Secondary Boys - Round 9 - Federal vs NC Sky
DESCRIPTION:
URL:https://www.nelsonhockey.org.nz/event/secondary-boys-round-9-federal-vs-nc-sky/
LOCATION:Tasman/Nelson
CATEGORIES:Club Competition Week
END:VEVENT
BEGIN:VEVENT
DTSTART;TZID=Pacific/Auckland:20250718T163000
DTEND;TZID=Pacific/Auckland:20250718T180000
DTSTAMP:20260422T122447
CREATED:20250430T031454Z
LAST-MODIFIED:20250430T031454Z
UID:23810-1752856200-1752861600@www.nelsonhockey.org.nz
SUMMARY:Secondary Girls/Mixed - Round 9 - Nelson College for Girls 9&10 vs Garin Senior Girls
DESCRIPTION:
URL:https://www.nelsonhockey.org.nz/event/secondary-girls-mixed-round-9-nelson-college-for-girls-910-vs-garin-senior-girls/
LOCATION:Tasman/Nelson
CATEGORIES:Club Competition Week
END:VEVENT
BEGIN:VEVENT
DTSTART;TZID=Pacific/Auckland:20250718T175500
DTEND;TZID=Pacific/Auckland:20250718T192500
DTSTAMP:20260422T122447
CREATED:20250430T030457Z
LAST-MODIFIED:20250430T030457Z
UID:23748-1752861300-1752866700@www.nelsonhockey.org.nz
SUMMARY:Secondary Boys - Round 9 - NC Navy vs Waimai United
DESCRIPTION:
URL:https://www.nelsonhockey.org.nz/event/secondary-boys-round-9-nc-navy-vs-waimai-united/
LOCATION:Tasman/Nelson
CATEGORIES:Club Competition Week
END:VEVENT
BEGIN:VEVENT
DTSTART;TZID=Pacific/Auckland:20250718T175500
DTEND;TZID=Pacific/Auckland:20250718T192500
DTSTAMP:20260422T122447
CREATED:20250430T032057Z
LAST-MODIFIED:20250430T032057Z
UID:23822-1752861300-1752866700@www.nelsonhockey.org.nz
SUMMARY:Secondary Girls/Mixed - Round 9 - Garin Development vs Nelson College for Girls combined
DESCRIPTION:
URL:https://www.nelsonhockey.org.nz/event/secondary-girls-mixed-round-9-garin-development-vs-nelson-college-for-girls-combined/
LOCATION:Tasman/Nelson
CATEGORIES:Club Competition Week
END:VEVENT
BEGIN:VEVENT
DTSTART;TZID=Pacific/Auckland:20250718T192000
DTEND;TZID=Pacific/Auckland:20250718T205000
DTSTAMP:20260422T122447
CREATED:20250430T030031Z
LAST-MODIFIED:20250430T030031Z
UID:23760-1752866400-1752871800@www.nelsonhockey.org.nz
SUMMARY:Secondary Boys - Round 9 - Stoke Mixed Secondary vs Garin Senior Boys
DESCRIPTION:
URL:https://www.nelsonhockey.org.nz/event/secondary-boys-round-9-stoke-mixed-secondary-vs-garin-senior-boys/
LOCATION:Tasman/Nelson
CATEGORIES:Club Competition Week
END:VEVENT
BEGIN:VEVENT
DTSTART;TZID=Pacific/Auckland:20250718T192000
DTEND;TZID=Pacific/Auckland:20250718T205000
DTSTAMP:20260422T122447
CREATED:20250430T032455Z
LAST-MODIFIED:20250430T032455Z
UID:23834-1752866400-1752871800@www.nelsonhockey.org.nz
SUMMARY:Secondary Girls/Mixed - Round 9 - Waimea College Tasman vs Tasman Titans
DESCRIPTION:
URL:https://www.nelsonhockey.org.nz/event/secondary-girls-mixed-round-9-waimea-college-tasman-vs-tasman-titans/
LOCATION:Tasman/Nelson
CATEGORIES:Club Competition Week
END:VEVENT
END:VCALENDAR