BEGIN:VCALENDAR
VERSION:2.0
PRODID:-//Nelson Hockey Association (1993) Inc - ECPv6.15.16//NONSGML v1.0//EN
CALSCALE:GREGORIAN
METHOD:PUBLISH
X-WR-CALNAME:Nelson Hockey Association (1993) Inc
X-ORIGINAL-URL:https://www.nelsonhockey.org.nz
X-WR-CALDESC:Events for Nelson Hockey Association (1993) Inc
REFRESH-INTERVAL;VALUE=DURATION:PT1H
X-Robots-Tag:noindex
X-PUBLISHED-TTL:PT1H
BEGIN:VTIMEZONE
TZID:Pacific/Auckland
BEGIN:STANDARD
TZOFFSETFROM:+1300
TZOFFSETTO:+1200
TZNAME:NZST
DTSTART:20240406T140000
END:STANDARD
BEGIN:DAYLIGHT
TZOFFSETFROM:+1200
TZOFFSETTO:+1300
TZNAME:NZDT
DTSTART:20240928T140000
END:DAYLIGHT
BEGIN:STANDARD
TZOFFSETFROM:+1300
TZOFFSETTO:+1200
TZNAME:NZST
DTSTART:20250405T140000
END:STANDARD
BEGIN:DAYLIGHT
TZOFFSETFROM:+1200
TZOFFSETTO:+1300
TZNAME:NZDT
DTSTART:20250927T140000
END:DAYLIGHT
BEGIN:STANDARD
TZOFFSETFROM:+1300
TZOFFSETTO:+1200
TZNAME:NZST
DTSTART:20260404T140000
END:STANDARD
BEGIN:DAYLIGHT
TZOFFSETFROM:+1200
TZOFFSETTO:+1300
TZNAME:NZDT
DTSTART:20260926T140000
END:DAYLIGHT
END:VTIMEZONE
BEGIN:VEVENT
DTSTART;VALUE=DATE:20250714
DTEND;VALUE=DATE:20250920
DTSTAMP:20260423T083557
CREATED:20241229T201801Z
LAST-MODIFIED:20241229T201801Z
UID:22716-1752451200-1758326399@www.nelsonhockey.org.nz
SUMMARY:Term 3
DESCRIPTION:
URL:https://www.nelsonhockey.org.nz/event/term-3-2/
LOCATION:Tasman/Nelson
CATEGORIES:Term 3
ATTACH;FMTTYPE=image/jpeg:https://www.nelsonhockey.org.nz/wp-content/uploads/2023/11/Back-to-school.jpg
END:VEVENT
BEGIN:VEVENT
DTSTART;TZID=Pacific/Auckland:20250808T163000
DTEND;TZID=Pacific/Auckland:20250808T180000
DTSTAMP:20260423T083557
CREATED:20250430T031014Z
LAST-MODIFIED:20250430T031014Z
UID:23739-1754670600-1754676000@www.nelsonhockey.org.nz
SUMMARY:Secondary Boys - Round 12 - NC Sky vs Garin Senior Boys
DESCRIPTION:
URL:https://www.nelsonhockey.org.nz/event/secondary-boys-round-12-nc-sky-vs-garin-senior-boys/
LOCATION:Tasman/Nelson
CATEGORIES:Club Competition Week
END:VEVENT
BEGIN:VEVENT
DTSTART;TZID=Pacific/Auckland:20250808T163000
DTEND;TZID=Pacific/Auckland:20250808T180000
DTSTAMP:20260423T083557
CREATED:20250430T031654Z
LAST-MODIFIED:20250430T031654Z
UID:23813-1754670600-1754676000@www.nelsonhockey.org.nz
SUMMARY:Secondary Girls/Mixed - Round 12 - Garin Senior Girls vs Tasman Titans
DESCRIPTION:
URL:https://www.nelsonhockey.org.nz/event/secondary-girls-mixed-round-12-garin-senior-girls-vs-tasman-titans/
LOCATION:Tasman/Nelson
CATEGORIES:Club Competition Week
END:VEVENT
BEGIN:VEVENT
DTSTART;TZID=Pacific/Auckland:20250808T175500
DTEND;TZID=Pacific/Auckland:20250808T192500
DTSTAMP:20260423T083557
CREATED:20250430T030231Z
LAST-MODIFIED:20250430T030231Z
UID:23751-1754675700-1754681100@www.nelsonhockey.org.nz
SUMMARY:Secondary Boys - Round 12 - Waimai United vs Stoke Mixed Secondary
DESCRIPTION:
URL:https://www.nelsonhockey.org.nz/event/secondary-boys-round-12-waimai-united-vs-stoke-mixed-secondary/
LOCATION:Tasman/Nelson
CATEGORIES:Club Competition Week
END:VEVENT
BEGIN:VEVENT
DTSTART;TZID=Pacific/Auckland:20250808T175500
DTEND;TZID=Pacific/Auckland:20250808T192500
DTSTAMP:20260423T083557
CREATED:20250430T032058Z
LAST-MODIFIED:20250430T032058Z
UID:23825-1754675700-1754681100@www.nelsonhockey.org.nz
SUMMARY:Secondary Girls/Mixed - Round 12 - Nelson College for Girls combined vs Waimea College Tasman
DESCRIPTION:
URL:https://www.nelsonhockey.org.nz/event/secondary-girls-mixed-round-12-nelson-college-for-girls-combined-vs-waimea-college-tasman/
LOCATION:Tasman/Nelson
CATEGORIES:Club Competition Week
END:VEVENT
BEGIN:VEVENT
DTSTART;TZID=Pacific/Auckland:20250808T192000
DTEND;TZID=Pacific/Auckland:20250808T205000
DTSTAMP:20260423T083557
CREATED:20250430T025852Z
LAST-MODIFIED:20250430T025852Z
UID:23763-1754680800-1754686200@www.nelsonhockey.org.nz
SUMMARY:Secondary Boys - Round 12 - Federal vs NC Navy
DESCRIPTION:
URL:https://www.nelsonhockey.org.nz/event/secondary-boys-round-12-federal-vs-nc-navy/
LOCATION:Tasman/Nelson
CATEGORIES:Club Competition Week
END:VEVENT
BEGIN:VEVENT
DTSTART;TZID=Pacific/Auckland:20250808T192000
DTEND;TZID=Pacific/Auckland:20250808T205000
DTSTAMP:20260423T083557
CREATED:20250430T032654Z
LAST-MODIFIED:20250430T032654Z
UID:23837-1754680800-1754686200@www.nelsonhockey.org.nz
SUMMARY:Secondary Girls/Mixed - Round 12 - Nelson College for Girls 9&10 vs Garin Development
DESCRIPTION:
URL:https://www.nelsonhockey.org.nz/event/secondary-girls-mixed-round-12-nelson-college-for-girls-910-vs-garin-development/
LOCATION:Tasman/Nelson
CATEGORIES:Club Competition Week
END:VEVENT
END:VCALENDAR