BEGIN:VCALENDAR
VERSION:2.0
PRODID:-//Nelson Hockey Association (1993) Inc - ECPv6.15.16//NONSGML v1.0//EN
CALSCALE:GREGORIAN
METHOD:PUBLISH
X-WR-CALNAME:Nelson Hockey Association (1993) Inc
X-ORIGINAL-URL:https://www.nelsonhockey.org.nz
X-WR-CALDESC:Events for Nelson Hockey Association (1993) Inc
REFRESH-INTERVAL;VALUE=DURATION:PT1H
X-Robots-Tag:noindex
X-PUBLISHED-TTL:PT1H
BEGIN:VTIMEZONE
TZID:Pacific/Auckland
BEGIN:STANDARD
TZOFFSETFROM:+1300
TZOFFSETTO:+1200
TZNAME:NZST
DTSTART:20220402T140000
END:STANDARD
BEGIN:DAYLIGHT
TZOFFSETFROM:+1200
TZOFFSETTO:+1300
TZNAME:NZDT
DTSTART:20220924T140000
END:DAYLIGHT
BEGIN:STANDARD
TZOFFSETFROM:+1300
TZOFFSETTO:+1200
TZNAME:NZST
DTSTART:20230401T140000
END:STANDARD
BEGIN:DAYLIGHT
TZOFFSETFROM:+1200
TZOFFSETTO:+1300
TZNAME:NZDT
DTSTART:20230923T140000
END:DAYLIGHT
BEGIN:STANDARD
TZOFFSETFROM:+1300
TZOFFSETTO:+1200
TZNAME:NZST
DTSTART:20240406T140000
END:STANDARD
BEGIN:DAYLIGHT
TZOFFSETFROM:+1200
TZOFFSETTO:+1300
TZNAME:NZDT
DTSTART:20240928T140000
END:DAYLIGHT
END:VTIMEZONE
BEGIN:VEVENT
DTSTART;TZID=Pacific/Auckland:20230306T160000
DTEND;TZID=Pacific/Auckland:20230306T170000
DTSTAMP:20260425T231202
CREATED:20221218T223421Z
LAST-MODIFIED:20221227T013222Z
UID:17327-1678118400-1678122000@www.nelsonhockey.org.nz
SUMMARY:Monday Night Youth Hockey
DESCRIPTION:2023 NHA T1-Y7-8 Half Field\n  \n2023 NHA T1-Y9-10 Full Field
URL:https://www.nelsonhockey.org.nz/event/monday-night-youth-hockey-3/
LOCATION:Tasman/Nelson
CATEGORIES:YOUTH PROGRAM
ATTACH;FMTTYPE=image/jpeg:https://www.nelsonhockey.org.nz/wp-content/uploads/2022/12/Nelson-Hockey_Youth-Social_Facebook-Banner_Nov22.jpg
END:VEVENT
END:VCALENDAR