BEGIN:VCALENDAR
VERSION:2.0
PRODID:-//Nelson Hockey Association (1993) Inc - ECPv6.15.16//NONSGML v1.0//EN
CALSCALE:GREGORIAN
METHOD:PUBLISH
X-WR-CALNAME:Nelson Hockey Association (1993) Inc
X-ORIGINAL-URL:https://www.nelsonhockey.org.nz
X-WR-CALDESC:Events for Nelson Hockey Association (1993) Inc
REFRESH-INTERVAL;VALUE=DURATION:PT1H
X-Robots-Tag:noindex
X-PUBLISHED-TTL:PT1H
BEGIN:VTIMEZONE
TZID:Pacific/Auckland
BEGIN:STANDARD
TZOFFSETFROM:+1300
TZOFFSETTO:+1200
TZNAME:NZST
DTSTART:20230401T140000
END:STANDARD
BEGIN:DAYLIGHT
TZOFFSETFROM:+1200
TZOFFSETTO:+1300
TZNAME:NZDT
DTSTART:20230923T140000
END:DAYLIGHT
BEGIN:STANDARD
TZOFFSETFROM:+1300
TZOFFSETTO:+1200
TZNAME:NZST
DTSTART:20240406T140000
END:STANDARD
BEGIN:DAYLIGHT
TZOFFSETFROM:+1200
TZOFFSETTO:+1300
TZNAME:NZDT
DTSTART:20240928T140000
END:DAYLIGHT
BEGIN:STANDARD
TZOFFSETFROM:+1300
TZOFFSETTO:+1200
TZNAME:NZST
DTSTART:20250405T140000
END:STANDARD
BEGIN:DAYLIGHT
TZOFFSETFROM:+1200
TZOFFSETTO:+1300
TZNAME:NZDT
DTSTART:20250927T140000
END:DAYLIGHT
END:VTIMEZONE
BEGIN:VEVENT
DTSTART;VALUE=DATE:20241014
DTEND;VALUE=DATE:20241214
DTSTAMP:20260422T092240
CREATED:20231203T234650Z
LAST-MODIFIED:20231203T234650Z
UID:20303-1728864000-1734134399@www.nelsonhockey.org.nz
SUMMARY:Term 4
DESCRIPTION:
URL:https://www.nelsonhockey.org.nz/event/term-4/
LOCATION:Tasman/Nelson
ATTACH;FMTTYPE=image/jpeg:https://www.nelsonhockey.org.nz/wp-content/uploads/2023/11/Back-to-school.jpg
END:VEVENT
BEGIN:VEVENT
DTSTART;TZID=Pacific/Auckland:20241106T180000
DTEND;TZID=Pacific/Auckland:20241106T200000
DTSTAMP:20260422T092240
CREATED:20231203T234928Z
LAST-MODIFIED:20231203T234928Z
UID:20307-1730916000-1730923200@www.nelsonhockey.org.nz
SUMMARY:Summer Social Hockey
DESCRIPTION:
URL:https://www.nelsonhockey.org.nz/event/summer-social-hockey-7/2024-11-06/
LOCATION:NELSON HOCKEY\, SAXTON FIELDS\, Nelson\, Tasman/Nelson\, 7011\, New Zealand
CATEGORIES:Summer Hockey-Renegade/Social
ATTACH;FMTTYPE=image/jpeg:https://www.nelsonhockey.org.nz/wp-content/uploads/2023/11/NHA-2024-SUMMER-SOCIAL-PROGRAM-OCTOBER.jpg
GEO:-41.3280994;173.2181794
X-APPLE-STRUCTURED-LOCATION;VALUE=URI;X-ADDRESS=NELSON HOCKEY SAXTON FIELDS Nelson Tasman/Nelson 7011 New Zealand;X-APPLE-RADIUS=500;X-TITLE=SAXTON FIELDS:geo:173.2181794,-41.3280994
END:VEVENT
BEGIN:VEVENT
DTSTART;TZID=Pacific/Auckland:20241107T154500
DTEND;TZID=Pacific/Auckland:20241107T183000
DTSTAMP:20260422T092240
CREATED:20231203T235107Z
LAST-MODIFIED:20231203T235107Z
UID:20314-1730994300-1731004200@www.nelsonhockey.org.nz
SUMMARY:Junior Program IV
DESCRIPTION:
URL:https://www.nelsonhockey.org.nz/event/junior-program-iv-2/2024-11-07/
LOCATION:NELSON HOCKEY\, SAXTON FIELDS\, Nelson\, Tasman/Nelson\, 7011\, New Zealand
CATEGORIES:Junior Programme
ATTACH;FMTTYPE=image/jpeg:https://www.nelsonhockey.org.nz/wp-content/uploads/2023/11/2024-NHA-Junior-Programme-IV.jpg
GEO:-41.3280994;173.2181794
X-APPLE-STRUCTURED-LOCATION;VALUE=URI;X-ADDRESS=NELSON HOCKEY SAXTON FIELDS Nelson Tasman/Nelson 7011 New Zealand;X-APPLE-RADIUS=500;X-TITLE=SAXTON FIELDS:geo:173.2181794,-41.3280994
END:VEVENT
BEGIN:VEVENT
DTSTART;TZID=Pacific/Auckland:20241107T180000
DTEND;TZID=Pacific/Auckland:20241107T190000
DTSTAMP:20260422T092240
CREATED:20231203T235317Z
LAST-MODIFIED:20231203T235317Z
UID:20322-1731002400-1731006000@www.nelsonhockey.org.nz
SUMMARY:Masters League Full Field
DESCRIPTION:
URL:https://www.nelsonhockey.org.nz/event/masters-league-full-field/2024-11-07/
LOCATION:NELSON HOCKEY\, SAXTON FIELDS\, Nelson\, Tasman/Nelson\, 7011\, New Zealand
CATEGORIES:Masters
ATTACH;FMTTYPE=image/jpeg:https://www.nelsonhockey.org.nz/wp-content/uploads/2023/11/2024-Master-League-T4.jpg
GEO:-41.3280994;173.2181794
X-APPLE-STRUCTURED-LOCATION;VALUE=URI;X-ADDRESS=NELSON HOCKEY SAXTON FIELDS Nelson Tasman/Nelson 7011 New Zealand;X-APPLE-RADIUS=500;X-TITLE=SAXTON FIELDS:geo:173.2181794,-41.3280994
END:VEVENT
BEGIN:VEVENT
DTSTART;TZID=Pacific/Auckland:20241113T180000
DTEND;TZID=Pacific/Auckland:20241113T200000
DTSTAMP:20260422T092240
CREATED:20231203T234928Z
LAST-MODIFIED:20231203T234928Z
UID:20308-1731520800-1731528000@www.nelsonhockey.org.nz
SUMMARY:Summer Social Hockey
DESCRIPTION:
URL:https://www.nelsonhockey.org.nz/event/summer-social-hockey-7/2024-11-13/
LOCATION:NELSON HOCKEY\, SAXTON FIELDS\, Nelson\, Tasman/Nelson\, 7011\, New Zealand
CATEGORIES:Summer Hockey-Renegade/Social
ATTACH;FMTTYPE=image/jpeg:https://www.nelsonhockey.org.nz/wp-content/uploads/2023/11/NHA-2024-SUMMER-SOCIAL-PROGRAM-OCTOBER.jpg
GEO:-41.3280994;173.2181794
X-APPLE-STRUCTURED-LOCATION;VALUE=URI;X-ADDRESS=NELSON HOCKEY SAXTON FIELDS Nelson Tasman/Nelson 7011 New Zealand;X-APPLE-RADIUS=500;X-TITLE=SAXTON FIELDS:geo:173.2181794,-41.3280994
END:VEVENT
BEGIN:VEVENT
DTSTART;TZID=Pacific/Auckland:20241114T154500
DTEND;TZID=Pacific/Auckland:20241114T183000
DTSTAMP:20260422T092240
CREATED:20231203T235107Z
LAST-MODIFIED:20231203T235107Z
UID:20315-1731599100-1731609000@www.nelsonhockey.org.nz
SUMMARY:Junior Program IV
DESCRIPTION:
URL:https://www.nelsonhockey.org.nz/event/junior-program-iv-2/2024-11-14/
LOCATION:NELSON HOCKEY\, SAXTON FIELDS\, Nelson\, Tasman/Nelson\, 7011\, New Zealand
CATEGORIES:Junior Programme
ATTACH;FMTTYPE=image/jpeg:https://www.nelsonhockey.org.nz/wp-content/uploads/2023/11/2024-NHA-Junior-Programme-IV.jpg
GEO:-41.3280994;173.2181794
X-APPLE-STRUCTURED-LOCATION;VALUE=URI;X-ADDRESS=NELSON HOCKEY SAXTON FIELDS Nelson Tasman/Nelson 7011 New Zealand;X-APPLE-RADIUS=500;X-TITLE=SAXTON FIELDS:geo:173.2181794,-41.3280994
END:VEVENT
BEGIN:VEVENT
DTSTART;TZID=Pacific/Auckland:20241114T180000
DTEND;TZID=Pacific/Auckland:20241114T190000
DTSTAMP:20260422T092240
CREATED:20231203T235317Z
LAST-MODIFIED:20231203T235317Z
UID:20323-1731607200-1731610800@www.nelsonhockey.org.nz
SUMMARY:Masters League Full Field
DESCRIPTION:
URL:https://www.nelsonhockey.org.nz/event/masters-league-full-field/2024-11-14/
LOCATION:NELSON HOCKEY\, SAXTON FIELDS\, Nelson\, Tasman/Nelson\, 7011\, New Zealand
CATEGORIES:Masters
ATTACH;FMTTYPE=image/jpeg:https://www.nelsonhockey.org.nz/wp-content/uploads/2023/11/2024-Master-League-T4.jpg
GEO:-41.3280994;173.2181794
X-APPLE-STRUCTURED-LOCATION;VALUE=URI;X-ADDRESS=NELSON HOCKEY SAXTON FIELDS Nelson Tasman/Nelson 7011 New Zealand;X-APPLE-RADIUS=500;X-TITLE=SAXTON FIELDS:geo:173.2181794,-41.3280994
END:VEVENT
BEGIN:VEVENT
DTSTART;TZID=Pacific/Auckland:20241120T180000
DTEND;TZID=Pacific/Auckland:20241120T200000
DTSTAMP:20260422T092240
CREATED:20231203T234928Z
LAST-MODIFIED:20231203T234928Z
UID:20309-1732125600-1732132800@www.nelsonhockey.org.nz
SUMMARY:Summer Social Hockey
DESCRIPTION:
URL:https://www.nelsonhockey.org.nz/event/summer-social-hockey-7/2024-11-20/
LOCATION:NELSON HOCKEY\, SAXTON FIELDS\, Nelson\, Tasman/Nelson\, 7011\, New Zealand
CATEGORIES:Summer Hockey-Renegade/Social
ATTACH;FMTTYPE=image/jpeg:https://www.nelsonhockey.org.nz/wp-content/uploads/2023/11/NHA-2024-SUMMER-SOCIAL-PROGRAM-OCTOBER.jpg
GEO:-41.3280994;173.2181794
X-APPLE-STRUCTURED-LOCATION;VALUE=URI;X-ADDRESS=NELSON HOCKEY SAXTON FIELDS Nelson Tasman/Nelson 7011 New Zealand;X-APPLE-RADIUS=500;X-TITLE=SAXTON FIELDS:geo:173.2181794,-41.3280994
END:VEVENT
BEGIN:VEVENT
DTSTART;TZID=Pacific/Auckland:20241121T154500
DTEND;TZID=Pacific/Auckland:20241121T183000
DTSTAMP:20260422T092240
CREATED:20231203T235107Z
LAST-MODIFIED:20231203T235107Z
UID:20316-1732203900-1732213800@www.nelsonhockey.org.nz
SUMMARY:Junior Program IV
DESCRIPTION:
URL:https://www.nelsonhockey.org.nz/event/junior-program-iv-2/2024-11-21/
LOCATION:NELSON HOCKEY\, SAXTON FIELDS\, Nelson\, Tasman/Nelson\, 7011\, New Zealand
CATEGORIES:Junior Programme
ATTACH;FMTTYPE=image/jpeg:https://www.nelsonhockey.org.nz/wp-content/uploads/2023/11/2024-NHA-Junior-Programme-IV.jpg
GEO:-41.3280994;173.2181794
X-APPLE-STRUCTURED-LOCATION;VALUE=URI;X-ADDRESS=NELSON HOCKEY SAXTON FIELDS Nelson Tasman/Nelson 7011 New Zealand;X-APPLE-RADIUS=500;X-TITLE=SAXTON FIELDS:geo:173.2181794,-41.3280994
END:VEVENT
BEGIN:VEVENT
DTSTART;TZID=Pacific/Auckland:20241121T180000
DTEND;TZID=Pacific/Auckland:20241121T190000
DTSTAMP:20260422T092240
CREATED:20231203T235317Z
LAST-MODIFIED:20231203T235317Z
UID:20324-1732212000-1732215600@www.nelsonhockey.org.nz
SUMMARY:Masters League Full Field
DESCRIPTION:
URL:https://www.nelsonhockey.org.nz/event/masters-league-full-field/2024-11-21/
LOCATION:NELSON HOCKEY\, SAXTON FIELDS\, Nelson\, Tasman/Nelson\, 7011\, New Zealand
CATEGORIES:Masters
ATTACH;FMTTYPE=image/jpeg:https://www.nelsonhockey.org.nz/wp-content/uploads/2023/11/2024-Master-League-T4.jpg
GEO:-41.3280994;173.2181794
X-APPLE-STRUCTURED-LOCATION;VALUE=URI;X-ADDRESS=NELSON HOCKEY SAXTON FIELDS Nelson Tasman/Nelson 7011 New Zealand;X-APPLE-RADIUS=500;X-TITLE=SAXTON FIELDS:geo:173.2181794,-41.3280994
END:VEVENT
BEGIN:VEVENT
DTSTART;TZID=Pacific/Auckland:20241127T180000
DTEND;TZID=Pacific/Auckland:20241127T200000
DTSTAMP:20260422T092240
CREATED:20231203T234928Z
LAST-MODIFIED:20231203T234928Z
UID:20310-1732730400-1732737600@www.nelsonhockey.org.nz
SUMMARY:Summer Social Hockey
DESCRIPTION:
URL:https://www.nelsonhockey.org.nz/event/summer-social-hockey-7/2024-11-27/
LOCATION:NELSON HOCKEY\, SAXTON FIELDS\, Nelson\, Tasman/Nelson\, 7011\, New Zealand
CATEGORIES:Summer Hockey-Renegade/Social
ATTACH;FMTTYPE=image/jpeg:https://www.nelsonhockey.org.nz/wp-content/uploads/2023/11/NHA-2024-SUMMER-SOCIAL-PROGRAM-OCTOBER.jpg
GEO:-41.3280994;173.2181794
X-APPLE-STRUCTURED-LOCATION;VALUE=URI;X-ADDRESS=NELSON HOCKEY SAXTON FIELDS Nelson Tasman/Nelson 7011 New Zealand;X-APPLE-RADIUS=500;X-TITLE=SAXTON FIELDS:geo:173.2181794,-41.3280994
END:VEVENT
BEGIN:VEVENT
DTSTART;TZID=Pacific/Auckland:20241128T154500
DTEND;TZID=Pacific/Auckland:20241128T183000
DTSTAMP:20260422T092240
CREATED:20231203T235107Z
LAST-MODIFIED:20231203T235107Z
UID:20317-1732808700-1732818600@www.nelsonhockey.org.nz
SUMMARY:Junior Program IV
DESCRIPTION:
URL:https://www.nelsonhockey.org.nz/event/junior-program-iv-2/2024-11-28/
LOCATION:NELSON HOCKEY\, SAXTON FIELDS\, Nelson\, Tasman/Nelson\, 7011\, New Zealand
CATEGORIES:Junior Programme
ATTACH;FMTTYPE=image/jpeg:https://www.nelsonhockey.org.nz/wp-content/uploads/2023/11/2024-NHA-Junior-Programme-IV.jpg
GEO:-41.3280994;173.2181794
X-APPLE-STRUCTURED-LOCATION;VALUE=URI;X-ADDRESS=NELSON HOCKEY SAXTON FIELDS Nelson Tasman/Nelson 7011 New Zealand;X-APPLE-RADIUS=500;X-TITLE=SAXTON FIELDS:geo:173.2181794,-41.3280994
END:VEVENT
BEGIN:VEVENT
DTSTART;TZID=Pacific/Auckland:20241128T180000
DTEND;TZID=Pacific/Auckland:20241128T190000
DTSTAMP:20260422T092240
CREATED:20231203T235317Z
LAST-MODIFIED:20231203T235317Z
UID:20325-1732816800-1732820400@www.nelsonhockey.org.nz
SUMMARY:Masters League Full Field
DESCRIPTION:
URL:https://www.nelsonhockey.org.nz/event/masters-league-full-field/2024-11-28/
LOCATION:NELSON HOCKEY\, SAXTON FIELDS\, Nelson\, Tasman/Nelson\, 7011\, New Zealand
CATEGORIES:Masters
ATTACH;FMTTYPE=image/jpeg:https://www.nelsonhockey.org.nz/wp-content/uploads/2023/11/2024-Master-League-T4.jpg
GEO:-41.3280994;173.2181794
X-APPLE-STRUCTURED-LOCATION;VALUE=URI;X-ADDRESS=NELSON HOCKEY SAXTON FIELDS Nelson Tasman/Nelson 7011 New Zealand;X-APPLE-RADIUS=500;X-TITLE=SAXTON FIELDS:geo:173.2181794,-41.3280994
END:VEVENT
END:VCALENDAR