BEGIN:VCALENDAR
VERSION:2.0
PRODID:-//Nelson Hockey Association (1993) Inc - ECPv6.15.16//NONSGML v1.0//EN
CALSCALE:GREGORIAN
METHOD:PUBLISH
X-WR-CALNAME:Nelson Hockey Association (1993) Inc
X-ORIGINAL-URL:https://www.nelsonhockey.org.nz
X-WR-CALDESC:Events for Nelson Hockey Association (1993) Inc
REFRESH-INTERVAL;VALUE=DURATION:PT1H
X-Robots-Tag:noindex
X-PUBLISHED-TTL:PT1H
BEGIN:VTIMEZONE
TZID:Pacific/Auckland
BEGIN:STANDARD
TZOFFSETFROM:+1300
TZOFFSETTO:+1200
TZNAME:NZST
DTSTART:20220402T140000
END:STANDARD
BEGIN:DAYLIGHT
TZOFFSETFROM:+1200
TZOFFSETTO:+1300
TZNAME:NZDT
DTSTART:20220924T140000
END:DAYLIGHT
BEGIN:STANDARD
TZOFFSETFROM:+1300
TZOFFSETTO:+1200
TZNAME:NZST
DTSTART:20230401T140000
END:STANDARD
BEGIN:DAYLIGHT
TZOFFSETFROM:+1200
TZOFFSETTO:+1300
TZNAME:NZDT
DTSTART:20230923T140000
END:DAYLIGHT
BEGIN:STANDARD
TZOFFSETFROM:+1300
TZOFFSETTO:+1200
TZNAME:NZST
DTSTART:20240406T140000
END:STANDARD
BEGIN:DAYLIGHT
TZOFFSETFROM:+1200
TZOFFSETTO:+1300
TZNAME:NZDT
DTSTART:20240928T140000
END:DAYLIGHT
END:VTIMEZONE
BEGIN:VEVENT
DTSTART;TZID=Pacific/Auckland:20230320T160000
DTEND;TZID=Pacific/Auckland:20230320T170000
DTSTAMP:20260426T124603
CREATED:20221218T223440Z
LAST-MODIFIED:20221227T012908Z
UID:17334-1679328000-1679331600@www.nelsonhockey.org.nz
SUMMARY:Monday Night Youth Hockey
DESCRIPTION:2023 NHA T1-Y7-8 Half Field\n2023 NHA T1-Y9-10 Full Field
URL:https://www.nelsonhockey.org.nz/event/monday-night-youth-hockey-5/
LOCATION:Tasman/Nelson
CATEGORIES:YOUTH PROGRAM
ATTACH;FMTTYPE=image/jpeg:https://www.nelsonhockey.org.nz/wp-content/uploads/2022/12/Nelson-Hockey_Youth-Social_Facebook-Banner_Nov22.jpg
END:VEVENT
BEGIN:VEVENT
DTSTART;TZID=Pacific/Auckland:20230322T173000
DTEND;TZID=Pacific/Auckland:20230322T203000
DTSTAMP:20260426T124603
CREATED:20221218T223458Z
LAST-MODIFIED:20221227T013532Z
UID:17340-1679506200-1679517000@www.nelsonhockey.org.nz
SUMMARY:Summer Social Hockey
DESCRIPTION:NHA 2023 SUMMER SOCIAL PROGRAM (FEBRUARY)
URL:https://www.nelsonhockey.org.nz/event/summer-social-hockey-5/
LOCATION:Tasman/Nelson
CATEGORIES:Summer Hockey-Renegade/Social
ATTACH;FMTTYPE=image/jpeg:https://www.nelsonhockey.org.nz/wp-content/uploads/2022/12/Nelson-Hockey_Summer-Social_Blog-Post-Banner_Nov22.jpg
END:VEVENT
BEGIN:VEVENT
DTSTART;TZID=Pacific/Auckland:20230323T153000
DTEND;TZID=Pacific/Auckland:20230323T183000
DTSTAMP:20260426T124603
CREATED:20221218T223519Z
LAST-MODIFIED:20221227T014034Z
UID:17346-1679585400-1679596200@www.nelsonhockey.org.nz
SUMMARY:Junior Program I
DESCRIPTION:2023 NHA Junior Programme I
URL:https://www.nelsonhockey.org.nz/event/junior-program-i-5/
LOCATION:Tasman/Nelson
CATEGORIES:Junior Programme
ATTACH;FMTTYPE=image/jpeg:https://www.nelsonhockey.org.nz/wp-content/uploads/2022/12/Nelson-Hockey_Junior_Blog-Post-Banner_Nov22.jpg
END:VEVENT
BEGIN:VEVENT
DTSTART;TZID=Pacific/Auckland:20230324T160000
DTEND;TZID=Pacific/Auckland:20230324T203000
DTSTAMP:20260426T124603
CREATED:20221218T223543Z
LAST-MODIFIED:20221227T020021Z
UID:17352-1679673600-1679689800@www.nelsonhockey.org.nz
SUMMARY:Player Development Program I- (U13/U15/U18)
DESCRIPTION:2023 NHA DEVELOPMENT PROGRAM I
URL:https://www.nelsonhockey.org.nz/event/player-development-program-u13-u15-u18-5/
LOCATION:Tasman/Nelson
CATEGORIES:U13-U15 Development Programme,U18 Development
ATTACH;FMTTYPE=image/jpeg:https://www.nelsonhockey.org.nz/wp-content/uploads/2022/12/Nelson-Hockey_Player-Development_Facebook-Banner_Nov22.jpg
END:VEVENT
BEGIN:VEVENT
DTSTART;TZID=Pacific/Auckland:20230326T090000
DTEND;TZID=Pacific/Auckland:20230326T170000
DTSTAMP:20260426T124603
CREATED:20221227T012456Z
LAST-MODIFIED:20221227T012456Z
UID:17491-1679821200-1679850000@www.nelsonhockey.org.nz
SUMMARY:2023 COACHES & UMPIRES WORKSHOP
DESCRIPTION:2023 Coaching Worshop
URL:https://www.nelsonhockey.org.nz/event/2023-coaches-umpires-workshop/
LOCATION:NELSON HOCKEY\, SAXTON FIELDS\, Nelson\, Tasman/Nelson\, 7011\, New Zealand
CATEGORIES:Courses
ATTACH;FMTTYPE=image/jpeg:https://www.nelsonhockey.org.nz/wp-content/uploads/2022/12/Nelson-Hockey_Coaching_Facebook-Banner_Nov22.jpg
GEO:-41.3280994;173.2181794
X-APPLE-STRUCTURED-LOCATION;VALUE=URI;X-ADDRESS=NELSON HOCKEY SAXTON FIELDS Nelson Tasman/Nelson 7011 New Zealand;X-APPLE-RADIUS=500;X-TITLE=SAXTON FIELDS:geo:173.2181794,-41.3280994
END:VEVENT
BEGIN:VEVENT
DTSTART;TZID=Pacific/Auckland:20230327T160000
DTEND;TZID=Pacific/Auckland:20230327T170000
DTSTAMP:20260426T124603
CREATED:20221218T223441Z
LAST-MODIFIED:20221227T012753Z
UID:17335-1679932800-1679936400@www.nelsonhockey.org.nz
SUMMARY:Monday Night Youth Hockey
DESCRIPTION:2023 NHA T1-Y7-8 Half Field\n2023 NHA T1-Y9-10 Full Field
URL:https://www.nelsonhockey.org.nz/event/monday-night-youth-hockey-6/
LOCATION:Tasman/Nelson
CATEGORIES:YOUTH PROGRAM
ATTACH;FMTTYPE=image/jpeg:https://www.nelsonhockey.org.nz/wp-content/uploads/2022/12/Nelson-Hockey_Youth-Social_Facebook-Banner_Nov22.jpg
END:VEVENT
BEGIN:VEVENT
DTSTART;TZID=Pacific/Auckland:20230328T180000
DTEND;TZID=Pacific/Auckland:20230328T200000
DTSTAMP:20260426T124603
CREATED:20221227T021458Z
LAST-MODIFIED:20221227T021458Z
UID:17515-1680026400-1680033600@www.nelsonhockey.org.nz
SUMMARY:HNZ-NHA CLUBS CAPABILITIES PRESENTATION
DESCRIPTION:
URL:https://www.nelsonhockey.org.nz/event/hnz-nha-clubs-capabilities-presentation/
LOCATION:Nelson Hockey Softball Pavillion\, Saxton Hockey Pavillion\, Stoke\, 7011\, New Zealand
CATEGORIES:NELSON HOCKEY ASSOCIATION
ATTACH;FMTTYPE=image/png:https://www.nelsonhockey.org.nz/wp-content/uploads/2022/11/Hockey-New-Zealand-Logo-1.png
END:VEVENT
BEGIN:VEVENT
DTSTART;TZID=Pacific/Auckland:20230329T173000
DTEND;TZID=Pacific/Auckland:20230329T203000
DTSTAMP:20260426T124603
CREATED:20221218T223459Z
LAST-MODIFIED:20221227T013440Z
UID:17341-1680111000-1680121800@www.nelsonhockey.org.nz
SUMMARY:Summer Social Hockey
DESCRIPTION:NHA 2023 SUMMER SOCIAL PROGRAM (FEBRUARY)
URL:https://www.nelsonhockey.org.nz/event/summer-social-hockey-6/
LOCATION:Tasman/Nelson
CATEGORIES:Summer Hockey-Renegade/Social
ATTACH;FMTTYPE=image/jpeg:https://www.nelsonhockey.org.nz/wp-content/uploads/2022/12/Nelson-Hockey_Summer-Social_Blog-Post-Banner_Nov22.jpg
END:VEVENT
BEGIN:VEVENT
DTSTART;TZID=Pacific/Auckland:20230330T153000
DTEND;TZID=Pacific/Auckland:20230330T183000
DTSTAMP:20260426T124603
CREATED:20221218T223520Z
LAST-MODIFIED:20221227T013942Z
UID:17347-1680190200-1680201000@www.nelsonhockey.org.nz
SUMMARY:Junior Program I
DESCRIPTION:2023 NHA Junior Programme I
URL:https://www.nelsonhockey.org.nz/event/junior-program-i-6/
LOCATION:Tasman/Nelson
CATEGORIES:Junior Programme
ATTACH;FMTTYPE=image/jpeg:https://www.nelsonhockey.org.nz/wp-content/uploads/2022/12/Nelson-Hockey_Junior_Blog-Post-Banner_Nov22.jpg
END:VEVENT
BEGIN:VEVENT
DTSTART;TZID=Pacific/Auckland:20230330T190000
DTEND;TZID=Pacific/Auckland:20230330T203000
DTSTAMP:20260426T124603
CREATED:20221227T021718Z
LAST-MODIFIED:20221227T021718Z
UID:17518-1680202800-1680208200@www.nelsonhockey.org.nz
SUMMARY:NHA SR.UMPIRES COURSE
DESCRIPTION:
URL:https://www.nelsonhockey.org.nz/event/nha-sr-umpires-course/
LOCATION:Nelson Hockey Softball Pavillion\, Saxton Hockey Pavillion\, Stoke\, 7011\, New Zealand
CATEGORIES:Umpire Course
ATTACH;FMTTYPE=image/jpeg:https://www.nelsonhockey.org.nz/wp-content/uploads/2022/12/Nelson-Hockey_Umpires_Facebook-Banner_Nov22.jpg
END:VEVENT
BEGIN:VEVENT
DTSTART;TZID=Pacific/Auckland:20230331T160000
DTEND;TZID=Pacific/Auckland:20230331T203000
DTSTAMP:20260426T124603
CREATED:20221218T223543Z
LAST-MODIFIED:20221227T021115Z
UID:17353-1680278400-1680294600@www.nelsonhockey.org.nz
SUMMARY:Player Development Program (U13/U15/U18)
DESCRIPTION:2023 NHA DEVELOPMENT PROGRAM I
URL:https://www.nelsonhockey.org.nz/event/player-development-program-u13-u15-u18-6/
LOCATION:Tasman/Nelson
CATEGORIES:U13-U15 Development Programme,U18 Development
ATTACH;FMTTYPE=image/jpeg:https://www.nelsonhockey.org.nz/wp-content/uploads/2022/12/Nelson-Hockey_Player-Development_Facebook-Banner_Nov22.jpg
END:VEVENT
BEGIN:VEVENT
DTSTART;TZID=Pacific/Auckland:20230401T090000
DTEND;TZID=Pacific/Auckland:20230401T170000
DTSTAMP:20260426T124604
CREATED:20221218T223857Z
LAST-MODIFIED:20221227T204752Z
UID:17364-1680339600-1680368400@www.nelsonhockey.org.nz
SUMMARY:NHA U18 Wider Squad Training Camp - TBC
DESCRIPTION:
URL:https://www.nelsonhockey.org.nz/event/nha-u18-wider-squad-training-camp-tbc/
LOCATION:Tasman/Nelson
CATEGORIES:U18 Development
ATTACH;FMTTYPE=image/jpeg:https://www.nelsonhockey.org.nz/wp-content/uploads/2022/11/NHA-Logo.jpg
END:VEVENT
BEGIN:VEVENT
DTSTART;VALUE=DATE:20230404
DTEND;VALUE=DATE:20230405
DTSTAMP:20260426T124604
CREATED:20221227T205149Z
LAST-MODIFIED:20221227T205149Z
UID:17525-1680566400-1680652799@www.nelsonhockey.org.nz
SUMMARY:2023 TEAM REGISTRATIONS DUE-12:00 PM ( SR & DIV.4.)
DESCRIPTION:
URL:https://www.nelsonhockey.org.nz/event/2023-team-registrations-due-1200-pm-sr-div-4/
LOCATION:NELSON HOCKEY\, SAXTON FIELDS\, Nelson\, Tasman/Nelson\, 7011\, New Zealand
CATEGORIES:Club Competition Week
ATTACH;FMTTYPE=image/jpeg:https://www.nelsonhockey.org.nz/wp-content/uploads/2022/12/Nelson-Hockey_Senior-Club_Facebook-Banner_Nov22.jpg
GEO:-41.3280994;173.2181794
X-APPLE-STRUCTURED-LOCATION;VALUE=URI;X-ADDRESS=NELSON HOCKEY SAXTON FIELDS Nelson Tasman/Nelson 7011 New Zealand;X-APPLE-RADIUS=500;X-TITLE=SAXTON FIELDS:geo:173.2181794,-41.3280994
END:VEVENT
BEGIN:VEVENT
DTSTART;TZID=Pacific/Auckland:20230405T170000
DTEND;TZID=Pacific/Auckland:20230405T200000
DTSTAMP:20260426T124604
CREATED:20221218T223858Z
LAST-MODIFIED:20221227T210619Z
UID:17365-1680714000-1680724800@www.nelsonhockey.org.nz
SUMMARY:NHA U18 Training/Trials
DESCRIPTION:
URL:https://www.nelsonhockey.org.nz/event/nha-u18-training-trials/
LOCATION:Tasman/Nelson
CATEGORIES:U18 Development
ATTACH;FMTTYPE=image/jpeg:https://www.nelsonhockey.org.nz/wp-content/uploads/2022/11/NHA-Logo.jpg
END:VEVENT
BEGIN:VEVENT
DTSTART;TZID=Pacific/Auckland:20230405T180000
DTEND;TZID=Pacific/Auckland:20230405T190000
DTSTAMP:20260426T124604
CREATED:20221227T205521Z
LAST-MODIFIED:20221227T205521Z
UID:17530-1680717600-1680721200@www.nelsonhockey.org.nz
SUMMARY:NHA JUNIOR UMPIRES COURSE
DESCRIPTION:
URL:https://www.nelsonhockey.org.nz/event/nha-junior-umpires-course/
LOCATION:NELSON HOCKEY\, SAXTON FIELDS\, Nelson\, Tasman/Nelson\, 7011\, New Zealand
CATEGORIES:Umpire Course
ATTACH;FMTTYPE=image/jpeg:https://www.nelsonhockey.org.nz/wp-content/uploads/2022/12/Nelson-Hockey_Umpires_Facebook-Banner_Nov22.jpg
GEO:-41.3280994;173.2181794
X-APPLE-STRUCTURED-LOCATION;VALUE=URI;X-ADDRESS=NELSON HOCKEY SAXTON FIELDS Nelson Tasman/Nelson 7011 New Zealand;X-APPLE-RADIUS=500;X-TITLE=SAXTON FIELDS:geo:173.2181794,-41.3280994
END:VEVENT
BEGIN:VEVENT
DTSTART;TZID=Pacific/Auckland:20230405T190000
DTEND;TZID=Pacific/Auckland:20230405T200000
DTSTAMP:20260426T124604
CREATED:20221218T223604Z
LAST-MODIFIED:20221227T212240Z
UID:17357-1680721200-1680724800@www.nelsonhockey.org.nz
SUMMARY:NHA Umpire Committee Meeting
DESCRIPTION:
URL:https://www.nelsonhockey.org.nz/event/nha-umpire-committee-meeting-2/
LOCATION:Tasman/Nelson
CATEGORIES:Umpire Course
ATTACH;FMTTYPE=image/jpeg:https://www.nelsonhockey.org.nz/wp-content/uploads/2022/12/Nelson-Hockey_Umpires_Facebook-Banner_Nov22.jpg
END:VEVENT
BEGIN:VEVENT
DTSTART;VALUE=DATE:20230407
DTEND;VALUE=DATE:20230408
DTSTAMP:20260426T124604
CREATED:20221227T212529Z
LAST-MODIFIED:20221227T212529Z
UID:17549-1680825600-1680911999@www.nelsonhockey.org.nz
SUMMARY:GOOD FRIDAY
DESCRIPTION:
URL:https://www.nelsonhockey.org.nz/event/good-friday/
LOCATION:Tasman/Nelson
CATEGORIES:PUBLIC HOLIDAY
ATTACH;FMTTYPE=image/jpeg:https://www.nelsonhockey.org.nz/wp-content/uploads/2022/12/SORRY-CLOSED.jpg
END:VEVENT
BEGIN:VEVENT
DTSTART;VALUE=DATE:20230410
DTEND;VALUE=DATE:20230411
DTSTAMP:20260426T124604
CREATED:20221227T212630Z
LAST-MODIFIED:20221227T212630Z
UID:17551-1681084800-1681171199@www.nelsonhockey.org.nz
SUMMARY:EASTER MONDAY
DESCRIPTION:
URL:https://www.nelsonhockey.org.nz/event/easter-monday/
LOCATION:Tasman/Nelson
CATEGORIES:PUBLIC HOLIDAY
ATTACH;FMTTYPE=image/jpeg:https://www.nelsonhockey.org.nz/wp-content/uploads/2022/12/SORRY-CLOSED.jpg
END:VEVENT
BEGIN:VEVENT
DTSTART;VALUE=DATE:20230411
DTEND;VALUE=DATE:20230422
DTSTAMP:20260426T124604
CREATED:20221227T212738Z
LAST-MODIFIED:20221227T212738Z
UID:17553-1681171200-1682121599@www.nelsonhockey.org.nz
SUMMARY:SCHOOL HOLIDAYS
DESCRIPTION:
URL:https://www.nelsonhockey.org.nz/event/school-holidays-2/
LOCATION:Tasman/Nelson
CATEGORIES:School Holidays
ATTACH;FMTTYPE=image/jpeg:https://www.nelsonhockey.org.nz/wp-content/uploads/2022/12/SCHOOL-HOLIDAYS.jpg
END:VEVENT
BEGIN:VEVENT
DTSTART;TZID=Pacific/Auckland:20230412T170000
DTEND;TZID=Pacific/Auckland:20230412T200000
DTSTAMP:20260426T124604
CREATED:20221218T223858Z
LAST-MODIFIED:20221227T210535Z
UID:17366-1681318800-1681329600@www.nelsonhockey.org.nz
SUMMARY:NHA U18 Training/Trials
DESCRIPTION:
URL:https://www.nelsonhockey.org.nz/event/nha-u18-training-trials-2/
LOCATION:Tasman/Nelson
CATEGORIES:U18 Development
ATTACH;FMTTYPE=image/jpeg:https://www.nelsonhockey.org.nz/wp-content/uploads/2022/11/NHA-Logo.jpg
END:VEVENT
BEGIN:VEVENT
DTSTART;TZID=Pacific/Auckland:20230419T170000
DTEND;TZID=Pacific/Auckland:20230419T200000
DTSTAMP:20260426T124604
CREATED:20221218T223859Z
LAST-MODIFIED:20221227T210453Z
UID:17367-1681923600-1681934400@www.nelsonhockey.org.nz
SUMMARY:NHA U18 Training/Trials
DESCRIPTION:
URL:https://www.nelsonhockey.org.nz/event/nha-u18-training-trials-3/
LOCATION:Tasman/Nelson
CATEGORIES:U18 Development
ATTACH;FMTTYPE=image/jpeg:https://www.nelsonhockey.org.nz/wp-content/uploads/2022/11/NHA-Logo.jpg
END:VEVENT
BEGIN:VEVENT
DTSTART;TZID=Pacific/Auckland:20230423T090000
DTEND;TZID=Pacific/Auckland:20230423T170000
DTSTAMP:20260426T124604
CREATED:20221218T224100Z
LAST-MODIFIED:20221227T213600Z
UID:17371-1682240400-1682269200@www.nelsonhockey.org.nz
SUMMARY:Preseason Tournament
DESCRIPTION:2023 NHA CUP-Pre Season Tournament
URL:https://www.nelsonhockey.org.nz/event/preseason-tournament/
LOCATION:Tasman/Nelson
CATEGORIES:Tournaments Home
ATTACH;FMTTYPE=image/jpeg:https://www.nelsonhockey.org.nz/wp-content/uploads/2022/12/Nelson-Hockey_Tournaments-Events_Facebook-Banner_Nov22.jpg
END:VEVENT
BEGIN:VEVENT
DTSTART;VALUE=DATE:20230425
DTEND;VALUE=DATE:20230426
DTSTAMP:20260426T124604
CREATED:20221227T213744Z
LAST-MODIFIED:20221227T213744Z
UID:17561-1682380800-1682467199@www.nelsonhockey.org.nz
SUMMARY:ANZAC DAY
DESCRIPTION:
URL:https://www.nelsonhockey.org.nz/event/anzac-day/
LOCATION:Tasman/Nelson
CATEGORIES:PUBLIC HOLIDAY
ATTACH;FMTTYPE=image/jpeg:https://www.nelsonhockey.org.nz/wp-content/uploads/2021/03/anzac.jpg
END:VEVENT
BEGIN:VEVENT
DTSTART;TZID=Pacific/Auckland:20230426T170000
DTEND;TZID=Pacific/Auckland:20230426T200000
DTSTAMP:20260426T124604
CREATED:20221218T223900Z
LAST-MODIFIED:20221227T210407Z
UID:17368-1682528400-1682539200@www.nelsonhockey.org.nz
SUMMARY:NHA U18 Training/Trials
DESCRIPTION:
URL:https://www.nelsonhockey.org.nz/event/nha-u18-training-trials-4/
LOCATION:Tasman/Nelson
CATEGORIES:U18 Development
ATTACH;FMTTYPE=image/jpeg:https://www.nelsonhockey.org.nz/wp-content/uploads/2022/11/NHA-Logo.jpg
END:VEVENT
BEGIN:VEVENT
DTSTART;TZID=Pacific/Auckland:20230426T180000
DTEND;TZID=Pacific/Auckland:20230426T190000
DTSTAMP:20260426T124604
CREATED:20221218T224100Z
LAST-MODIFIED:20221228T033708Z
UID:17372-1682532000-1682535600@www.nelsonhockey.org.nz
SUMMARY:NHA GK Training
DESCRIPTION:2023 NHA GK Training Program
URL:https://www.nelsonhockey.org.nz/event/nha-gk-training/
LOCATION:Tasman/Nelson
CATEGORIES:GK Training
ATTACH;FMTTYPE=image/jpeg:https://www.nelsonhockey.org.nz/wp-content/uploads/2022/12/Nelson-Hockey_GK-Training_Facebook-Banner_Nov22.jpg
END:VEVENT
BEGIN:VEVENT
DTSTART;VALUE=DATE:20230427
DTEND;VALUE=DATE:20230428
DTSTAMP:20260426T124604
CREATED:20221227T213841Z
LAST-MODIFIED:20221227T213841Z
UID:17563-1682553600-1682639999@www.nelsonhockey.org.nz
SUMMARY:2023 TEAM NAMES LIST DUE-12:00 PM ( SR.)
DESCRIPTION:
URL:https://www.nelsonhockey.org.nz/event/2023-team-names-list-due-1200-pm-sr/
LOCATION:Tasman/Nelson
CATEGORIES:Club Competition Week
ATTACH;FMTTYPE=image/jpeg:https://www.nelsonhockey.org.nz/wp-content/uploads/2022/11/NHA-Logo.jpg
END:VEVENT
BEGIN:VEVENT
DTSTART;TZID=Pacific/Auckland:20230427T153000
DTEND;TZID=Pacific/Auckland:20230427T183000
DTSTAMP:20260426T124604
CREATED:20221218T224700Z
LAST-MODIFIED:20221228T035247Z
UID:17387-1682609400-1682620200@www.nelsonhockey.org.nz
SUMMARY:Junior Program II
DESCRIPTION:2023 NHA Junior Programme II.pub
URL:https://www.nelsonhockey.org.nz/event/junior-program-ii/
LOCATION:Tasman/Nelson
CATEGORIES:Junior Programme
ATTACH;FMTTYPE=image/jpeg:https://www.nelsonhockey.org.nz/wp-content/uploads/2022/12/Nelson-Hockey_Junior_Blog-Post-Banner_Nov22.jpg
END:VEVENT
BEGIN:VEVENT
DTSTART;TZID=Pacific/Auckland:20230427T160000
DTEND;TZID=Pacific/Auckland:20230427T203000
DTSTAMP:20260426T124604
CREATED:20221218T224902Z
LAST-MODIFIED:20221228T034830Z
UID:17392-1682611200-1682627400@www.nelsonhockey.org.nz
SUMMARY:Player Development Program II (U13/U15/U18)
DESCRIPTION:2023 NHA U13-U15 DEVELOPMENT PROGRAM II
URL:https://www.nelsonhockey.org.nz/event/player-development-program-ii-u13-u15-u18/
LOCATION:Tasman/Nelson
CATEGORIES:U13-U15 Development Programme,U18 Development
ATTACH;FMTTYPE=image/jpeg:https://www.nelsonhockey.org.nz/wp-content/uploads/2022/12/Nelson-Hockey_Player-Development_Facebook-Banner_Nov22.jpg
END:VEVENT
BEGIN:VEVENT
DTSTART;TZID=Pacific/Auckland:20230429T103000
DTEND;TZID=Pacific/Auckland:20230429T123000
DTSTAMP:20260426T124604
CREATED:20221218T225103Z
LAST-MODIFIED:20221227T214127Z
UID:17397-1682764200-1682771400@www.nelsonhockey.org.nz
SUMMARY:NHA Junior Club Open Day + second hand gear swap
DESCRIPTION:2023 NHA OPEN DAY
URL:https://www.nelsonhockey.org.nz/event/nha-junior-club-open-day-second-hand-gear-swap/
LOCATION:Tasman/Nelson
CATEGORIES:NELSON HOCKEY ASSOCIATION
ATTACH;FMTTYPE=image/jpeg:https://www.nelsonhockey.org.nz/wp-content/uploads/2022/12/2023-NHA-OPEN-DAY.jpg
END:VEVENT
BEGIN:VEVENT
DTSTART;TZID=Pacific/Auckland:20230429T113000
DTEND;TZID=Pacific/Auckland:20230430T173000
DTSTAMP:20260426T124604
CREATED:20221218T225104Z
LAST-MODIFIED:20221218T225104Z
UID:17398-1682767800-1682875800@www.nelsonhockey.org.nz
SUMMARY:NHA Senior Club - Round 1
DESCRIPTION:
URL:https://www.nelsonhockey.org.nz/event/nha-senior-club-round-1/
LOCATION:Tasman/Nelson
CATEGORIES:Club Competition Week
END:VEVENT
END:VCALENDAR