BEGIN:VCALENDAR
VERSION:2.0
PRODID:-//Nelson Hockey Association (1993) Inc - ECPv6.15.16//NONSGML v1.0//EN
CALSCALE:GREGORIAN
METHOD:PUBLISH
X-WR-CALNAME:Nelson Hockey Association (1993) Inc
X-ORIGINAL-URL:https://www.nelsonhockey.org.nz
X-WR-CALDESC:Events for Nelson Hockey Association (1993) Inc
REFRESH-INTERVAL;VALUE=DURATION:PT1H
X-Robots-Tag:noindex
X-PUBLISHED-TTL:PT1H
BEGIN:VTIMEZONE
TZID:Pacific/Auckland
BEGIN:STANDARD
TZOFFSETFROM:+1300
TZOFFSETTO:+1200
TZNAME:NZST
DTSTART:20230401T140000
END:STANDARD
BEGIN:DAYLIGHT
TZOFFSETFROM:+1200
TZOFFSETTO:+1300
TZNAME:NZDT
DTSTART:20230923T140000
END:DAYLIGHT
BEGIN:STANDARD
TZOFFSETFROM:+1300
TZOFFSETTO:+1200
TZNAME:NZST
DTSTART:20240406T140000
END:STANDARD
BEGIN:DAYLIGHT
TZOFFSETFROM:+1200
TZOFFSETTO:+1300
TZNAME:NZDT
DTSTART:20240928T140000
END:DAYLIGHT
BEGIN:STANDARD
TZOFFSETFROM:+1300
TZOFFSETTO:+1200
TZNAME:NZST
DTSTART:20250405T140000
END:STANDARD
BEGIN:DAYLIGHT
TZOFFSETFROM:+1200
TZOFFSETTO:+1300
TZNAME:NZDT
DTSTART:20250927T140000
END:DAYLIGHT
END:VTIMEZONE
BEGIN:VEVENT
DTSTART;VALUE=DATE:20240130
DTEND;VALUE=DATE:20240413
DTSTAMP:20260425T114231
CREATED:20231126T202915Z
LAST-MODIFIED:20231126T202915Z
UID:20008-1706572800-1712966399@www.nelsonhockey.org.nz
SUMMARY:Term 1
DESCRIPTION:
URL:https://www.nelsonhockey.org.nz/event/term-1/
CATEGORIES:Term 1
ATTACH;FMTTYPE=image/jpeg:https://www.nelsonhockey.org.nz/wp-content/uploads/2023/11/Back-to-school.jpg
END:VEVENT
BEGIN:VEVENT
DTSTART;TZID=Pacific/Auckland:20240221T180000
DTEND;TZID=Pacific/Auckland:20240221T200000
DTSTAMP:20260425T114231
CREATED:20231126T204505Z
LAST-MODIFIED:20231126T212827Z
UID:20028-1708538400-1708545600@www.nelsonhockey.org.nz
SUMMARY:Summer Social League I
DESCRIPTION:2024 Term 1 – Summer Social Hockey \nWednesday 21 February to 27 March 2024 – Saxton Field Hockey Turfs \nRegister online at www.nelsonhockey.org.nz \nCompetitive Mixed & Social Mixed grades  \n6.00pm – 1/2 turf – 8 a side \n30 minute games \nSix week season \n  \nFor teams of parents\, kids\, workmates and/or friends \nTeams to have matching uniforms or we can \nsupply bibs if required. \n  \n$220 per team \n  \n  \nDirect debit to 03-1354-0452914-16 \nSocial and team name as reference \n  \nRegistrations close 14th February 2024  \n 
URL:https://www.nelsonhockey.org.nz/event/summer-social-league-i/2024-02-21/
LOCATION:NELSON HOCKEY\, SAXTON FIELDS\, Nelson\, Tasman/Nelson\, 7011\, New Zealand
CATEGORIES:Summer Hockey-Renegade/Social
ATTACH;FMTTYPE=image/jpeg:https://www.nelsonhockey.org.nz/wp-content/uploads/2023/11/NHA-2024-SUMMER-SOCIAL-PROGRAM-FEBRUARY-1.jpg
GEO:-41.3280994;173.2181794
X-APPLE-STRUCTURED-LOCATION;VALUE=URI;X-ADDRESS=NELSON HOCKEY SAXTON FIELDS Nelson Tasman/Nelson 7011 New Zealand;X-APPLE-RADIUS=500;X-TITLE=SAXTON FIELDS:geo:173.2181794,-41.3280994
END:VEVENT
BEGIN:VEVENT
DTSTART;TZID=Pacific/Auckland:20240222T154500
DTEND;TZID=Pacific/Auckland:20240222T183000
DTSTAMP:20260425T114231
CREATED:20231126T205126Z
LAST-MODIFIED:20231126T212642Z
UID:20036-1708616700-1708626600@www.nelsonhockey.org.nz
SUMMARY:Junior Program I
DESCRIPTION:2024 Nelson Hockey Junior Program I \nThursday 22nd February to 28th March 2024 – Saxton Field Hockey Turfs \nRegister online at www.nelsonhockey.org.nz \nKindy Sticks:  \n3 & 4 years old\, fun fundamental skill games \n3.45pm – 4.30pm \n$40 for six week program \nFun Sticks:  \n5 & 6 years old\, learn the basics of hockey\, some fun games \n3.45pm – 4.30pm \n$40 for six week program \nMini Sticks:  \n6 to 8 year old\, skill development and game \n4.30pm – 5.30pm \n$45 for six week program. \nKiwi Sticks: \n9 to 13 year old\, skill development and game \n5:30pm – 6:30pm \n$50 for six week program \nPlease make payment using child’s name as reference to: \n03-1354-0452914-16 \nRegistration spaces are limited and will close 15th February \n  \n  \n 
URL:https://www.nelsonhockey.org.nz/event/junior-program-i-7/2024-02-22/
LOCATION:NELSON HOCKEY\, SAXTON FIELDS\, Nelson\, Tasman/Nelson\, 7011\, New Zealand
CATEGORIES:Junior Programme
ATTACH;FMTTYPE=image/jpeg:https://www.nelsonhockey.org.nz/wp-content/uploads/2023/10/2024-NHA-Junior-Programme-I.jpg
GEO:-41.3280994;173.2181794
X-APPLE-STRUCTURED-LOCATION;VALUE=URI;X-ADDRESS=NELSON HOCKEY SAXTON FIELDS Nelson Tasman/Nelson 7011 New Zealand;X-APPLE-RADIUS=500;X-TITLE=SAXTON FIELDS:geo:173.2181794,-41.3280994
END:VEVENT
BEGIN:VEVENT
DTSTART;VALUE=DATE:20240225
DTEND;VALUE=DATE:20240303
DTSTAMP:20260425T114231
CREATED:20231126T205430Z
LAST-MODIFIED:20231126T205430Z
UID:20043-1708819200-1709423999@www.nelsonhockey.org.nz
SUMMARY:2024 HNZ National Masters Tournament
DESCRIPTION:
URL:https://www.nelsonhockey.org.nz/event/2024-hnz-national-masters-tournament/
LOCATION:WELLINGTON HOCKEY\, National Hockey Stadium 9 Mt Albert Road\, Berhampore Wellington 6023\, Wellington\, Wellington\, 6023\, New Zealand
CATEGORIES:Masters
ATTACH;FMTTYPE=image/png:https://www.nelsonhockey.org.nz/wp-content/uploads/2022/09/600600p3047EDNmain2060495masters-article.png
ORGANIZER;CN="Hockey New Zealand":MAILTO:support@hockeynz.co.nz
END:VEVENT
BEGIN:VEVENT
DTSTART;VALUE=DATE:20240305
DTEND;VALUE=DATE:20240306
DTSTAMP:20260425T114231
CREATED:20231126T205957Z
LAST-MODIFIED:20231126T205957Z
UID:20045-1709596800-1709683199@www.nelsonhockey.org.nz
SUMMARY:NHA AGM
DESCRIPTION:
URL:https://www.nelsonhockey.org.nz/event/nha-agm-2/
LOCATION:NELSON HOCKEY\, SAXTON FIELDS\, Nelson\, Tasman/Nelson\, 7011\, New Zealand
CATEGORIES:NELSON HOCKEY ASSOCIATION
ATTACH;FMTTYPE=image/jpeg:https://www.nelsonhockey.org.nz/wp-content/uploads/2023/11/NHA-Logo.jpg
GEO:-41.3280994;173.2181794
X-APPLE-STRUCTURED-LOCATION;VALUE=URI;X-ADDRESS=NELSON HOCKEY SAXTON FIELDS Nelson Tasman/Nelson 7011 New Zealand;X-APPLE-RADIUS=500;X-TITLE=SAXTON FIELDS:geo:173.2181794,-41.3280994
END:VEVENT
BEGIN:VEVENT
DTSTART;VALUE=DATE:20240308
DTEND;VALUE=DATE:20240309
DTSTAMP:20260425T114231
CREATED:20231126T210210Z
LAST-MODIFIED:20231126T210210Z
UID:20049-1709856000-1709942399@www.nelsonhockey.org.nz
SUMMARY:Sport Tasman Yr 9+10 Girls Sport Festival
DESCRIPTION:
URL:https://www.nelsonhockey.org.nz/event/sport-tasman-yr-910-girls-sport-festival/
LOCATION:NELSON HOCKEY\, SAXTON FIELDS\, Nelson\, Tasman/Nelson\, 7011\, New Zealand
CATEGORIES:Events
ATTACH;FMTTYPE=image/jpeg:https://www.nelsonhockey.org.nz/wp-content/uploads/2018/09/Sport-Tasman-logo-blue-red-portrait-byline-resized-1.jpg
GEO:-41.3280994;173.2181794
X-APPLE-STRUCTURED-LOCATION;VALUE=URI;X-ADDRESS=NELSON HOCKEY SAXTON FIELDS Nelson Tasman/Nelson 7011 New Zealand;X-APPLE-RADIUS=500;X-TITLE=SAXTON FIELDS:geo:173.2181794,-41.3280994
END:VEVENT
BEGIN:VEVENT
DTSTART;VALUE=DATE:20240319
DTEND;VALUE=DATE:20240320
DTSTAMP:20260425T114231
CREATED:20231126T210502Z
LAST-MODIFIED:20231126T210502Z
UID:20051-1710806400-1710892799@www.nelsonhockey.org.nz
SUMMARY:NHA Club-Pre Season Meeting
DESCRIPTION:
URL:https://www.nelsonhockey.org.nz/event/nha-club-pre-season-meeting/
LOCATION:NELSON HOCKEY\, SAXTON FIELDS\, Nelson\, Tasman/Nelson\, 7011\, New Zealand
CATEGORIES:NELSON HOCKEY ASSOCIATION
ATTACH;FMTTYPE=image/jpeg:https://www.nelsonhockey.org.nz/wp-content/uploads/2023/11/NHA-Logo.jpg
GEO:-41.3280994;173.2181794
X-APPLE-STRUCTURED-LOCATION;VALUE=URI;X-ADDRESS=NELSON HOCKEY SAXTON FIELDS Nelson Tasman/Nelson 7011 New Zealand;X-APPLE-RADIUS=500;X-TITLE=SAXTON FIELDS:geo:173.2181794,-41.3280994
END:VEVENT
BEGIN:VEVENT
DTSTART;VALUE=DATE:20240328
DTEND;VALUE=DATE:20240329
DTSTAMP:20260425T114231
CREATED:20231126T210938Z
LAST-MODIFIED:20231126T210938Z
UID:20053-1711584000-1711670399@www.nelsonhockey.org.nz
SUMMARY:NHA U18 M&W -Reg Due Day
DESCRIPTION:
URL:https://www.nelsonhockey.org.nz/event/nha-u18-mw-reg-due-day/
LOCATION:NELSON HOCKEY\, SAXTON FIELDS\, Nelson\, Tasman/Nelson\, 7011\, New Zealand
CATEGORIES:Nelson U18 Boys-Girls Trials
ATTACH;FMTTYPE=image/jpeg:https://www.nelsonhockey.org.nz/wp-content/uploads/2023/07/Nelson-Hockey_NHA-Representative_Facebook-Banner_Nov22.jpg
GEO:-41.3280994;173.2181794
X-APPLE-STRUCTURED-LOCATION;VALUE=URI;X-ADDRESS=NELSON HOCKEY SAXTON FIELDS Nelson Tasman/Nelson 7011 New Zealand;X-APPLE-RADIUS=500;X-TITLE=SAXTON FIELDS:geo:173.2181794,-41.3280994
END:VEVENT
BEGIN:VEVENT
DTSTART;VALUE=DATE:20240329
DTEND;VALUE=DATE:20240330
DTSTAMP:20260425T114231
CREATED:20231126T213206Z
LAST-MODIFIED:20231126T213206Z
UID:20071-1711670400-1711756799@www.nelsonhockey.org.nz
SUMMARY:Good Friday
DESCRIPTION:
URL:https://www.nelsonhockey.org.nz/event/good-friday-2/
CATEGORIES:PUBLIC HOLIDAY
ATTACH;FMTTYPE=image/png:https://www.nelsonhockey.org.nz/wp-content/uploads/2023/11/good-friday.png
END:VEVENT
BEGIN:VEVENT
DTSTART;VALUE=DATE:20240401
DTEND;VALUE=DATE:20240402
DTSTAMP:20260425T114231
CREATED:20231127T211440Z
LAST-MODIFIED:20231127T211440Z
UID:20093-1711929600-1712015999@www.nelsonhockey.org.nz
SUMMARY:Easter Monday
DESCRIPTION:
URL:https://www.nelsonhockey.org.nz/event/easter-monday-2/
CATEGORIES:PUBLIC HOLIDAY
ATTACH;FMTTYPE=image/jpeg:https://www.nelsonhockey.org.nz/wp-content/uploads/2021/03/Happy-Easter.jpg
END:VEVENT
BEGIN:VEVENT
DTSTART;VALUE=DATE:20240403
DTEND;VALUE=DATE:20240404
DTSTAMP:20260425T114231
CREATED:20231127T211810Z
LAST-MODIFIED:20231127T211810Z
UID:20097-1712102400-1712188799@www.nelsonhockey.org.nz
SUMMARY:NHA U18 M&W Team Training Trials
DESCRIPTION:
URL:https://www.nelsonhockey.org.nz/event/nha-u18-mw-team-training-trials/
LOCATION:NELSON HOCKEY\, SAXTON FIELDS\, Nelson\, Tasman/Nelson\, 7011\, New Zealand
CATEGORIES:Nelson U18 Boys-Girls Trials
ATTACH;FMTTYPE=image/jpeg:https://www.nelsonhockey.org.nz/wp-content/uploads/2023/07/Nelson-Hockey_NHA-Representative_Facebook-Banner_Nov22.jpg
GEO:-41.3280994;173.2181794
X-APPLE-STRUCTURED-LOCATION;VALUE=URI;X-ADDRESS=NELSON HOCKEY SAXTON FIELDS Nelson Tasman/Nelson 7011 New Zealand;X-APPLE-RADIUS=500;X-TITLE=SAXTON FIELDS:geo:173.2181794,-41.3280994
END:VEVENT
BEGIN:VEVENT
DTSTART;TZID=Pacific/Auckland:20240406T083000
DTEND;TZID=Pacific/Auckland:20240406T170000
DTSTAMP:20260425T114231
CREATED:20231124T034005Z
LAST-MODIFIED:20231124T034005Z
UID:19976-1712392200-1712422800@www.nelsonhockey.org.nz
SUMMARY:Red Cross-First Aid Course
DESCRIPTION:  \n2024 RED CROSS FIRST AID COURSE \nFor those who have never completed a course before\, or who have expired certificates \n  \nComprehensive Participants \nDay 1 Saturday April 6th– 8.30am – 5.00pm \nDay 2 Sunday April 7th– 8.30am – 12.30pm \n$211.51 incl. GST per person. \n  \n  \nRevalidation First Aid course \nFor those who have a current First Aid certificate that is about to expire\, \nor hasn’t expired by more than 3 months \n  \nRevalidation Participants \nDay 2 Sunday April 7th – 8.30am -3.00pm. \n$126.01 incl. GST per person. \n  \nRegistration deadline –  Thursday 28th March – 5:00 PM. \n  \nOpen to all\, community members and Nelson Hockey community. \n  \nNelson Hockey will offer a 20% discount to any members of the Nelson Hockey community (players or administrators-to be approved by NHA OPM \n  \nFor Information – \nAny questions\, please contact NHA directly \n– admin@nelsonhockey.org.nz or manager@nelsonhockey.org.nz \n  \nwww.nelsonhockey.org.nz – PH: 03-5479988 \n  \n  \n 
URL:https://www.nelsonhockey.org.nz/event/red-cross-first-aid-course/
LOCATION:NELSON HOCKEY\, SAXTON FIELDS\, Nelson\, Tasman/Nelson\, 7011\, New Zealand
CATEGORIES:Courses
ATTACH;FMTTYPE=image/jpeg:https://www.nelsonhockey.org.nz/wp-content/uploads/2023/11/2024-FIRST-AID-COURSE.jpg
GEO:-41.3280994;173.2181794
X-APPLE-STRUCTURED-LOCATION;VALUE=URI;X-ADDRESS=NELSON HOCKEY SAXTON FIELDS Nelson Tasman/Nelson 7011 New Zealand;X-APPLE-RADIUS=500;X-TITLE=SAXTON FIELDS:geo:173.2181794,-41.3280994
END:VEVENT
BEGIN:VEVENT
DTSTART;TZID=Pacific/Auckland:20240407T083000
DTEND;TZID=Pacific/Auckland:20240407T123000
DTSTAMP:20260425T114231
CREATED:20231124T034201Z
LAST-MODIFIED:20231124T034201Z
UID:19979-1712478600-1712493000@www.nelsonhockey.org.nz
SUMMARY:Red Cross-First Aid Course
DESCRIPTION:  \n2024 RED CROSS FIRST AID COURSE \nFor those who have never completed a course before\, or who have expired certificates \n  \nComprehensive Participants \nDay 1 Saturday April 6th– 8.30am – 5.00pm \nDay 2 Sunday April 7th– 8.30am – 12.30pm \n$211.51 incl. GST per person. \n  \n  \nRevalidation First Aid course \nFor those who have a current First Aid certificate that is about to expire\, \nor hasn’t expired by more than 3 months \n  \nRevalidation Participants \nDay 2 Sunday April 7th – 8.30am -3.00pm. \n$126.01 incl. GST per person. \n  \nRegistration deadline –  Thursday 28th March – 5:00 PM. \n  \nOpen to all\, community members and Nelson Hockey community. \n  \nNelson Hockey will offer a 20% discount to any members of the Nelson Hockey community (players or administrators-to be approved by NHA OPM \n  \nFor Information – \nAny questions\, please contact NHA directly \n– admin@nelsonhockey.org.nz or manager@nelsonhockey.org.nz \n  \nwww.nelsonhockey.org.nz – PH: 03-5479988 \n  \n  \n 
URL:https://www.nelsonhockey.org.nz/event/red-cross-first-aid-course-2/
LOCATION:NELSON HOCKEY\, SAXTON FIELDS\, Nelson\, Tasman/Nelson\, 7011\, New Zealand
CATEGORIES:Courses
ATTACH;FMTTYPE=image/jpeg:https://www.nelsonhockey.org.nz/wp-content/uploads/2023/11/2024-FIRST-AID-COURSE.jpg
GEO:-41.3280994;173.2181794
X-APPLE-STRUCTURED-LOCATION;VALUE=URI;X-ADDRESS=NELSON HOCKEY SAXTON FIELDS Nelson Tasman/Nelson 7011 New Zealand;X-APPLE-RADIUS=500;X-TITLE=SAXTON FIELDS:geo:173.2181794,-41.3280994
END:VEVENT
BEGIN:VEVENT
DTSTART;VALUE=DATE:20240410
DTEND;VALUE=DATE:20240411
DTSTAMP:20260425T114231
CREATED:20231127T211942Z
LAST-MODIFIED:20231127T211942Z
UID:20099-1712707200-1712793599@www.nelsonhockey.org.nz
SUMMARY:NHA U18 M&W Training+Team annoucement
DESCRIPTION:
URL:https://www.nelsonhockey.org.nz/event/nha-u18-mw-trainingteam-annoucement/
LOCATION:NELSON HOCKEY\, SAXTON FIELDS\, Nelson\, Tasman/Nelson\, 7011\, New Zealand
CATEGORIES:Nelson U18 Boys-Girls Trials
ATTACH;FMTTYPE=image/jpeg:https://www.nelsonhockey.org.nz/wp-content/uploads/2023/07/Nelson-Hockey_NHA-Representative_Facebook-Banner_Nov22.jpg
GEO:-41.3280994;173.2181794
X-APPLE-STRUCTURED-LOCATION;VALUE=URI;X-ADDRESS=NELSON HOCKEY SAXTON FIELDS Nelson Tasman/Nelson 7011 New Zealand;X-APPLE-RADIUS=500;X-TITLE=SAXTON FIELDS:geo:173.2181794,-41.3280994
END:VEVENT
BEGIN:VEVENT
DTSTART;VALUE=DATE:20240411
DTEND;VALUE=DATE:20240412
DTSTAMP:20260425T114231
CREATED:20231127T211638Z
LAST-MODIFIED:20231127T211638Z
UID:20095-1712793600-1712879999@www.nelsonhockey.org.nz
SUMMARY:NHA Sr.& Jr. Umpires Course
DESCRIPTION:
URL:https://www.nelsonhockey.org.nz/event/nha-sr-jr-umpires-course/
LOCATION:NELSON HOCKEY\, SAXTON FIELDS\, Nelson\, Tasman/Nelson\, 7011\, New Zealand
CATEGORIES:Umpire Course
ATTACH;FMTTYPE=image/jpeg:https://www.nelsonhockey.org.nz/wp-content/uploads/2022/12/Nelson-Hockey_Umpires_Facebook-Banner_Nov22.jpg
GEO:-41.3280994;173.2181794
X-APPLE-STRUCTURED-LOCATION;VALUE=URI;X-ADDRESS=NELSON HOCKEY SAXTON FIELDS Nelson Tasman/Nelson 7011 New Zealand;X-APPLE-RADIUS=500;X-TITLE=SAXTON FIELDS:geo:173.2181794,-41.3280994
END:VEVENT
BEGIN:VEVENT
DTSTART;VALUE=DATE:20240415
DTEND;VALUE=DATE:20240427
DTSTAMP:20260425T114231
CREATED:20231127T212101Z
LAST-MODIFIED:20231127T212101Z
UID:20101-1713139200-1714175999@www.nelsonhockey.org.nz
SUMMARY:School Holidays
DESCRIPTION:
URL:https://www.nelsonhockey.org.nz/event/school-holidays-5/
CATEGORIES:School Holidays
ATTACH;FMTTYPE=image/jpeg:https://www.nelsonhockey.org.nz/wp-content/uploads/2022/12/SCHOOL-HOLIDAYS.jpg
END:VEVENT
BEGIN:VEVENT
DTSTART;VALUE=DATE:20240417
DTEND;VALUE=DATE:20240418
DTSTAMP:20260425T114231
CREATED:20231127T212318Z
LAST-MODIFIED:20231127T212318Z
UID:20103-1713312000-1713398399@www.nelsonhockey.org.nz
SUMMARY:NHA U18 M&W Training
DESCRIPTION:
URL:https://www.nelsonhockey.org.nz/event/nha-u18-mw-training/
LOCATION:NELSON HOCKEY\, SAXTON FIELDS\, Nelson\, Tasman/Nelson\, 7011\, New Zealand
CATEGORIES:Nelson U18 Boys-Girls Trials
ATTACH;FMTTYPE=image/jpeg:https://www.nelsonhockey.org.nz/wp-content/uploads/2023/07/Nelson-Hockey_NHA-Representative_Facebook-Banner_Nov22.jpg
GEO:-41.3280994;173.2181794
X-APPLE-STRUCTURED-LOCATION;VALUE=URI;X-ADDRESS=NELSON HOCKEY SAXTON FIELDS Nelson Tasman/Nelson 7011 New Zealand;X-APPLE-RADIUS=500;X-TITLE=SAXTON FIELDS:geo:173.2181794,-41.3280994
END:VEVENT
BEGIN:VEVENT
DTSTART;VALUE=DATE:20240425
DTEND;VALUE=DATE:20240426
DTSTAMP:20260425T114231
CREATED:20231127T212453Z
LAST-MODIFIED:20231127T212453Z
UID:20108-1714003200-1714089599@www.nelsonhockey.org.nz
SUMMARY:Anzac Day
DESCRIPTION:
URL:https://www.nelsonhockey.org.nz/event/anzac-day-2/
CATEGORIES:PUBLIC HOLIDAY
ATTACH;FMTTYPE=image/jpeg:https://www.nelsonhockey.org.nz/wp-content/uploads/2021/03/anzac.jpg
END:VEVENT
BEGIN:VEVENT
DTSTART;VALUE=DATE:20240427
DTEND;VALUE=DATE:20240428
DTSTAMP:20260425T114231
CREATED:20231127T212709Z
LAST-MODIFIED:20231127T212709Z
UID:20110-1714176000-1714262399@www.nelsonhockey.org.nz
SUMMARY:Club Pre-Season Tournament
DESCRIPTION:
URL:https://www.nelsonhockey.org.nz/event/club-pre-season-tournament/
LOCATION:NELSON HOCKEY\, SAXTON FIELDS\, Nelson\, Tasman/Nelson\, 7011\, New Zealand
CATEGORIES:Tournaments Home
ATTACH;FMTTYPE=image/jpeg:https://www.nelsonhockey.org.nz/wp-content/uploads/2023/11/2024-NHA-CUP-Pre-Season-Tournament-1.jpg
GEO:-41.3280994;173.2181794
X-APPLE-STRUCTURED-LOCATION;VALUE=URI;X-ADDRESS=NELSON HOCKEY SAXTON FIELDS Nelson Tasman/Nelson 7011 New Zealand;X-APPLE-RADIUS=500;X-TITLE=SAXTON FIELDS:geo:173.2181794,-41.3280994
END:VEVENT
BEGIN:VEVENT
DTSTART;VALUE=DATE:20240429
DTEND;VALUE=DATE:20240706
DTSTAMP:20260425T114231
CREATED:20231127T212851Z
LAST-MODIFIED:20231127T212851Z
UID:20112-1714348800-1720223999@www.nelsonhockey.org.nz
SUMMARY:Term 2
DESCRIPTION:
URL:https://www.nelsonhockey.org.nz/event/term-2/
CATEGORIES:Term 2
ATTACH;FMTTYPE=image/jpeg:https://www.nelsonhockey.org.nz/wp-content/uploads/2023/11/Back-to-school.jpg
END:VEVENT
BEGIN:VEVENT
DTSTART;VALUE=DATE:20240501
DTEND;VALUE=DATE:20240502
DTSTAMP:20260425T114231
CREATED:20231127T212318Z
LAST-MODIFIED:20231127T212318Z
UID:20105-1714521600-1714607999@www.nelsonhockey.org.nz
SUMMARY:NHA U18 M&W Training
DESCRIPTION:
URL:https://www.nelsonhockey.org.nz/event/nha-u18-mw-training/2024-05-01/
LOCATION:NELSON HOCKEY\, SAXTON FIELDS\, Nelson\, Tasman/Nelson\, 7011\, New Zealand
CATEGORIES:Nelson U18 Boys-Girls Trials
ATTACH;FMTTYPE=image/jpeg:https://www.nelsonhockey.org.nz/wp-content/uploads/2023/07/Nelson-Hockey_NHA-Representative_Facebook-Banner_Nov22.jpg
GEO:-41.3280994;173.2181794
X-APPLE-STRUCTURED-LOCATION;VALUE=URI;X-ADDRESS=NELSON HOCKEY SAXTON FIELDS Nelson Tasman/Nelson 7011 New Zealand;X-APPLE-RADIUS=500;X-TITLE=SAXTON FIELDS:geo:173.2181794,-41.3280994
END:VEVENT
BEGIN:VEVENT
DTSTART;TZID=Pacific/Auckland:20240501T183000
DTEND;TZID=Pacific/Auckland:20240501T193000
DTSTAMP:20260425T114231
CREATED:20231127T222455Z
LAST-MODIFIED:20240527T062547Z
UID:20115-1714588200-1714591800@www.nelsonhockey.org.nz
SUMMARY:Gk Training Program
DESCRIPTION:
URL:https://www.nelsonhockey.org.nz/event/gk-training-program/2024-05-01/
LOCATION:NELSON HOCKEY\, SAXTON FIELDS\, Nelson\, Tasman/Nelson\, 7011\, New Zealand
CATEGORIES:GK Training
ATTACH;FMTTYPE=image/jpeg:https://www.nelsonhockey.org.nz/wp-content/uploads/2024/05/2024-NHA-GK-Training-Program-1.jpg
GEO:-41.3280994;173.2181794
X-APPLE-STRUCTURED-LOCATION;VALUE=URI;X-ADDRESS=NELSON HOCKEY SAXTON FIELDS Nelson Tasman/Nelson 7011 New Zealand;X-APPLE-RADIUS=500;X-TITLE=SAXTON FIELDS:geo:173.2181794,-41.3280994
END:VEVENT
BEGIN:VEVENT
DTSTART;TZID=Pacific/Auckland:20240502T160000
DTEND;TZID=Pacific/Auckland:20240502T203000
DTSTAMP:20260425T114231
CREATED:20231127T222928Z
LAST-MODIFIED:20231127T222928Z
UID:20127-1714665600-1714681800@www.nelsonhockey.org.nz
SUMMARY:U13&U15 Player Development Program II & U18 Player Performance Program II
DESCRIPTION:  \n2024 U13/U15 Development Program II \n2024 U18 Performance Program II \nFive week program – Thursday 2nd May to 30th May 2024 \nSaxton Field Hockey Turfs \n  \nThe program is run by the Nelson Hockey Performance \nOfficer and will focus on fitness\, skill\, technical and tactical development. \n\nU13: Thursday’s – 4:00pm – 5:00pm \nCost: $60 for the five week program \nU15: Thursday’s – 5:00pm – 6:30pm \nCost: $80 for the five week program \nU18: Thursday’s – 6:30pm – 8:30pm \nCost: $100 for the five week program \n\nDirect debit with reference of ‘name’ and ‘Development’ to: \n03-1354-0452914-16 \n\nRegistrations close 25th April 2023  \nContact Daniel Hobbs for further information on rdm@nelsonhockey.org.nz
URL:https://www.nelsonhockey.org.nz/event/u13u15-player-development-program-ii-u18-player-performance-program-ii/
LOCATION:NELSON HOCKEY\, SAXTON FIELDS\, Nelson\, Tasman/Nelson\, 7011\, New Zealand
CATEGORIES:Nelson Hockey Development Program
ATTACH;FMTTYPE=image/jpeg:https://www.nelsonhockey.org.nz/wp-content/uploads/2023/11/2024-NHA-U13-U15-DEVELOPMENT-PROGRAM-II.jpg
GEO:-41.3280994;173.2181794
X-APPLE-STRUCTURED-LOCATION;VALUE=URI;X-ADDRESS=NELSON HOCKEY SAXTON FIELDS Nelson Tasman/Nelson 7011 New Zealand;X-APPLE-RADIUS=500;X-TITLE=SAXTON FIELDS:geo:173.2181794,-41.3280994
END:VEVENT
BEGIN:VEVENT
DTSTART;TZID=Pacific/Auckland:20240504T103000
DTEND;TZID=Pacific/Auckland:20240504T123000
DTSTAMP:20260425T114231
CREATED:20231127T223243Z
LAST-MODIFIED:20231127T223243Z
UID:20133-1714818600-1714825800@www.nelsonhockey.org.nz
SUMMARY:Hockey Open Day
DESCRIPTION:
URL:https://www.nelsonhockey.org.nz/event/hockey-open-day/
LOCATION:NELSON HOCKEY\, SAXTON FIELDS\, Nelson\, Tasman/Nelson\, 7011\, New Zealand
CATEGORIES:Events
ATTACH;FMTTYPE=image/jpeg:https://www.nelsonhockey.org.nz/wp-content/uploads/2023/11/2024-NHA-OPEN-DAY.jpg
GEO:-41.3280994;173.2181794
X-APPLE-STRUCTURED-LOCATION;VALUE=URI;X-ADDRESS=NELSON HOCKEY SAXTON FIELDS Nelson Tasman/Nelson 7011 New Zealand;X-APPLE-RADIUS=500;X-TITLE=SAXTON FIELDS:geo:173.2181794,-41.3280994
END:VEVENT
BEGIN:VEVENT
DTSTART;VALUE=DATE:20240508
DTEND;VALUE=DATE:20240509
DTSTAMP:20260425T114231
CREATED:20231127T212318Z
LAST-MODIFIED:20231127T212318Z
UID:20106-1715126400-1715212799@www.nelsonhockey.org.nz
SUMMARY:NHA U18 M&W Training
DESCRIPTION:
URL:https://www.nelsonhockey.org.nz/event/nha-u18-mw-training/2024-05-08/
LOCATION:NELSON HOCKEY\, SAXTON FIELDS\, Nelson\, Tasman/Nelson\, 7011\, New Zealand
CATEGORIES:Nelson U18 Boys-Girls Trials
ATTACH;FMTTYPE=image/jpeg:https://www.nelsonhockey.org.nz/wp-content/uploads/2023/07/Nelson-Hockey_NHA-Representative_Facebook-Banner_Nov22.jpg
GEO:-41.3280994;173.2181794
X-APPLE-STRUCTURED-LOCATION;VALUE=URI;X-ADDRESS=NELSON HOCKEY SAXTON FIELDS Nelson Tasman/Nelson 7011 New Zealand;X-APPLE-RADIUS=500;X-TITLE=SAXTON FIELDS:geo:173.2181794,-41.3280994
END:VEVENT
BEGIN:VEVENT
DTSTART;TZID=Pacific/Auckland:20240508T183000
DTEND;TZID=Pacific/Auckland:20240508T193000
DTSTAMP:20260425T114231
CREATED:20231127T222455Z
LAST-MODIFIED:20240527T062548Z
UID:21246-1715193000-1715196600@www.nelsonhockey.org.nz
SUMMARY:Gk Training Program
DESCRIPTION:
URL:https://www.nelsonhockey.org.nz/event/gk-training-program/2024-05-08/
LOCATION:NELSON HOCKEY\, SAXTON FIELDS\, Nelson\, Tasman/Nelson\, 7011\, New Zealand
CATEGORIES:GK Training
ATTACH;FMTTYPE=image/jpeg:https://www.nelsonhockey.org.nz/wp-content/uploads/2024/05/2024-NHA-GK-Training-Program-1.jpg
GEO:-41.3280994;173.2181794
X-APPLE-STRUCTURED-LOCATION;VALUE=URI;X-ADDRESS=NELSON HOCKEY SAXTON FIELDS Nelson Tasman/Nelson 7011 New Zealand;X-APPLE-RADIUS=500;X-TITLE=SAXTON FIELDS:geo:173.2181794,-41.3280994
END:VEVENT
BEGIN:VEVENT
DTSTART;TZID=Pacific/Auckland:20240509T160000
DTEND;TZID=Pacific/Auckland:20240509T203000
DTSTAMP:20260425T114231
CREATED:20231127T222928Z
LAST-MODIFIED:20231127T222928Z
UID:20128-1715270400-1715286600@www.nelsonhockey.org.nz
SUMMARY:U13&U15 Player Development Program II & U18 Player Performance Program II
DESCRIPTION:  \n2024 U13/U15 Development Program II \n2024 U18 Performance Program II \nFive week program – Thursday 2nd May to 30th May 2024 \nSaxton Field Hockey Turfs \n  \nThe program is run by the Nelson Hockey Performance \nOfficer and will focus on fitness\, skill\, technical and tactical development. \n\nU13: Thursday’s – 4:00pm – 5:00pm \nCost: $60 for the five week program \nU15: Thursday’s – 5:00pm – 6:30pm \nCost: $80 for the five week program \nU18: Thursday’s – 6:30pm – 8:30pm \nCost: $100 for the five week program \n\nDirect debit with reference of ‘name’ and ‘Development’ to: \n03-1354-0452914-16 \n\nRegistrations close 25th April 2023  \nContact Daniel Hobbs for further information on rdm@nelsonhockey.org.nz
URL:https://www.nelsonhockey.org.nz/event/u13u15-player-development-program-ii-u18-player-performance-program-ii/2024-05-09/
LOCATION:NELSON HOCKEY\, SAXTON FIELDS\, Nelson\, Tasman/Nelson\, 7011\, New Zealand
CATEGORIES:Nelson Hockey Development Program
ATTACH;FMTTYPE=image/jpeg:https://www.nelsonhockey.org.nz/wp-content/uploads/2023/11/2024-NHA-U13-U15-DEVELOPMENT-PROGRAM-II.jpg
GEO:-41.3280994;173.2181794
X-APPLE-STRUCTURED-LOCATION;VALUE=URI;X-ADDRESS=NELSON HOCKEY SAXTON FIELDS Nelson Tasman/Nelson 7011 New Zealand;X-APPLE-RADIUS=500;X-TITLE=SAXTON FIELDS:geo:173.2181794,-41.3280994
END:VEVENT
BEGIN:VEVENT
DTSTART;VALUE=DATE:20240511
DTEND;VALUE=DATE:20240513
DTSTAMP:20260425T114231
CREATED:20231127T223429Z
LAST-MODIFIED:20231127T223429Z
UID:20136-1715385600-1715558399@www.nelsonhockey.org.nz
SUMMARY:U18 M&W Stirling & Dodson Cup
DESCRIPTION:
URL:https://www.nelsonhockey.org.nz/event/u18-mw-stirling-dodson-cup/
LOCATION:NELSON HOCKEY\, SAXTON FIELDS\, Nelson\, Tasman/Nelson\, 7011\, New Zealand
CATEGORIES:Rep Tournaments
ATTACH;FMTTYPE=image/jpeg:https://www.nelsonhockey.org.nz/wp-content/uploads/2023/07/Nelson-Hockey_NHA-Representative_Facebook-Banner_Nov22.jpg
GEO:-41.3280994;173.2181794
X-APPLE-STRUCTURED-LOCATION;VALUE=URI;X-ADDRESS=NELSON HOCKEY SAXTON FIELDS Nelson Tasman/Nelson 7011 New Zealand;X-APPLE-RADIUS=500;X-TITLE=SAXTON FIELDS:geo:173.2181794,-41.3280994
END:VEVENT
BEGIN:VEVENT
DTSTART;VALUE=DATE:20240512
DTEND;VALUE=DATE:20240513
DTSTAMP:20260425T114231
CREATED:20231127T224010Z
LAST-MODIFIED:20231127T224010Z
UID:20142-1715472000-1715558399@www.nelsonhockey.org.nz
SUMMARY:TD U18 Training Camp
DESCRIPTION:
URL:https://www.nelsonhockey.org.nz/event/td-u18-training-camp/
LOCATION:NELSON HOCKEY\, SAXTON FIELDS\, Nelson\, Tasman/Nelson\, 7011\, New Zealand
CATEGORIES:Hockey Clinics-Training Camps
ATTACH;FMTTYPE=image/png:https://www.nelsonhockey.org.nz/wp-content/uploads/2022/12/Tasman-Districts.png
GEO:-41.3280994;173.2181794
X-APPLE-STRUCTURED-LOCATION;VALUE=URI;X-ADDRESS=NELSON HOCKEY SAXTON FIELDS Nelson Tasman/Nelson 7011 New Zealand;X-APPLE-RADIUS=500;X-TITLE=SAXTON FIELDS:geo:173.2181794,-41.3280994
END:VEVENT
BEGIN:VEVENT
DTSTART;TZID=Pacific/Auckland:20240515T183000
DTEND;TZID=Pacific/Auckland:20240515T193000
DTSTAMP:20260425T114231
CREATED:20231127T222455Z
LAST-MODIFIED:20240527T062549Z
UID:21247-1715797800-1715801400@www.nelsonhockey.org.nz
SUMMARY:Gk Training Program
DESCRIPTION:
URL:https://www.nelsonhockey.org.nz/event/gk-training-program/2024-05-15/
LOCATION:NELSON HOCKEY\, SAXTON FIELDS\, Nelson\, Tasman/Nelson\, 7011\, New Zealand
CATEGORIES:GK Training
ATTACH;FMTTYPE=image/jpeg:https://www.nelsonhockey.org.nz/wp-content/uploads/2024/05/2024-NHA-GK-Training-Program-1.jpg
GEO:-41.3280994;173.2181794
X-APPLE-STRUCTURED-LOCATION;VALUE=URI;X-ADDRESS=NELSON HOCKEY SAXTON FIELDS Nelson Tasman/Nelson 7011 New Zealand;X-APPLE-RADIUS=500;X-TITLE=SAXTON FIELDS:geo:173.2181794,-41.3280994
END:VEVENT
END:VCALENDAR