BEGIN:VCALENDAR
VERSION:2.0
PRODID:-//Nelson Hockey Association (1993) Inc - ECPv6.15.16//NONSGML v1.0//EN
CALSCALE:GREGORIAN
METHOD:PUBLISH
X-WR-CALNAME:Nelson Hockey Association (1993) Inc
X-ORIGINAL-URL:https://www.nelsonhockey.org.nz
X-WR-CALDESC:Events for Nelson Hockey Association (1993) Inc
REFRESH-INTERVAL;VALUE=DURATION:PT1H
X-Robots-Tag:noindex
X-PUBLISHED-TTL:PT1H
BEGIN:VTIMEZONE
TZID:Pacific/Auckland
BEGIN:STANDARD
TZOFFSETFROM:+1300
TZOFFSETTO:+1200
TZNAME:NZST
DTSTART:20230401T140000
END:STANDARD
BEGIN:DAYLIGHT
TZOFFSETFROM:+1200
TZOFFSETTO:+1300
TZNAME:NZDT
DTSTART:20230923T140000
END:DAYLIGHT
BEGIN:STANDARD
TZOFFSETFROM:+1300
TZOFFSETTO:+1200
TZNAME:NZST
DTSTART:20240406T140000
END:STANDARD
BEGIN:DAYLIGHT
TZOFFSETFROM:+1200
TZOFFSETTO:+1300
TZNAME:NZDT
DTSTART:20240928T140000
END:DAYLIGHT
BEGIN:STANDARD
TZOFFSETFROM:+1300
TZOFFSETTO:+1200
TZNAME:NZST
DTSTART:20250405T140000
END:STANDARD
BEGIN:DAYLIGHT
TZOFFSETFROM:+1200
TZOFFSETTO:+1300
TZNAME:NZDT
DTSTART:20250927T140000
END:DAYLIGHT
END:VTIMEZONE
BEGIN:VEVENT
DTSTART;VALUE=DATE:20240415
DTEND;VALUE=DATE:20240427
DTSTAMP:20260426T140706
CREATED:20231127T212101Z
LAST-MODIFIED:20231127T212101Z
UID:20101-1713139200-1714175999@www.nelsonhockey.org.nz
SUMMARY:School Holidays
DESCRIPTION:
URL:https://www.nelsonhockey.org.nz/event/school-holidays-5/
LOCATION:Tasman/Nelson
CATEGORIES:School Holidays
ATTACH;FMTTYPE=image/jpeg:https://www.nelsonhockey.org.nz/wp-content/uploads/2022/12/SCHOOL-HOLIDAYS.jpg
END:VEVENT
BEGIN:VEVENT
DTSTART;VALUE=DATE:20240425
DTEND;VALUE=DATE:20240426
DTSTAMP:20260426T140706
CREATED:20231127T212453Z
LAST-MODIFIED:20231127T212453Z
UID:20108-1714003200-1714089599@www.nelsonhockey.org.nz
SUMMARY:Anzac Day
DESCRIPTION:
URL:https://www.nelsonhockey.org.nz/event/anzac-day-2/
LOCATION:Tasman/Nelson
CATEGORIES:PUBLIC HOLIDAY
ATTACH;FMTTYPE=image/jpeg:https://www.nelsonhockey.org.nz/wp-content/uploads/2021/03/anzac.jpg
END:VEVENT
BEGIN:VEVENT
DTSTART;VALUE=DATE:20240427
DTEND;VALUE=DATE:20240428
DTSTAMP:20260426T140706
CREATED:20231127T212709Z
LAST-MODIFIED:20231127T212709Z
UID:20110-1714176000-1714262399@www.nelsonhockey.org.nz
SUMMARY:Club Pre-Season Tournament
DESCRIPTION:
URL:https://www.nelsonhockey.org.nz/event/club-pre-season-tournament/
LOCATION:NELSON HOCKEY\, SAXTON FIELDS\, Nelson\, Tasman/Nelson\, 7011\, New Zealand
CATEGORIES:Tournaments Home
ATTACH;FMTTYPE=image/jpeg:https://www.nelsonhockey.org.nz/wp-content/uploads/2023/11/2024-NHA-CUP-Pre-Season-Tournament-1.jpg
GEO:-41.3280994;173.2181794
X-APPLE-STRUCTURED-LOCATION;VALUE=URI;X-ADDRESS=NELSON HOCKEY SAXTON FIELDS Nelson Tasman/Nelson 7011 New Zealand;X-APPLE-RADIUS=500;X-TITLE=SAXTON FIELDS:geo:173.2181794,-41.3280994
END:VEVENT
BEGIN:VEVENT
DTSTART;VALUE=DATE:20240429
DTEND;VALUE=DATE:20240706
DTSTAMP:20260426T140706
CREATED:20231127T212851Z
LAST-MODIFIED:20231127T212851Z
UID:20112-1714348800-1720223999@www.nelsonhockey.org.nz
SUMMARY:Term 2
DESCRIPTION:
URL:https://www.nelsonhockey.org.nz/event/term-2/
LOCATION:Tasman/Nelson
CATEGORIES:Term 2
ATTACH;FMTTYPE=image/jpeg:https://www.nelsonhockey.org.nz/wp-content/uploads/2023/11/Back-to-school.jpg
END:VEVENT
BEGIN:VEVENT
DTSTART;VALUE=DATE:20240501
DTEND;VALUE=DATE:20240502
DTSTAMP:20260426T140706
CREATED:20231127T212318Z
LAST-MODIFIED:20231127T212318Z
UID:20105-1714521600-1714607999@www.nelsonhockey.org.nz
SUMMARY:NHA U18 M&W Training
DESCRIPTION:
URL:https://www.nelsonhockey.org.nz/event/nha-u18-mw-training/2024-05-01/
LOCATION:NELSON HOCKEY\, SAXTON FIELDS\, Nelson\, Tasman/Nelson\, 7011\, New Zealand
CATEGORIES:Nelson U18 Boys-Girls Trials
ATTACH;FMTTYPE=image/jpeg:https://www.nelsonhockey.org.nz/wp-content/uploads/2023/07/Nelson-Hockey_NHA-Representative_Facebook-Banner_Nov22.jpg
GEO:-41.3280994;173.2181794
X-APPLE-STRUCTURED-LOCATION;VALUE=URI;X-ADDRESS=NELSON HOCKEY SAXTON FIELDS Nelson Tasman/Nelson 7011 New Zealand;X-APPLE-RADIUS=500;X-TITLE=SAXTON FIELDS:geo:173.2181794,-41.3280994
END:VEVENT
BEGIN:VEVENT
DTSTART;TZID=Pacific/Auckland:20240501T183000
DTEND;TZID=Pacific/Auckland:20240501T193000
DTSTAMP:20260426T140706
CREATED:20231127T222455Z
LAST-MODIFIED:20240527T062547Z
UID:20115-1714588200-1714591800@www.nelsonhockey.org.nz
SUMMARY:Gk Training Program
DESCRIPTION:
URL:https://www.nelsonhockey.org.nz/event/gk-training-program/2024-05-01/
LOCATION:NELSON HOCKEY\, SAXTON FIELDS\, Nelson\, Tasman/Nelson\, 7011\, New Zealand
CATEGORIES:GK Training
ATTACH;FMTTYPE=image/jpeg:https://www.nelsonhockey.org.nz/wp-content/uploads/2024/05/2024-NHA-GK-Training-Program-1.jpg
GEO:-41.3280994;173.2181794
X-APPLE-STRUCTURED-LOCATION;VALUE=URI;X-ADDRESS=NELSON HOCKEY SAXTON FIELDS Nelson Tasman/Nelson 7011 New Zealand;X-APPLE-RADIUS=500;X-TITLE=SAXTON FIELDS:geo:173.2181794,-41.3280994
END:VEVENT
BEGIN:VEVENT
DTSTART;TZID=Pacific/Auckland:20240502T160000
DTEND;TZID=Pacific/Auckland:20240502T203000
DTSTAMP:20260426T140706
CREATED:20231127T222928Z
LAST-MODIFIED:20231127T222928Z
UID:20127-1714665600-1714681800@www.nelsonhockey.org.nz
SUMMARY:U13&U15 Player Development Program II & U18 Player Performance Program II
DESCRIPTION:  \n2024 U13/U15 Development Program II \n2024 U18 Performance Program II \nFive week program – Thursday 2nd May to 30th May 2024 \nSaxton Field Hockey Turfs \n  \nThe program is run by the Nelson Hockey Performance \nOfficer and will focus on fitness\, skill\, technical and tactical development. \n\nU13: Thursday’s – 4:00pm – 5:00pm \nCost: $60 for the five week program \nU15: Thursday’s – 5:00pm – 6:30pm \nCost: $80 for the five week program \nU18: Thursday’s – 6:30pm – 8:30pm \nCost: $100 for the five week program \n\nDirect debit with reference of ‘name’ and ‘Development’ to: \n03-1354-0452914-16 \n\nRegistrations close 25th April 2023  \nContact Daniel Hobbs for further information on rdm@nelsonhockey.org.nz
URL:https://www.nelsonhockey.org.nz/event/u13u15-player-development-program-ii-u18-player-performance-program-ii/
LOCATION:NELSON HOCKEY\, SAXTON FIELDS\, Nelson\, Tasman/Nelson\, 7011\, New Zealand
CATEGORIES:Nelson Hockey Development Program
ATTACH;FMTTYPE=image/jpeg:https://www.nelsonhockey.org.nz/wp-content/uploads/2023/11/2024-NHA-U13-U15-DEVELOPMENT-PROGRAM-II.jpg
GEO:-41.3280994;173.2181794
X-APPLE-STRUCTURED-LOCATION;VALUE=URI;X-ADDRESS=NELSON HOCKEY SAXTON FIELDS Nelson Tasman/Nelson 7011 New Zealand;X-APPLE-RADIUS=500;X-TITLE=SAXTON FIELDS:geo:173.2181794,-41.3280994
END:VEVENT
BEGIN:VEVENT
DTSTART;TZID=Pacific/Auckland:20240504T103000
DTEND;TZID=Pacific/Auckland:20240504T123000
DTSTAMP:20260426T140706
CREATED:20231127T223243Z
LAST-MODIFIED:20231127T223243Z
UID:20133-1714818600-1714825800@www.nelsonhockey.org.nz
SUMMARY:Hockey Open Day
DESCRIPTION:
URL:https://www.nelsonhockey.org.nz/event/hockey-open-day/
LOCATION:NELSON HOCKEY\, SAXTON FIELDS\, Nelson\, Tasman/Nelson\, 7011\, New Zealand
CATEGORIES:Events
ATTACH;FMTTYPE=image/jpeg:https://www.nelsonhockey.org.nz/wp-content/uploads/2023/11/2024-NHA-OPEN-DAY.jpg
GEO:-41.3280994;173.2181794
X-APPLE-STRUCTURED-LOCATION;VALUE=URI;X-ADDRESS=NELSON HOCKEY SAXTON FIELDS Nelson Tasman/Nelson 7011 New Zealand;X-APPLE-RADIUS=500;X-TITLE=SAXTON FIELDS:geo:173.2181794,-41.3280994
END:VEVENT
BEGIN:VEVENT
DTSTART;VALUE=DATE:20240508
DTEND;VALUE=DATE:20240509
DTSTAMP:20260426T140706
CREATED:20231127T212318Z
LAST-MODIFIED:20231127T212318Z
UID:20106-1715126400-1715212799@www.nelsonhockey.org.nz
SUMMARY:NHA U18 M&W Training
DESCRIPTION:
URL:https://www.nelsonhockey.org.nz/event/nha-u18-mw-training/2024-05-08/
LOCATION:NELSON HOCKEY\, SAXTON FIELDS\, Nelson\, Tasman/Nelson\, 7011\, New Zealand
CATEGORIES:Nelson U18 Boys-Girls Trials
ATTACH;FMTTYPE=image/jpeg:https://www.nelsonhockey.org.nz/wp-content/uploads/2023/07/Nelson-Hockey_NHA-Representative_Facebook-Banner_Nov22.jpg
GEO:-41.3280994;173.2181794
X-APPLE-STRUCTURED-LOCATION;VALUE=URI;X-ADDRESS=NELSON HOCKEY SAXTON FIELDS Nelson Tasman/Nelson 7011 New Zealand;X-APPLE-RADIUS=500;X-TITLE=SAXTON FIELDS:geo:173.2181794,-41.3280994
END:VEVENT
BEGIN:VEVENT
DTSTART;TZID=Pacific/Auckland:20240508T183000
DTEND;TZID=Pacific/Auckland:20240508T193000
DTSTAMP:20260426T140706
CREATED:20231127T222455Z
LAST-MODIFIED:20240527T062548Z
UID:21246-1715193000-1715196600@www.nelsonhockey.org.nz
SUMMARY:Gk Training Program
DESCRIPTION:
URL:https://www.nelsonhockey.org.nz/event/gk-training-program/2024-05-08/
LOCATION:NELSON HOCKEY\, SAXTON FIELDS\, Nelson\, Tasman/Nelson\, 7011\, New Zealand
CATEGORIES:GK Training
ATTACH;FMTTYPE=image/jpeg:https://www.nelsonhockey.org.nz/wp-content/uploads/2024/05/2024-NHA-GK-Training-Program-1.jpg
GEO:-41.3280994;173.2181794
X-APPLE-STRUCTURED-LOCATION;VALUE=URI;X-ADDRESS=NELSON HOCKEY SAXTON FIELDS Nelson Tasman/Nelson 7011 New Zealand;X-APPLE-RADIUS=500;X-TITLE=SAXTON FIELDS:geo:173.2181794,-41.3280994
END:VEVENT
BEGIN:VEVENT
DTSTART;TZID=Pacific/Auckland:20240509T160000
DTEND;TZID=Pacific/Auckland:20240509T203000
DTSTAMP:20260426T140706
CREATED:20231127T222928Z
LAST-MODIFIED:20231127T222928Z
UID:20128-1715270400-1715286600@www.nelsonhockey.org.nz
SUMMARY:U13&U15 Player Development Program II & U18 Player Performance Program II
DESCRIPTION:  \n2024 U13/U15 Development Program II \n2024 U18 Performance Program II \nFive week program – Thursday 2nd May to 30th May 2024 \nSaxton Field Hockey Turfs \n  \nThe program is run by the Nelson Hockey Performance \nOfficer and will focus on fitness\, skill\, technical and tactical development. \n\nU13: Thursday’s – 4:00pm – 5:00pm \nCost: $60 for the five week program \nU15: Thursday’s – 5:00pm – 6:30pm \nCost: $80 for the five week program \nU18: Thursday’s – 6:30pm – 8:30pm \nCost: $100 for the five week program \n\nDirect debit with reference of ‘name’ and ‘Development’ to: \n03-1354-0452914-16 \n\nRegistrations close 25th April 2023  \nContact Daniel Hobbs for further information on rdm@nelsonhockey.org.nz
URL:https://www.nelsonhockey.org.nz/event/u13u15-player-development-program-ii-u18-player-performance-program-ii/2024-05-09/
LOCATION:NELSON HOCKEY\, SAXTON FIELDS\, Nelson\, Tasman/Nelson\, 7011\, New Zealand
CATEGORIES:Nelson Hockey Development Program
ATTACH;FMTTYPE=image/jpeg:https://www.nelsonhockey.org.nz/wp-content/uploads/2023/11/2024-NHA-U13-U15-DEVELOPMENT-PROGRAM-II.jpg
GEO:-41.3280994;173.2181794
X-APPLE-STRUCTURED-LOCATION;VALUE=URI;X-ADDRESS=NELSON HOCKEY SAXTON FIELDS Nelson Tasman/Nelson 7011 New Zealand;X-APPLE-RADIUS=500;X-TITLE=SAXTON FIELDS:geo:173.2181794,-41.3280994
END:VEVENT
BEGIN:VEVENT
DTSTART;VALUE=DATE:20240511
DTEND;VALUE=DATE:20240513
DTSTAMP:20260426T140706
CREATED:20231127T223429Z
LAST-MODIFIED:20231127T223429Z
UID:20136-1715385600-1715558399@www.nelsonhockey.org.nz
SUMMARY:U18 M&W Stirling & Dodson Cup
DESCRIPTION:
URL:https://www.nelsonhockey.org.nz/event/u18-mw-stirling-dodson-cup/
LOCATION:NELSON HOCKEY\, SAXTON FIELDS\, Nelson\, Tasman/Nelson\, 7011\, New Zealand
CATEGORIES:Rep Tournaments
ATTACH;FMTTYPE=image/jpeg:https://www.nelsonhockey.org.nz/wp-content/uploads/2023/07/Nelson-Hockey_NHA-Representative_Facebook-Banner_Nov22.jpg
GEO:-41.3280994;173.2181794
X-APPLE-STRUCTURED-LOCATION;VALUE=URI;X-ADDRESS=NELSON HOCKEY SAXTON FIELDS Nelson Tasman/Nelson 7011 New Zealand;X-APPLE-RADIUS=500;X-TITLE=SAXTON FIELDS:geo:173.2181794,-41.3280994
END:VEVENT
BEGIN:VEVENT
DTSTART;VALUE=DATE:20240512
DTEND;VALUE=DATE:20240513
DTSTAMP:20260426T140706
CREATED:20231127T224010Z
LAST-MODIFIED:20231127T224010Z
UID:20142-1715472000-1715558399@www.nelsonhockey.org.nz
SUMMARY:TD U18 Training Camp
DESCRIPTION:
URL:https://www.nelsonhockey.org.nz/event/td-u18-training-camp/
LOCATION:NELSON HOCKEY\, SAXTON FIELDS\, Nelson\, Tasman/Nelson\, 7011\, New Zealand
CATEGORIES:Hockey Clinics-Training Camps
ATTACH;FMTTYPE=image/png:https://www.nelsonhockey.org.nz/wp-content/uploads/2022/12/Tasman-Districts.png
GEO:-41.3280994;173.2181794
X-APPLE-STRUCTURED-LOCATION;VALUE=URI;X-ADDRESS=NELSON HOCKEY SAXTON FIELDS Nelson Tasman/Nelson 7011 New Zealand;X-APPLE-RADIUS=500;X-TITLE=SAXTON FIELDS:geo:173.2181794,-41.3280994
END:VEVENT
BEGIN:VEVENT
DTSTART;TZID=Pacific/Auckland:20240515T183000
DTEND;TZID=Pacific/Auckland:20240515T193000
DTSTAMP:20260426T140706
CREATED:20231127T222455Z
LAST-MODIFIED:20240527T062549Z
UID:21247-1715797800-1715801400@www.nelsonhockey.org.nz
SUMMARY:Gk Training Program
DESCRIPTION:
URL:https://www.nelsonhockey.org.nz/event/gk-training-program/2024-05-15/
LOCATION:NELSON HOCKEY\, SAXTON FIELDS\, Nelson\, Tasman/Nelson\, 7011\, New Zealand
CATEGORIES:GK Training
ATTACH;FMTTYPE=image/jpeg:https://www.nelsonhockey.org.nz/wp-content/uploads/2024/05/2024-NHA-GK-Training-Program-1.jpg
GEO:-41.3280994;173.2181794
X-APPLE-STRUCTURED-LOCATION;VALUE=URI;X-ADDRESS=NELSON HOCKEY SAXTON FIELDS Nelson Tasman/Nelson 7011 New Zealand;X-APPLE-RADIUS=500;X-TITLE=SAXTON FIELDS:geo:173.2181794,-41.3280994
END:VEVENT
BEGIN:VEVENT
DTSTART;TZID=Pacific/Auckland:20240516T154500
DTEND;TZID=Pacific/Auckland:20240516T183000
DTSTAMP:20260426T140706
CREATED:20231127T225446Z
LAST-MODIFIED:20231127T225446Z
UID:20152-1715874300-1715884200@www.nelsonhockey.org.nz
SUMMARY:Junior Program II
DESCRIPTION:
URL:https://www.nelsonhockey.org.nz/event/junior-program-ii-6/
LOCATION:NELSON HOCKEY\, SAXTON FIELDS\, Nelson\, Tasman/Nelson\, 7011\, New Zealand
CATEGORIES:Junior Programme
ATTACH;FMTTYPE=image/jpeg:https://www.nelsonhockey.org.nz/wp-content/uploads/2023/10/2024-NHA-Junior-Programme-II.jpg
GEO:-41.3280994;173.2181794
X-APPLE-STRUCTURED-LOCATION;VALUE=URI;X-ADDRESS=NELSON HOCKEY SAXTON FIELDS Nelson Tasman/Nelson 7011 New Zealand;X-APPLE-RADIUS=500;X-TITLE=SAXTON FIELDS:geo:173.2181794,-41.3280994
END:VEVENT
BEGIN:VEVENT
DTSTART;TZID=Pacific/Auckland:20240516T160000
DTEND;TZID=Pacific/Auckland:20240516T203000
DTSTAMP:20260426T140706
CREATED:20231127T222928Z
LAST-MODIFIED:20231127T222928Z
UID:20129-1715875200-1715891400@www.nelsonhockey.org.nz
SUMMARY:U13&U15 Player Development Program II & U18 Player Performance Program II
DESCRIPTION:  \n2024 U13/U15 Development Program II \n2024 U18 Performance Program II \nFive week program – Thursday 2nd May to 30th May 2024 \nSaxton Field Hockey Turfs \n  \nThe program is run by the Nelson Hockey Performance \nOfficer and will focus on fitness\, skill\, technical and tactical development. \n\nU13: Thursday’s – 4:00pm – 5:00pm \nCost: $60 for the five week program \nU15: Thursday’s – 5:00pm – 6:30pm \nCost: $80 for the five week program \nU18: Thursday’s – 6:30pm – 8:30pm \nCost: $100 for the five week program \n\nDirect debit with reference of ‘name’ and ‘Development’ to: \n03-1354-0452914-16 \n\nRegistrations close 25th April 2023  \nContact Daniel Hobbs for further information on rdm@nelsonhockey.org.nz
URL:https://www.nelsonhockey.org.nz/event/u13u15-player-development-program-ii-u18-player-performance-program-ii/2024-05-16/
LOCATION:NELSON HOCKEY\, SAXTON FIELDS\, Nelson\, Tasman/Nelson\, 7011\, New Zealand
CATEGORIES:Nelson Hockey Development Program
ATTACH;FMTTYPE=image/jpeg:https://www.nelsonhockey.org.nz/wp-content/uploads/2023/11/2024-NHA-U13-U15-DEVELOPMENT-PROGRAM-II.jpg
GEO:-41.3280994;173.2181794
X-APPLE-STRUCTURED-LOCATION;VALUE=URI;X-ADDRESS=NELSON HOCKEY SAXTON FIELDS Nelson Tasman/Nelson 7011 New Zealand;X-APPLE-RADIUS=500;X-TITLE=SAXTON FIELDS:geo:173.2181794,-41.3280994
END:VEVENT
BEGIN:VEVENT
DTSTART;VALUE=DATE:20240517
DTEND;VALUE=DATE:20240520
DTSTAMP:20260426T140706
CREATED:20231127T223551Z
LAST-MODIFIED:20231127T223551Z
UID:20138-1715904000-1716163199@www.nelsonhockey.org.nz
SUMMARY:HNZ Umpires Course
DESCRIPTION:
URL:https://www.nelsonhockey.org.nz/event/hnz-umpires-course-4/
LOCATION:NELSON HOCKEY\, SAXTON FIELDS\, Nelson\, Tasman/Nelson\, 7011\, New Zealand
CATEGORIES:Umpire Course
ATTACH;FMTTYPE=image/jpeg:https://www.nelsonhockey.org.nz/wp-content/uploads/2023/03/Nelson-Hockey_Umpires_Facebook-Banner_Nov22.jpg
GEO:-41.3280994;173.2181794
X-APPLE-STRUCTURED-LOCATION;VALUE=URI;X-ADDRESS=NELSON HOCKEY SAXTON FIELDS Nelson Tasman/Nelson 7011 New Zealand;X-APPLE-RADIUS=500;X-TITLE=SAXTON FIELDS:geo:173.2181794,-41.3280994
END:VEVENT
BEGIN:VEVENT
DTSTART;VALUE=DATE:20240518
DTEND;VALUE=DATE:20240519
DTSTAMP:20260426T140706
CREATED:20231127T223719Z
LAST-MODIFIED:20231127T223719Z
UID:20140-1715990400-1716076799@www.nelsonhockey.org.nz
SUMMARY:2024 Super League
DESCRIPTION:
URL:https://www.nelsonhockey.org.nz/event/2024-super-league/
LOCATION:NELSON HOCKEY\, SAXTON FIELDS\, Nelson\, Tasman/Nelson\, 7011\, New Zealand
CATEGORIES:Events
ATTACH;FMTTYPE=image/jpeg:https://www.nelsonhockey.org.nz/wp-content/uploads/2023/11/2024-SUPER-LEAGUE-COMPETITION-Flyer-1.jpg
GEO:-41.3280994;173.2181794
X-APPLE-STRUCTURED-LOCATION;VALUE=URI;X-ADDRESS=NELSON HOCKEY SAXTON FIELDS Nelson Tasman/Nelson 7011 New Zealand;X-APPLE-RADIUS=500;X-TITLE=SAXTON FIELDS:geo:173.2181794,-41.3280994
END:VEVENT
BEGIN:VEVENT
DTSTART;VALUE=DATE:20240518
DTEND;VALUE=DATE:20240519
DTSTAMP:20260426T140706
CREATED:20231128T202221Z
LAST-MODIFIED:20231128T202333Z
UID:20185-1715990400-1716076799@www.nelsonhockey.org.nz
SUMMARY:Coaching Forum I
DESCRIPTION:
URL:https://www.nelsonhockey.org.nz/event/coaching-forum-i/
LOCATION:Tasman/Nelson
CATEGORIES:Hockey Clinics-Training Camps
ATTACH;FMTTYPE=image/jpeg:https://www.nelsonhockey.org.nz/wp-content/uploads/2022/12/Nelson-Hockey_Coaching_Blog-Post-Banner_Nov22.jpg
END:VEVENT
BEGIN:VEVENT
DTSTART;VALUE=DATE:20240519
DTEND;VALUE=DATE:20240520
DTSTAMP:20260426T140706
CREATED:20231127T224010Z
LAST-MODIFIED:20231127T224010Z
UID:20143-1716076800-1716163199@www.nelsonhockey.org.nz
SUMMARY:TD U18 Training Camp
DESCRIPTION:
URL:https://www.nelsonhockey.org.nz/event/td-u18-training-camp/2024-05-19/
LOCATION:NELSON HOCKEY\, SAXTON FIELDS\, Nelson\, Tasman/Nelson\, 7011\, New Zealand
CATEGORIES:Hockey Clinics-Training Camps
ATTACH;FMTTYPE=image/png:https://www.nelsonhockey.org.nz/wp-content/uploads/2022/12/Tasman-Districts.png
GEO:-41.3280994;173.2181794
X-APPLE-STRUCTURED-LOCATION;VALUE=URI;X-ADDRESS=NELSON HOCKEY SAXTON FIELDS Nelson Tasman/Nelson 7011 New Zealand;X-APPLE-RADIUS=500;X-TITLE=SAXTON FIELDS:geo:173.2181794,-41.3280994
END:VEVENT
BEGIN:VEVENT
DTSTART;TZID=Pacific/Auckland:20240522T183000
DTEND;TZID=Pacific/Auckland:20240522T193000
DTSTAMP:20260426T140706
CREATED:20231127T222455Z
LAST-MODIFIED:20240527T062550Z
UID:21248-1716402600-1716406200@www.nelsonhockey.org.nz
SUMMARY:Gk Training Program
DESCRIPTION:
URL:https://www.nelsonhockey.org.nz/event/gk-training-program/2024-05-22/
LOCATION:NELSON HOCKEY\, SAXTON FIELDS\, Nelson\, Tasman/Nelson\, 7011\, New Zealand
CATEGORIES:GK Training
ATTACH;FMTTYPE=image/jpeg:https://www.nelsonhockey.org.nz/wp-content/uploads/2024/05/2024-NHA-GK-Training-Program-1.jpg
GEO:-41.3280994;173.2181794
X-APPLE-STRUCTURED-LOCATION;VALUE=URI;X-ADDRESS=NELSON HOCKEY SAXTON FIELDS Nelson Tasman/Nelson 7011 New Zealand;X-APPLE-RADIUS=500;X-TITLE=SAXTON FIELDS:geo:173.2181794,-41.3280994
END:VEVENT
BEGIN:VEVENT
DTSTART;TZID=Pacific/Auckland:20240523T154500
DTEND;TZID=Pacific/Auckland:20240523T183000
DTSTAMP:20260426T140706
CREATED:20231127T225446Z
LAST-MODIFIED:20231127T225446Z
UID:20153-1716479100-1716489000@www.nelsonhockey.org.nz
SUMMARY:Junior Program II
DESCRIPTION:
URL:https://www.nelsonhockey.org.nz/event/junior-program-ii-6/2024-05-23/
LOCATION:NELSON HOCKEY\, SAXTON FIELDS\, Nelson\, Tasman/Nelson\, 7011\, New Zealand
CATEGORIES:Junior Programme
ATTACH;FMTTYPE=image/jpeg:https://www.nelsonhockey.org.nz/wp-content/uploads/2023/10/2024-NHA-Junior-Programme-II.jpg
GEO:-41.3280994;173.2181794
X-APPLE-STRUCTURED-LOCATION;VALUE=URI;X-ADDRESS=NELSON HOCKEY SAXTON FIELDS Nelson Tasman/Nelson 7011 New Zealand;X-APPLE-RADIUS=500;X-TITLE=SAXTON FIELDS:geo:173.2181794,-41.3280994
END:VEVENT
BEGIN:VEVENT
DTSTART;TZID=Pacific/Auckland:20240523T160000
DTEND;TZID=Pacific/Auckland:20240523T203000
DTSTAMP:20260426T140706
CREATED:20231127T222928Z
LAST-MODIFIED:20231127T222928Z
UID:20130-1716480000-1716496200@www.nelsonhockey.org.nz
SUMMARY:U13&U15 Player Development Program II & U18 Player Performance Program II
DESCRIPTION:  \n2024 U13/U15 Development Program II \n2024 U18 Performance Program II \nFive week program – Thursday 2nd May to 30th May 2024 \nSaxton Field Hockey Turfs \n  \nThe program is run by the Nelson Hockey Performance \nOfficer and will focus on fitness\, skill\, technical and tactical development. \n\nU13: Thursday’s – 4:00pm – 5:00pm \nCost: $60 for the five week program \nU15: Thursday’s – 5:00pm – 6:30pm \nCost: $80 for the five week program \nU18: Thursday’s – 6:30pm – 8:30pm \nCost: $100 for the five week program \n\nDirect debit with reference of ‘name’ and ‘Development’ to: \n03-1354-0452914-16 \n\nRegistrations close 25th April 2023  \nContact Daniel Hobbs for further information on rdm@nelsonhockey.org.nz
URL:https://www.nelsonhockey.org.nz/event/u13u15-player-development-program-ii-u18-player-performance-program-ii/2024-05-23/
LOCATION:NELSON HOCKEY\, SAXTON FIELDS\, Nelson\, Tasman/Nelson\, 7011\, New Zealand
CATEGORIES:Nelson Hockey Development Program
ATTACH;FMTTYPE=image/jpeg:https://www.nelsonhockey.org.nz/wp-content/uploads/2023/11/2024-NHA-U13-U15-DEVELOPMENT-PROGRAM-II.jpg
GEO:-41.3280994;173.2181794
X-APPLE-STRUCTURED-LOCATION;VALUE=URI;X-ADDRESS=NELSON HOCKEY SAXTON FIELDS Nelson Tasman/Nelson 7011 New Zealand;X-APPLE-RADIUS=500;X-TITLE=SAXTON FIELDS:geo:173.2181794,-41.3280994
END:VEVENT
BEGIN:VEVENT
DTSTART;VALUE=DATE:20240526
DTEND;VALUE=DATE:20240527
DTSTAMP:20260426T140706
CREATED:20231127T224010Z
LAST-MODIFIED:20231127T224010Z
UID:20144-1716681600-1716767999@www.nelsonhockey.org.nz
SUMMARY:TD U18 Training Camp
DESCRIPTION:
URL:https://www.nelsonhockey.org.nz/event/td-u18-training-camp/2024-05-26/
LOCATION:NELSON HOCKEY\, SAXTON FIELDS\, Nelson\, Tasman/Nelson\, 7011\, New Zealand
CATEGORIES:Hockey Clinics-Training Camps
ATTACH;FMTTYPE=image/png:https://www.nelsonhockey.org.nz/wp-content/uploads/2022/12/Tasman-Districts.png
GEO:-41.3280994;173.2181794
X-APPLE-STRUCTURED-LOCATION;VALUE=URI;X-ADDRESS=NELSON HOCKEY SAXTON FIELDS Nelson Tasman/Nelson 7011 New Zealand;X-APPLE-RADIUS=500;X-TITLE=SAXTON FIELDS:geo:173.2181794,-41.3280994
END:VEVENT
BEGIN:VEVENT
DTSTART;TZID=Pacific/Auckland:20240529T183000
DTEND;TZID=Pacific/Auckland:20240529T193000
DTSTAMP:20260426T140706
CREATED:20231127T222455Z
LAST-MODIFIED:20240527T062551Z
UID:21249-1717007400-1717011000@www.nelsonhockey.org.nz
SUMMARY:Gk Training Program
DESCRIPTION:
URL:https://www.nelsonhockey.org.nz/event/gk-training-program/2024-05-29/
LOCATION:NELSON HOCKEY\, SAXTON FIELDS\, Nelson\, Tasman/Nelson\, 7011\, New Zealand
CATEGORIES:GK Training
ATTACH;FMTTYPE=image/jpeg:https://www.nelsonhockey.org.nz/wp-content/uploads/2024/05/2024-NHA-GK-Training-Program-1.jpg
GEO:-41.3280994;173.2181794
X-APPLE-STRUCTURED-LOCATION;VALUE=URI;X-ADDRESS=NELSON HOCKEY SAXTON FIELDS Nelson Tasman/Nelson 7011 New Zealand;X-APPLE-RADIUS=500;X-TITLE=SAXTON FIELDS:geo:173.2181794,-41.3280994
END:VEVENT
BEGIN:VEVENT
DTSTART;TZID=Pacific/Auckland:20240530T154500
DTEND;TZID=Pacific/Auckland:20240530T183000
DTSTAMP:20260426T140706
CREATED:20231127T225446Z
LAST-MODIFIED:20231127T225446Z
UID:20154-1717083900-1717093800@www.nelsonhockey.org.nz
SUMMARY:Junior Program II
DESCRIPTION:
URL:https://www.nelsonhockey.org.nz/event/junior-program-ii-6/2024-05-30/
LOCATION:NELSON HOCKEY\, SAXTON FIELDS\, Nelson\, Tasman/Nelson\, 7011\, New Zealand
CATEGORIES:Junior Programme
ATTACH;FMTTYPE=image/jpeg:https://www.nelsonhockey.org.nz/wp-content/uploads/2023/10/2024-NHA-Junior-Programme-II.jpg
GEO:-41.3280994;173.2181794
X-APPLE-STRUCTURED-LOCATION;VALUE=URI;X-ADDRESS=NELSON HOCKEY SAXTON FIELDS Nelson Tasman/Nelson 7011 New Zealand;X-APPLE-RADIUS=500;X-TITLE=SAXTON FIELDS:geo:173.2181794,-41.3280994
END:VEVENT
BEGIN:VEVENT
DTSTART;TZID=Pacific/Auckland:20240530T160000
DTEND;TZID=Pacific/Auckland:20240530T203000
DTSTAMP:20260426T140706
CREATED:20231127T222928Z
LAST-MODIFIED:20231127T222928Z
UID:20131-1717084800-1717101000@www.nelsonhockey.org.nz
SUMMARY:U13&U15 Player Development Program II & U18 Player Performance Program II
DESCRIPTION:  \n2024 U13/U15 Development Program II \n2024 U18 Performance Program II \nFive week program – Thursday 2nd May to 30th May 2024 \nSaxton Field Hockey Turfs \n  \nThe program is run by the Nelson Hockey Performance \nOfficer and will focus on fitness\, skill\, technical and tactical development. \n\nU13: Thursday’s – 4:00pm – 5:00pm \nCost: $60 for the five week program \nU15: Thursday’s – 5:00pm – 6:30pm \nCost: $80 for the five week program \nU18: Thursday’s – 6:30pm – 8:30pm \nCost: $100 for the five week program \n\nDirect debit with reference of ‘name’ and ‘Development’ to: \n03-1354-0452914-16 \n\nRegistrations close 25th April 2023  \nContact Daniel Hobbs for further information on rdm@nelsonhockey.org.nz
URL:https://www.nelsonhockey.org.nz/event/u13u15-player-development-program-ii-u18-player-performance-program-ii/2024-05-30/
LOCATION:NELSON HOCKEY\, SAXTON FIELDS\, Nelson\, Tasman/Nelson\, 7011\, New Zealand
CATEGORIES:Nelson Hockey Development Program
ATTACH;FMTTYPE=image/jpeg:https://www.nelsonhockey.org.nz/wp-content/uploads/2023/11/2024-NHA-U13-U15-DEVELOPMENT-PROGRAM-II.jpg
GEO:-41.3280994;173.2181794
X-APPLE-STRUCTURED-LOCATION;VALUE=URI;X-ADDRESS=NELSON HOCKEY SAXTON FIELDS Nelson Tasman/Nelson 7011 New Zealand;X-APPLE-RADIUS=500;X-TITLE=SAXTON FIELDS:geo:173.2181794,-41.3280994
END:VEVENT
BEGIN:VEVENT
DTSTART;VALUE=DATE:20240531
DTEND;VALUE=DATE:20240601
DTSTAMP:20260426T140706
CREATED:20231127T224148Z
LAST-MODIFIED:20231127T224148Z
UID:20150-1717113600-1717199999@www.nelsonhockey.org.nz
SUMMARY:NHA SR.M&W Teams Registrations Due Day
DESCRIPTION:
URL:https://www.nelsonhockey.org.nz/event/nha-sr-mw-teams-registrations-due-day/
LOCATION:NELSON HOCKEY\, SAXTON FIELDS\, Nelson\, Tasman/Nelson\, 7011\, New Zealand
CATEGORIES:NELSON SR.MEN & WOMEN
ATTACH;FMTTYPE=image/jpeg:https://www.nelsonhockey.org.nz/wp-content/uploads/2023/07/Nelson-Hockey_NHA-Representative_Facebook-Banner_Nov22.jpg
GEO:-41.3280994;173.2181794
X-APPLE-STRUCTURED-LOCATION;VALUE=URI;X-ADDRESS=NELSON HOCKEY SAXTON FIELDS Nelson Tasman/Nelson 7011 New Zealand;X-APPLE-RADIUS=500;X-TITLE=SAXTON FIELDS:geo:173.2181794,-41.3280994
END:VEVENT
BEGIN:VEVENT
DTSTART;VALUE=DATE:20240601
DTEND;VALUE=DATE:20240604
DTSTAMP:20260426T140706
CREATED:20231128T200515Z
LAST-MODIFIED:20231128T200515Z
UID:20163-1717200000-1717459199@www.nelsonhockey.org.nz
SUMMARY:U18 M&W Mini Tournament
DESCRIPTION:
URL:https://www.nelsonhockey.org.nz/event/u18-mw-mini-tournament/
LOCATION:CANTERBURY HOCKEY ASSOCIATION\, Address: 240 Wooldridge Road\, Harewood\, Christchurch\, Christchurch\, Canterbury\, 8543\, New Zealand
CATEGORIES:Rep Tournaments
ATTACH;FMTTYPE=image/jpeg:https://www.nelsonhockey.org.nz/wp-content/uploads/2018/12/canterbury-hockey.jpg
END:VEVENT
BEGIN:VEVENT
DTSTART;VALUE=DATE:20240602
DTEND;VALUE=DATE:20240603
DTSTAMP:20260426T140706
CREATED:20231127T224010Z
LAST-MODIFIED:20231127T224010Z
UID:20145-1717286400-1717372799@www.nelsonhockey.org.nz
SUMMARY:TD U18 Training Camp
DESCRIPTION:
URL:https://www.nelsonhockey.org.nz/event/td-u18-training-camp/2024-06-02/
LOCATION:NELSON HOCKEY\, SAXTON FIELDS\, Nelson\, Tasman/Nelson\, 7011\, New Zealand
CATEGORIES:Hockey Clinics-Training Camps
ATTACH;FMTTYPE=image/png:https://www.nelsonhockey.org.nz/wp-content/uploads/2022/12/Tasman-Districts.png
GEO:-41.3280994;173.2181794
X-APPLE-STRUCTURED-LOCATION;VALUE=URI;X-ADDRESS=NELSON HOCKEY SAXTON FIELDS Nelson Tasman/Nelson 7011 New Zealand;X-APPLE-RADIUS=500;X-TITLE=SAXTON FIELDS:geo:173.2181794,-41.3280994
END:VEVENT
END:VCALENDAR