BEGIN:VCALENDAR
VERSION:2.0
PRODID:-//Nelson Hockey Association (1993) Inc - ECPv6.15.16//NONSGML v1.0//EN
CALSCALE:GREGORIAN
METHOD:PUBLISH
X-WR-CALNAME:Nelson Hockey Association (1993) Inc
X-ORIGINAL-URL:https://www.nelsonhockey.org.nz
X-WR-CALDESC:Events for Nelson Hockey Association (1993) Inc
REFRESH-INTERVAL;VALUE=DURATION:PT1H
X-Robots-Tag:noindex
X-PUBLISHED-TTL:PT1H
BEGIN:VTIMEZONE
TZID:Pacific/Auckland
BEGIN:STANDARD
TZOFFSETFROM:+1300
TZOFFSETTO:+1200
TZNAME:NZST
DTSTART:20230401T140000
END:STANDARD
BEGIN:DAYLIGHT
TZOFFSETFROM:+1200
TZOFFSETTO:+1300
TZNAME:NZDT
DTSTART:20230923T140000
END:DAYLIGHT
BEGIN:STANDARD
TZOFFSETFROM:+1300
TZOFFSETTO:+1200
TZNAME:NZST
DTSTART:20240406T140000
END:STANDARD
BEGIN:DAYLIGHT
TZOFFSETFROM:+1200
TZOFFSETTO:+1300
TZNAME:NZDT
DTSTART:20240928T140000
END:DAYLIGHT
BEGIN:STANDARD
TZOFFSETFROM:+1300
TZOFFSETTO:+1200
TZNAME:NZST
DTSTART:20250405T140000
END:STANDARD
BEGIN:DAYLIGHT
TZOFFSETFROM:+1200
TZOFFSETTO:+1300
TZNAME:NZDT
DTSTART:20250927T140000
END:DAYLIGHT
END:VTIMEZONE
BEGIN:VEVENT
DTSTART;TZID=Pacific/Auckland:20240620T154500
DTEND;TZID=Pacific/Auckland:20240620T183000
DTSTAMP:20260425T233554
CREATED:20231127T225446Z
LAST-MODIFIED:20231127T225446Z
UID:20157-1718898300-1718908200@www.nelsonhockey.org.nz
SUMMARY:Junior Program II
DESCRIPTION:
URL:https://www.nelsonhockey.org.nz/event/junior-program-ii-6/2024-06-20/
LOCATION:NELSON HOCKEY\, SAXTON FIELDS\, Nelson\, Tasman/Nelson\, 7011\, New Zealand
CATEGORIES:Junior Programme
ATTACH;FMTTYPE=image/jpeg:https://www.nelsonhockey.org.nz/wp-content/uploads/2023/10/2024-NHA-Junior-Programme-II.jpg
GEO:-41.3280994;173.2181794
X-APPLE-STRUCTURED-LOCATION;VALUE=URI;X-ADDRESS=NELSON HOCKEY SAXTON FIELDS Nelson Tasman/Nelson 7011 New Zealand;X-APPLE-RADIUS=500;X-TITLE=SAXTON FIELDS:geo:173.2181794,-41.3280994
END:VEVENT
BEGIN:VEVENT
DTSTART;VALUE=DATE:20240622
DTEND;VALUE=DATE:20240623
DTSTAMP:20260425T233554
CREATED:20231128T201636Z
LAST-MODIFIED:20231203T213648Z
UID:20181-1719014400-1719100799@www.nelsonhockey.org.nz
SUMMARY:NHA SR.M&W v WCHA SR.M&W
DESCRIPTION:
URL:https://www.nelsonhockey.org.nz/event/nha-sr-mw-v-wcha-sr-mw/
LOCATION:NELSON HOCKEY\, SAXTON FIELDS\, Nelson\, Tasman/Nelson\, 7011\, New Zealand
CATEGORIES:Rep Tournaments
ATTACH;FMTTYPE=image/jpeg:https://www.nelsonhockey.org.nz/wp-content/uploads/2023/07/Nelson-Hockey_NHA-Representative_Facebook-Banner_Nov22.jpg
GEO:-41.3280994;173.2181794
X-APPLE-STRUCTURED-LOCATION;VALUE=URI;X-ADDRESS=NELSON HOCKEY SAXTON FIELDS Nelson Tasman/Nelson 7011 New Zealand;X-APPLE-RADIUS=500;X-TITLE=SAXTON FIELDS:geo:173.2181794,-41.3280994
END:VEVENT
BEGIN:VEVENT
DTSTART;VALUE=DATE:20240623
DTEND;VALUE=DATE:20240624
DTSTAMP:20260425T233554
CREATED:20231127T224010Z
LAST-MODIFIED:20231127T224010Z
UID:20148-1719100800-1719187199@www.nelsonhockey.org.nz
SUMMARY:TD U18 Training Camp
DESCRIPTION:
URL:https://www.nelsonhockey.org.nz/event/td-u18-training-camp/2024-06-23/
LOCATION:NELSON HOCKEY\, SAXTON FIELDS\, Nelson\, Tasman/Nelson\, 7011\, New Zealand
CATEGORIES:Hockey Clinics-Training Camps
ATTACH;FMTTYPE=image/png:https://www.nelsonhockey.org.nz/wp-content/uploads/2022/12/Tasman-Districts.png
GEO:-41.3280994;173.2181794
X-APPLE-STRUCTURED-LOCATION;VALUE=URI;X-ADDRESS=NELSON HOCKEY SAXTON FIELDS Nelson Tasman/Nelson 7011 New Zealand;X-APPLE-RADIUS=500;X-TITLE=SAXTON FIELDS:geo:173.2181794,-41.3280994
END:VEVENT
BEGIN:VEVENT
DTSTART;VALUE=DATE:20240626
DTEND;VALUE=DATE:20240627
DTSTAMP:20260425T233554
CREATED:20231128T201132Z
LAST-MODIFIED:20231128T201132Z
UID:20173-1719360000-1719446399@www.nelsonhockey.org.nz
SUMMARY:NHA Sr.M&W Training
DESCRIPTION:
URL:https://www.nelsonhockey.org.nz/event/nha-sr-mw-training/2024-06-26/
LOCATION:NELSON HOCKEY\, SAXTON FIELDS\, Nelson\, Tasman/Nelson\, 7011\, New Zealand
CATEGORIES:NELSON SR.MEN & WOMEN
ATTACH;FMTTYPE=image/jpeg:https://www.nelsonhockey.org.nz/wp-content/uploads/2023/07/Nelson-Hockey_NHA-Representative_Facebook-Banner_Nov22.jpg
GEO:-41.3280994;173.2181794
X-APPLE-STRUCTURED-LOCATION;VALUE=URI;X-ADDRESS=NELSON HOCKEY SAXTON FIELDS Nelson Tasman/Nelson 7011 New Zealand;X-APPLE-RADIUS=500;X-TITLE=SAXTON FIELDS:geo:173.2181794,-41.3280994
END:VEVENT
BEGIN:VEVENT
DTSTART;TZID=Pacific/Auckland:20240626T183000
DTEND;TZID=Pacific/Auckland:20240626T193000
DTSTAMP:20260425T233554
CREATED:20231127T222455Z
LAST-MODIFIED:20240527T062555Z
UID:21253-1719426600-1719430200@www.nelsonhockey.org.nz
SUMMARY:Gk Training Program
DESCRIPTION:
URL:https://www.nelsonhockey.org.nz/event/gk-training-program/2024-06-26/
LOCATION:NELSON HOCKEY\, SAXTON FIELDS\, Nelson\, Tasman/Nelson\, 7011\, New Zealand
CATEGORIES:GK Training
ATTACH;FMTTYPE=image/jpeg:https://www.nelsonhockey.org.nz/wp-content/uploads/2024/05/2024-NHA-GK-Training-Program-1.jpg
GEO:-41.3280994;173.2181794
X-APPLE-STRUCTURED-LOCATION;VALUE=URI;X-ADDRESS=NELSON HOCKEY SAXTON FIELDS Nelson Tasman/Nelson 7011 New Zealand;X-APPLE-RADIUS=500;X-TITLE=SAXTON FIELDS:geo:173.2181794,-41.3280994
END:VEVENT
BEGIN:VEVENT
DTSTART;VALUE=DATE:20240628
DTEND;VALUE=DATE:20240629
DTSTAMP:20260425T233554
CREATED:20231128T201839Z
LAST-MODIFIED:20231128T201839Z
UID:20183-1719532800-1719619199@www.nelsonhockey.org.nz
SUMMARY:Matariki
DESCRIPTION:
URL:https://www.nelsonhockey.org.nz/event/matariki-3/
CATEGORIES:PUBLIC HOLIDAY
ATTACH;FMTTYPE=image/png:https://www.nelsonhockey.org.nz/wp-content/uploads/2022/12/Matariki-Graphic-With-Title_KCC.png
END:VEVENT
BEGIN:VEVENT
DTSTART;VALUE=DATE:20240703
DTEND;VALUE=DATE:20240704
DTSTAMP:20260425T233554
CREATED:20231128T201132Z
LAST-MODIFIED:20231128T201132Z
UID:20174-1719964800-1720051199@www.nelsonhockey.org.nz
SUMMARY:NHA Sr.M&W Training
DESCRIPTION:
URL:https://www.nelsonhockey.org.nz/event/nha-sr-mw-training/2024-07-03/
LOCATION:NELSON HOCKEY\, SAXTON FIELDS\, Nelson\, Tasman/Nelson\, 7011\, New Zealand
CATEGORIES:NELSON SR.MEN & WOMEN
ATTACH;FMTTYPE=image/jpeg:https://www.nelsonhockey.org.nz/wp-content/uploads/2023/07/Nelson-Hockey_NHA-Representative_Facebook-Banner_Nov22.jpg
GEO:-41.3280994;173.2181794
X-APPLE-STRUCTURED-LOCATION;VALUE=URI;X-ADDRESS=NELSON HOCKEY SAXTON FIELDS Nelson Tasman/Nelson 7011 New Zealand;X-APPLE-RADIUS=500;X-TITLE=SAXTON FIELDS:geo:173.2181794,-41.3280994
END:VEVENT
BEGIN:VEVENT
DTSTART;TZID=Pacific/Auckland:20240703T183000
DTEND;TZID=Pacific/Auckland:20240703T193000
DTSTAMP:20260425T233554
CREATED:20231127T222455Z
LAST-MODIFIED:20240527T062556Z
UID:21254-1720031400-1720035000@www.nelsonhockey.org.nz
SUMMARY:Gk Training Program
DESCRIPTION:
URL:https://www.nelsonhockey.org.nz/event/gk-training-program/2024-07-03/
LOCATION:NELSON HOCKEY\, SAXTON FIELDS\, Nelson\, Tasman/Nelson\, 7011\, New Zealand
CATEGORIES:GK Training
ATTACH;FMTTYPE=image/jpeg:https://www.nelsonhockey.org.nz/wp-content/uploads/2024/05/2024-NHA-GK-Training-Program-1.jpg
GEO:-41.3280994;173.2181794
X-APPLE-STRUCTURED-LOCATION;VALUE=URI;X-ADDRESS=NELSON HOCKEY SAXTON FIELDS Nelson Tasman/Nelson 7011 New Zealand;X-APPLE-RADIUS=500;X-TITLE=SAXTON FIELDS:geo:173.2181794,-41.3280994
END:VEVENT
BEGIN:VEVENT
DTSTART;VALUE=DATE:20240707
DTEND;VALUE=DATE:20240714
DTSTAMP:20260425T233554
CREATED:20231129T013816Z
LAST-MODIFIED:20231129T013816Z
UID:20189-1720310400-1720915199@www.nelsonhockey.org.nz
SUMMARY:HNZ U18 W National Tournament
DESCRIPTION:
URL:https://www.nelsonhockey.org.nz/event/hnz-u18-w-national-tournament/
LOCATION:CANTERBURY HOCKEY ASSOCIATION\, Address: 240 Wooldridge Road\, Harewood\, Christchurch\, Christchurch\, Canterbury\, 8543\, New Zealand
CATEGORIES:Rep Tournaments
ATTACH;FMTTYPE=image/png:https://www.nelsonhockey.org.nz/wp-content/uploads/2022/11/Hockey-New-Zealand-Logo-1.png
END:VEVENT
BEGIN:VEVENT
DTSTART;VALUE=DATE:20240707
DTEND;VALUE=DATE:20240714
DTSTAMP:20260425T233554
CREATED:20231129T014017Z
LAST-MODIFIED:20231129T014017Z
UID:20191-1720310400-1720915199@www.nelsonhockey.org.nz
SUMMARY:HNZ U18 M National Tournament
DESCRIPTION:
URL:https://www.nelsonhockey.org.nz/event/hnz-u18-m-national-tournament/
LOCATION:HAWKES BAY HOCKEY ASSOCIATION\, 42 Clyde Jeffery Drive Tamatea Napier 4142\, Napier\, Hawkes Bay\, 4142\, New Zealand
CATEGORIES:Rep Tournaments
ATTACH;FMTTYPE=image/png:https://www.nelsonhockey.org.nz/wp-content/uploads/2022/11/Hockey-New-Zealand-Logo-1.png
ORGANIZER;CN="hawkes bay hockey association":MAILTO:admin@hbhockey.org.nz
END:VEVENT
BEGIN:VEVENT
DTSTART;VALUE=DATE:20240708
DTEND;VALUE=DATE:20240721
DTSTAMP:20260425T233554
CREATED:20231129T014242Z
LAST-MODIFIED:20231129T014242Z
UID:20193-1720396800-1721519999@www.nelsonhockey.org.nz
SUMMARY:School Holidays
DESCRIPTION:
URL:https://www.nelsonhockey.org.nz/event/school-holidays-7/
CATEGORIES:School Holidays
ATTACH;FMTTYPE=image/jpeg:https://www.nelsonhockey.org.nz/wp-content/uploads/2022/12/SCHOOL-HOLIDAYS.jpg
END:VEVENT
BEGIN:VEVENT
DTSTART;TZID=Pacific/Auckland:20240708T090000
DTEND;TZID=Pacific/Auckland:20240708T120000
DTSTAMP:20260425T233554
CREATED:20231129T014454Z
LAST-MODIFIED:20231129T014454Z
UID:20195-1720429200-1720440000@www.nelsonhockey.org.nz
SUMMARY:NHA U13's & U15's Training Camp
DESCRIPTION:
URL:https://www.nelsonhockey.org.nz/event/nha-u13s-u15s-training-camp/
LOCATION:NELSON HOCKEY\, SAXTON FIELDS\, Nelson\, Tasman/Nelson\, 7011\, New Zealand
CATEGORIES:Hockey Clinics-Training Camps
ATTACH;FMTTYPE=image/jpeg:https://www.nelsonhockey.org.nz/wp-content/uploads/2023/11/2024-NHA-U13-U15-TRAINING-CAMPS.jpg
GEO:-41.3280994;173.2181794
X-APPLE-STRUCTURED-LOCATION;VALUE=URI;X-ADDRESS=NELSON HOCKEY SAXTON FIELDS Nelson Tasman/Nelson 7011 New Zealand;X-APPLE-RADIUS=500;X-TITLE=SAXTON FIELDS:geo:173.2181794,-41.3280994
END:VEVENT
BEGIN:VEVENT
DTSTART;TZID=Pacific/Auckland:20240709T090000
DTEND;TZID=Pacific/Auckland:20240709T120000
DTSTAMP:20260425T233554
CREATED:20231129T014454Z
LAST-MODIFIED:20231129T014454Z
UID:20196-1720515600-1720526400@www.nelsonhockey.org.nz
SUMMARY:NHA U13's & U15's Training Camp
DESCRIPTION:
URL:https://www.nelsonhockey.org.nz/event/nha-u13s-u15s-training-camp/2024-07-09/
LOCATION:NELSON HOCKEY\, SAXTON FIELDS\, Nelson\, Tasman/Nelson\, 7011\, New Zealand
CATEGORIES:Hockey Clinics-Training Camps
ATTACH;FMTTYPE=image/jpeg:https://www.nelsonhockey.org.nz/wp-content/uploads/2023/11/2024-NHA-U13-U15-TRAINING-CAMPS.jpg
GEO:-41.3280994;173.2181794
X-APPLE-STRUCTURED-LOCATION;VALUE=URI;X-ADDRESS=NELSON HOCKEY SAXTON FIELDS Nelson Tasman/Nelson 7011 New Zealand;X-APPLE-RADIUS=500;X-TITLE=SAXTON FIELDS:geo:173.2181794,-41.3280994
END:VEVENT
BEGIN:VEVENT
DTSTART;VALUE=DATE:20240710
DTEND;VALUE=DATE:20240711
DTSTAMP:20260425T233554
CREATED:20231128T201132Z
LAST-MODIFIED:20231128T201132Z
UID:20175-1720569600-1720655999@www.nelsonhockey.org.nz
SUMMARY:NHA Sr.M&W Training
DESCRIPTION:
URL:https://www.nelsonhockey.org.nz/event/nha-sr-mw-training/2024-07-10/
LOCATION:NELSON HOCKEY\, SAXTON FIELDS\, Nelson\, Tasman/Nelson\, 7011\, New Zealand
CATEGORIES:NELSON SR.MEN & WOMEN
ATTACH;FMTTYPE=image/jpeg:https://www.nelsonhockey.org.nz/wp-content/uploads/2023/07/Nelson-Hockey_NHA-Representative_Facebook-Banner_Nov22.jpg
GEO:-41.3280994;173.2181794
X-APPLE-STRUCTURED-LOCATION;VALUE=URI;X-ADDRESS=NELSON HOCKEY SAXTON FIELDS Nelson Tasman/Nelson 7011 New Zealand;X-APPLE-RADIUS=500;X-TITLE=SAXTON FIELDS:geo:173.2181794,-41.3280994
END:VEVENT
BEGIN:VEVENT
DTSTART;TZID=Pacific/Auckland:20240710T183000
DTEND;TZID=Pacific/Auckland:20240710T193000
DTSTAMP:20260425T233554
CREATED:20231127T222455Z
LAST-MODIFIED:20240527T062557Z
UID:21255-1720636200-1720639800@www.nelsonhockey.org.nz
SUMMARY:Gk Training Program
DESCRIPTION:
URL:https://www.nelsonhockey.org.nz/event/gk-training-program/2024-07-10/
LOCATION:NELSON HOCKEY\, SAXTON FIELDS\, Nelson\, Tasman/Nelson\, 7011\, New Zealand
CATEGORIES:GK Training
ATTACH;FMTTYPE=image/jpeg:https://www.nelsonhockey.org.nz/wp-content/uploads/2024/05/2024-NHA-GK-Training-Program-1.jpg
GEO:-41.3280994;173.2181794
X-APPLE-STRUCTURED-LOCATION;VALUE=URI;X-ADDRESS=NELSON HOCKEY SAXTON FIELDS Nelson Tasman/Nelson 7011 New Zealand;X-APPLE-RADIUS=500;X-TITLE=SAXTON FIELDS:geo:173.2181794,-41.3280994
END:VEVENT
BEGIN:VEVENT
DTSTART;TZID=Pacific/Auckland:20240715T090000
DTEND;TZID=Pacific/Auckland:20240715T120000
DTSTAMP:20260425T233554
CREATED:20231129T014454Z
LAST-MODIFIED:20231129T014454Z
UID:20197-1721034000-1721044800@www.nelsonhockey.org.nz
SUMMARY:NHA U13's & U15's Training Camp
DESCRIPTION:
URL:https://www.nelsonhockey.org.nz/event/nha-u13s-u15s-training-camp/2024-07-15/
LOCATION:NELSON HOCKEY\, SAXTON FIELDS\, Nelson\, Tasman/Nelson\, 7011\, New Zealand
CATEGORIES:Hockey Clinics-Training Camps
ATTACH;FMTTYPE=image/jpeg:https://www.nelsonhockey.org.nz/wp-content/uploads/2023/11/2024-NHA-U13-U15-TRAINING-CAMPS.jpg
GEO:-41.3280994;173.2181794
X-APPLE-STRUCTURED-LOCATION;VALUE=URI;X-ADDRESS=NELSON HOCKEY SAXTON FIELDS Nelson Tasman/Nelson 7011 New Zealand;X-APPLE-RADIUS=500;X-TITLE=SAXTON FIELDS:geo:173.2181794,-41.3280994
END:VEVENT
BEGIN:VEVENT
DTSTART;TZID=Pacific/Auckland:20240716T090000
DTEND;TZID=Pacific/Auckland:20240716T120000
DTSTAMP:20260425T233554
CREATED:20231129T014454Z
LAST-MODIFIED:20231129T014454Z
UID:20198-1721120400-1721131200@www.nelsonhockey.org.nz
SUMMARY:NHA U13's & U15's Training Camp
DESCRIPTION:
URL:https://www.nelsonhockey.org.nz/event/nha-u13s-u15s-training-camp/2024-07-16/
LOCATION:NELSON HOCKEY\, SAXTON FIELDS\, Nelson\, Tasman/Nelson\, 7011\, New Zealand
CATEGORIES:Hockey Clinics-Training Camps
ATTACH;FMTTYPE=image/jpeg:https://www.nelsonhockey.org.nz/wp-content/uploads/2023/11/2024-NHA-U13-U15-TRAINING-CAMPS.jpg
GEO:-41.3280994;173.2181794
X-APPLE-STRUCTURED-LOCATION;VALUE=URI;X-ADDRESS=NELSON HOCKEY SAXTON FIELDS Nelson Tasman/Nelson 7011 New Zealand;X-APPLE-RADIUS=500;X-TITLE=SAXTON FIELDS:geo:173.2181794,-41.3280994
END:VEVENT
BEGIN:VEVENT
DTSTART;VALUE=DATE:20240717
DTEND;VALUE=DATE:20240718
DTSTAMP:20260425T233554
CREATED:20231128T201132Z
LAST-MODIFIED:20231128T201132Z
UID:20176-1721174400-1721260799@www.nelsonhockey.org.nz
SUMMARY:NHA Sr.M&W Training
DESCRIPTION:
URL:https://www.nelsonhockey.org.nz/event/nha-sr-mw-training/2024-07-17/
LOCATION:NELSON HOCKEY\, SAXTON FIELDS\, Nelson\, Tasman/Nelson\, 7011\, New Zealand
CATEGORIES:NELSON SR.MEN & WOMEN
ATTACH;FMTTYPE=image/jpeg:https://www.nelsonhockey.org.nz/wp-content/uploads/2023/07/Nelson-Hockey_NHA-Representative_Facebook-Banner_Nov22.jpg
GEO:-41.3280994;173.2181794
X-APPLE-STRUCTURED-LOCATION;VALUE=URI;X-ADDRESS=NELSON HOCKEY SAXTON FIELDS Nelson Tasman/Nelson 7011 New Zealand;X-APPLE-RADIUS=500;X-TITLE=SAXTON FIELDS:geo:173.2181794,-41.3280994
END:VEVENT
BEGIN:VEVENT
DTSTART;TZID=Pacific/Auckland:20240717T183000
DTEND;TZID=Pacific/Auckland:20240717T193000
DTSTAMP:20260425T233554
CREATED:20231127T222455Z
LAST-MODIFIED:20240527T062603Z
UID:21256-1721241000-1721244600@www.nelsonhockey.org.nz
SUMMARY:Gk Training Program
DESCRIPTION:
URL:https://www.nelsonhockey.org.nz/event/gk-training-program/2024-07-17/
LOCATION:NELSON HOCKEY\, SAXTON FIELDS\, Nelson\, Tasman/Nelson\, 7011\, New Zealand
CATEGORIES:GK Training
ATTACH;FMTTYPE=image/jpeg:https://www.nelsonhockey.org.nz/wp-content/uploads/2024/05/2024-NHA-GK-Training-Program-1.jpg
GEO:-41.3280994;173.2181794
X-APPLE-STRUCTURED-LOCATION;VALUE=URI;X-ADDRESS=NELSON HOCKEY SAXTON FIELDS Nelson Tasman/Nelson 7011 New Zealand;X-APPLE-RADIUS=500;X-TITLE=SAXTON FIELDS:geo:173.2181794,-41.3280994
END:VEVENT
BEGIN:VEVENT
DTSTART;VALUE=DATE:20240719
DTEND;VALUE=DATE:20240721
DTSTAMP:20260425T233554
CREATED:20231129T014659Z
LAST-MODIFIED:20231129T014659Z
UID:20200-1721347200-1721519999@www.nelsonhockey.org.nz
SUMMARY:Maadi Cup
DESCRIPTION:
URL:https://www.nelsonhockey.org.nz/event/maadi-cup/
LOCATION:Marlborough Hockey\, Blenheim\, New Zealand
CATEGORIES:Rep Tournaments
ATTACH;FMTTYPE=image/png:https://www.nelsonhockey.org.nz/wp-content/uploads/2022/12/MARLBOROUGH-HOCKEY.png
ORGANIZER;CN="HOCKEY MARLBOROUGH":MAILTO:office@hockeymarlborough.org.nz
GEO:-41.5134425;173.9612498
END:VEVENT
BEGIN:VEVENT
DTSTART;VALUE=DATE:20240722
DTEND;VALUE=DATE:20240723
DTSTAMP:20260425T233554
CREATED:20231129T015020Z
LAST-MODIFIED:20231129T015020Z
UID:20204-1721606400-1721692799@www.nelsonhockey.org.nz
SUMMARY:U13's & U15's Registrations Due Day
DESCRIPTION:
URL:https://www.nelsonhockey.org.nz/event/u13s-u15s-registrations-due-day/
LOCATION:NELSON HOCKEY\, SAXTON FIELDS\, Nelson\, Tasman/Nelson\, 7011\, New Zealand
CATEGORIES:Junior Trials
ATTACH;FMTTYPE=image/jpeg:https://www.nelsonhockey.org.nz/wp-content/uploads/2023/07/Nelson-Hockey_NHA-Representative_Facebook-Banner_Nov22.jpg
GEO:-41.3280994;173.2181794
X-APPLE-STRUCTURED-LOCATION;VALUE=URI;X-ADDRESS=NELSON HOCKEY SAXTON FIELDS Nelson Tasman/Nelson 7011 New Zealand;X-APPLE-RADIUS=500;X-TITLE=SAXTON FIELDS:geo:173.2181794,-41.3280994
END:VEVENT
BEGIN:VEVENT
DTSTART;VALUE=DATE:20240722
DTEND;VALUE=DATE:20240928
DTSTAMP:20260425T233554
CREATED:20231203T230618Z
LAST-MODIFIED:20231203T230618Z
UID:20276-1721606400-1727481599@www.nelsonhockey.org.nz
SUMMARY:Term 3
DESCRIPTION:
URL:https://www.nelsonhockey.org.nz/event/term-3/
ATTACH;FMTTYPE=image/jpeg:https://www.nelsonhockey.org.nz/wp-content/uploads/2023/11/Back-to-school.jpg
END:VEVENT
BEGIN:VEVENT
DTSTART;VALUE=DATE:20240724
DTEND;VALUE=DATE:20240725
DTSTAMP:20260425T233554
CREATED:20231128T201132Z
LAST-MODIFIED:20231128T201132Z
UID:20177-1721779200-1721865599@www.nelsonhockey.org.nz
SUMMARY:NHA Sr.M&W Training
DESCRIPTION:
URL:https://www.nelsonhockey.org.nz/event/nha-sr-mw-training/2024-07-24/
LOCATION:NELSON HOCKEY\, SAXTON FIELDS\, Nelson\, Tasman/Nelson\, 7011\, New Zealand
CATEGORIES:NELSON SR.MEN & WOMEN
ATTACH;FMTTYPE=image/jpeg:https://www.nelsonhockey.org.nz/wp-content/uploads/2023/07/Nelson-Hockey_NHA-Representative_Facebook-Banner_Nov22.jpg
GEO:-41.3280994;173.2181794
X-APPLE-STRUCTURED-LOCATION;VALUE=URI;X-ADDRESS=NELSON HOCKEY SAXTON FIELDS Nelson Tasman/Nelson 7011 New Zealand;X-APPLE-RADIUS=500;X-TITLE=SAXTON FIELDS:geo:173.2181794,-41.3280994
END:VEVENT
BEGIN:VEVENT
DTSTART;TZID=Pacific/Auckland:20240724T183000
DTEND;TZID=Pacific/Auckland:20240724T193000
DTSTAMP:20260425T233554
CREATED:20231127T222455Z
LAST-MODIFIED:20240527T062604Z
UID:21257-1721845800-1721849400@www.nelsonhockey.org.nz
SUMMARY:Gk Training Program
DESCRIPTION:
URL:https://www.nelsonhockey.org.nz/event/gk-training-program/2024-07-24/
LOCATION:NELSON HOCKEY\, SAXTON FIELDS\, Nelson\, Tasman/Nelson\, 7011\, New Zealand
CATEGORIES:GK Training
ATTACH;FMTTYPE=image/jpeg:https://www.nelsonhockey.org.nz/wp-content/uploads/2024/05/2024-NHA-GK-Training-Program-1.jpg
GEO:-41.3280994;173.2181794
X-APPLE-STRUCTURED-LOCATION;VALUE=URI;X-ADDRESS=NELSON HOCKEY SAXTON FIELDS Nelson Tasman/Nelson 7011 New Zealand;X-APPLE-RADIUS=500;X-TITLE=SAXTON FIELDS:geo:173.2181794,-41.3280994
END:VEVENT
BEGIN:VEVENT
DTSTART;VALUE=DATE:20240726
DTEND;VALUE=DATE:20240729
DTSTAMP:20260425T233554
CREATED:20231129T014843Z
LAST-MODIFIED:20231129T014843Z
UID:20202-1721952000-1722211199@www.nelsonhockey.org.nz
SUMMARY:Gladstone & Pope Shield Tournament
DESCRIPTION:
URL:https://www.nelsonhockey.org.nz/event/gladstone-pope-shield-tournament/
LOCATION:Marlborough Hockey\, Blenheim\, New Zealand
CATEGORIES:Rep Tournaments
ATTACH;FMTTYPE=image/png:https://www.nelsonhockey.org.nz/wp-content/uploads/2021/09/Marlborough-Hockey-Logo.png
GEO:-41.5134425;173.9612498
END:VEVENT
BEGIN:VEVENT
DTSTART;VALUE=DATE:20240727
DTEND;VALUE=DATE:20240729
DTSTAMP:20260425T233554
CREATED:20231129T015225Z
LAST-MODIFIED:20231129T015225Z
UID:20206-1722038400-1722211199@www.nelsonhockey.org.nz
SUMMARY:U13's & u15's Trials
DESCRIPTION:
URL:https://www.nelsonhockey.org.nz/event/u13s-u15s-trials/
LOCATION:NELSON HOCKEY\, SAXTON FIELDS\, Nelson\, Tasman/Nelson\, 7011\, New Zealand
CATEGORIES:Junior Trials
ATTACH;FMTTYPE=image/jpeg:https://www.nelsonhockey.org.nz/wp-content/uploads/2023/07/Nelson-Hockey_NHA-Representative_Facebook-Banner_Nov22.jpg
GEO:-41.3280994;173.2181794
X-APPLE-STRUCTURED-LOCATION;VALUE=URI;X-ADDRESS=NELSON HOCKEY SAXTON FIELDS Nelson Tasman/Nelson 7011 New Zealand;X-APPLE-RADIUS=500;X-TITLE=SAXTON FIELDS:geo:173.2181794,-41.3280994
END:VEVENT
BEGIN:VEVENT
DTSTART;VALUE=DATE:20240731
DTEND;VALUE=DATE:20240801
DTSTAMP:20260425T233554
CREATED:20231129T205704Z
LAST-MODIFIED:20231129T205704Z
UID:20208-1722384000-1722470399@www.nelsonhockey.org.nz
SUMMARY:NHA U13's & U15's Teams annoucement
DESCRIPTION:
URL:https://www.nelsonhockey.org.nz/event/nha-u13s-u15s-teams-annoucement/
LOCATION:NELSON HOCKEY\, SAXTON FIELDS\, Nelson\, Tasman/Nelson\, 7011\, New Zealand
CATEGORIES:Junior Trials
ATTACH;FMTTYPE=image/jpeg:https://www.nelsonhockey.org.nz/wp-content/uploads/2023/07/Nelson-Hockey_NHA-Representative_Facebook-Banner_Nov22.jpg
GEO:-41.3280994;173.2181794
X-APPLE-STRUCTURED-LOCATION;VALUE=URI;X-ADDRESS=NELSON HOCKEY SAXTON FIELDS Nelson Tasman/Nelson 7011 New Zealand;X-APPLE-RADIUS=500;X-TITLE=SAXTON FIELDS:geo:173.2181794,-41.3280994
END:VEVENT
BEGIN:VEVENT
DTSTART;TZID=Pacific/Auckland:20240731T183000
DTEND;TZID=Pacific/Auckland:20240731T193000
DTSTAMP:20260425T233554
CREATED:20231127T222455Z
LAST-MODIFIED:20240527T062606Z
UID:21258-1722450600-1722454200@www.nelsonhockey.org.nz
SUMMARY:Gk Training Program
DESCRIPTION:
URL:https://www.nelsonhockey.org.nz/event/gk-training-program/2024-07-31/
LOCATION:NELSON HOCKEY\, SAXTON FIELDS\, Nelson\, Tasman/Nelson\, 7011\, New Zealand
CATEGORIES:GK Training
ATTACH;FMTTYPE=image/jpeg:https://www.nelsonhockey.org.nz/wp-content/uploads/2024/05/2024-NHA-GK-Training-Program-1.jpg
GEO:-41.3280994;173.2181794
X-APPLE-STRUCTURED-LOCATION;VALUE=URI;X-ADDRESS=NELSON HOCKEY SAXTON FIELDS Nelson Tasman/Nelson 7011 New Zealand;X-APPLE-RADIUS=500;X-TITLE=SAXTON FIELDS:geo:173.2181794,-41.3280994
END:VEVENT
BEGIN:VEVENT
DTSTART;VALUE=DATE:20240801
DTEND;VALUE=DATE:20240802
DTSTAMP:20260425T233554
CREATED:20231129T210317Z
LAST-MODIFIED:20231129T210317Z
UID:20216-1722470400-1722556799@www.nelsonhockey.org.nz
SUMMARY:Tasman Districts Sr.M&W Training
DESCRIPTION:
URL:https://www.nelsonhockey.org.nz/event/tasman-districts-sr-mw-training-2/
LOCATION:NELSON HOCKEY\, SAXTON FIELDS\, Nelson\, Tasman/Nelson\, 7011\, New Zealand
CATEGORIES:Tasman Districts Hockey
ATTACH;FMTTYPE=image/jpeg:https://www.nelsonhockey.org.nz/wp-content/uploads/2023/11/download.jpg
GEO:-41.3280994;173.2181794
X-APPLE-STRUCTURED-LOCATION;VALUE=URI;X-ADDRESS=NELSON HOCKEY SAXTON FIELDS Nelson Tasman/Nelson 7011 New Zealand;X-APPLE-RADIUS=500;X-TITLE=SAXTON FIELDS:geo:173.2181794,-41.3280994
END:VEVENT
BEGIN:VEVENT
DTSTART;VALUE=DATE:20240801
DTEND;VALUE=DATE:20240802
DTSTAMP:20260425T233554
CREATED:20231129T210722Z
LAST-MODIFIED:20231129T210722Z
UID:20227-1722470400-1722556799@www.nelsonhockey.org.nz
SUMMARY:NHA U15's Training
DESCRIPTION:
URL:https://www.nelsonhockey.org.nz/event/nha-u15s-training/
LOCATION:NELSON HOCKEY\, SAXTON FIELDS\, Nelson\, Tasman/Nelson\, 7011\, New Zealand
CATEGORIES:Junior Trials
ATTACH;FMTTYPE=image/jpeg:https://www.nelsonhockey.org.nz/wp-content/uploads/2023/07/Nelson-Hockey_NHA-Representative_Facebook-Banner_Nov22.jpg
GEO:-41.3280994;173.2181794
X-APPLE-STRUCTURED-LOCATION;VALUE=URI;X-ADDRESS=NELSON HOCKEY SAXTON FIELDS Nelson Tasman/Nelson 7011 New Zealand;X-APPLE-RADIUS=500;X-TITLE=SAXTON FIELDS:geo:173.2181794,-41.3280994
END:VEVENT
END:VCALENDAR