BEGIN:VCALENDAR
VERSION:2.0
PRODID:-//Nelson Hockey Association (1993) Inc - ECPv6.15.16//NONSGML v1.0//EN
CALSCALE:GREGORIAN
METHOD:PUBLISH
X-WR-CALNAME:Nelson Hockey Association (1993) Inc
X-ORIGINAL-URL:https://www.nelsonhockey.org.nz
X-WR-CALDESC:Events for Nelson Hockey Association (1993) Inc
REFRESH-INTERVAL;VALUE=DURATION:PT1H
X-Robots-Tag:noindex
X-PUBLISHED-TTL:PT1H
BEGIN:VTIMEZONE
TZID:Pacific/Auckland
BEGIN:STANDARD
TZOFFSETFROM:+1300
TZOFFSETTO:+1200
TZNAME:NZST
DTSTART:20240406T140000
END:STANDARD
BEGIN:DAYLIGHT
TZOFFSETFROM:+1200
TZOFFSETTO:+1300
TZNAME:NZDT
DTSTART:20240928T140000
END:DAYLIGHT
BEGIN:STANDARD
TZOFFSETFROM:+1300
TZOFFSETTO:+1200
TZNAME:NZST
DTSTART:20250405T140000
END:STANDARD
BEGIN:DAYLIGHT
TZOFFSETFROM:+1200
TZOFFSETTO:+1300
TZNAME:NZDT
DTSTART:20250927T140000
END:DAYLIGHT
BEGIN:STANDARD
TZOFFSETFROM:+1300
TZOFFSETTO:+1200
TZNAME:NZST
DTSTART:20260404T140000
END:STANDARD
BEGIN:DAYLIGHT
TZOFFSETFROM:+1200
TZOFFSETTO:+1300
TZNAME:NZDT
DTSTART:20260926T140000
END:DAYLIGHT
END:VTIMEZONE
BEGIN:VEVENT
DTSTART;TZID=Pacific/Auckland:20250521T170000
DTEND;TZID=Pacific/Auckland:20250521T173000
DTSTAMP:20260422T062946
CREATED:20250516T020412Z
LAST-MODIFIED:20250516T020412Z
UID:24039-1747846800-1747848600@www.nelsonhockey.org.nz
SUMMARY:Primary Grade - Round 1 - Tasman Tigers VS Federal Primary
DESCRIPTION:
URL:https://www.nelsonhockey.org.nz/event/primary-grade-round-1-tasman-tigers-vs-federal-primary/
CATEGORIES:Club Competition Week
END:VEVENT
BEGIN:VEVENT
DTSTART;TZID=Pacific/Auckland:20250521T173000
DTEND;TZID=Pacific/Auckland:20250521T180000
DTSTAMP:20260422T062946
CREATED:20250516T020412Z
LAST-MODIFIED:20250516T020412Z
UID:24040-1747848600-1747850400@www.nelsonhockey.org.nz
SUMMARY:Primary Grade - Round 1 - St Paul's Tasman VS Stoke Primary Mixed
DESCRIPTION:
URL:https://www.nelsonhockey.org.nz/event/primary-grade-round-1-st-pauls-tasman-vs-stoke-primary-mixed/
CATEGORIES:Club Competition Week
END:VEVENT
BEGIN:VEVENT
DTSTART;TZID=Pacific/Auckland:20250521T173000
DTEND;TZID=Pacific/Auckland:20250521T180000
DTSTAMP:20260422T062946
CREATED:20250516T020416Z
LAST-MODIFIED:20250516T020416Z
UID:24041-1747848600-1747850400@www.nelsonhockey.org.nz
SUMMARY:Primary Grade - Round 1 - Waimai United VS Waimai United Whizzers
DESCRIPTION:
URL:https://www.nelsonhockey.org.nz/event/primary-grade-round-1-waimai-united-vs-waimai-united-whizzers/
CATEGORIES:Club Competition Week
END:VEVENT
BEGIN:VEVENT
DTSTART;TZID=Pacific/Auckland:20250521T173500
DTEND;TZID=Pacific/Auckland:20250521T184000
DTSTAMP:20260422T062946
CREATED:20250514T031334Z
LAST-MODIFIED:20250514T031334Z
UID:23981-1747848900-1747852800@www.nelsonhockey.org.nz
SUMMARY:Intermediate Grade - Round 1 - Federal Intermediate vs N.C.G. Prep Thunder
DESCRIPTION:
URL:https://www.nelsonhockey.org.nz/event/intermediate-grade-round-1-federal-intermediate-vs-n-c-g-prep-thunder/
CATEGORIES:Club Competition Week
END:VEVENT
BEGIN:VEVENT
DTSTART;TZID=Pacific/Auckland:20250521T173500
DTEND;TZID=Pacific/Auckland:20250521T184000
DTSTAMP:20260422T062946
CREATED:20250514T031335Z
LAST-MODIFIED:20250514T031335Z
UID:23982-1747848900-1747852800@www.nelsonhockey.org.nz
SUMMARY:Intermediate Grade - Round 1 - Waimai United  - Orange vs Stoke Intermediate mixed
DESCRIPTION:
URL:https://www.nelsonhockey.org.nz/event/intermediate-grade-round-1-waimai-united-orange-vs-stoke-intermediate-mixed/
CATEGORIES:Club Competition Week
END:VEVENT
BEGIN:VEVENT
DTSTART;TZID=Pacific/Auckland:20250521T180000
DTEND;TZID=Pacific/Auckland:20250521T190000
DTSTAMP:20260422T062946
CREATED:20241228T011442Z
LAST-MODIFIED:20241228T011442Z
UID:22624-1747850400-1747854000@www.nelsonhockey.org.nz
SUMMARY:GK Training Program
DESCRIPTION:
URL:https://www.nelsonhockey.org.nz/event/gk-training-program-2/2025-05-21/
LOCATION:NELSON HOCKEY\, SAXTON FIELDS\, Nelson\, Tasman/Nelson\, 7011\, New Zealand
CATEGORIES:GK TRAINING PROGRAM
ATTACH;FMTTYPE=image/jpeg:https://www.nelsonhockey.org.nz/wp-content/uploads/2024/10/2025-NHA-GK-Training-Program.jpg
GEO:-41.3280994;173.2181794
X-APPLE-STRUCTURED-LOCATION;VALUE=URI;X-ADDRESS=NELSON HOCKEY SAXTON FIELDS Nelson Tasman/Nelson 7011 New Zealand;X-APPLE-RADIUS=500;X-TITLE=SAXTON FIELDS:geo:173.2181794,-41.3280994
END:VEVENT
BEGIN:VEVENT
DTSTART;TZID=Pacific/Auckland:20250522T154500
DTEND;TZID=Pacific/Auckland:20250522T183000
DTSTAMP:20260422T062946
CREATED:20241228T220923Z
LAST-MODIFIED:20241228T220923Z
UID:22655-1747928700-1747938600@www.nelsonhockey.org.nz
SUMMARY:Junior Program II
DESCRIPTION:
URL:https://www.nelsonhockey.org.nz/event/junior-program-ii-7/2025-05-22/
LOCATION:NELSON HOCKEY\, SAXTON FIELDS\, Nelson\, Tasman/Nelson\, 7011\, New Zealand
CATEGORIES:Junior Programme
ATTACH;FMTTYPE=image/jpeg:https://www.nelsonhockey.org.nz/wp-content/uploads/2024/10/2025-NHA-Junior-Programme-II.jpg
GEO:-41.3280994;173.2181794
X-APPLE-STRUCTURED-LOCATION;VALUE=URI;X-ADDRESS=NELSON HOCKEY SAXTON FIELDS Nelson Tasman/Nelson 7011 New Zealand;X-APPLE-RADIUS=500;X-TITLE=SAXTON FIELDS:geo:173.2181794,-41.3280994
END:VEVENT
BEGIN:VEVENT
DTSTART;TZID=Pacific/Auckland:20250522T160000
DTEND;TZID=Pacific/Auckland:20250522T203000
DTSTAMP:20260422T062946
CREATED:20241228T214745Z
LAST-MODIFIED:20241228T214745Z
UID:22645-1747929600-1747945800@www.nelsonhockey.org.nz
SUMMARY:Player Development Program II-(U13's & U15's)-Performance Program II (U18's)
DESCRIPTION:
URL:https://www.nelsonhockey.org.nz/event/player-development-program-ii-u13s-u15s-performance-program-ii-u18s/2025-05-22/
LOCATION:NELSON HOCKEY\, SAXTON FIELDS\, Nelson\, Tasman/Nelson\, 7011\, New Zealand
CATEGORIES:U13-U15 Development Programme
ATTACH;FMTTYPE=image/jpeg:https://www.nelsonhockey.org.nz/wp-content/uploads/2024/12/2025-NHA-U13-U15-DEVELOPMENT-PROGRAM-II.jpg
GEO:-41.3280994;173.2181794
X-APPLE-STRUCTURED-LOCATION;VALUE=URI;X-ADDRESS=NELSON HOCKEY SAXTON FIELDS Nelson Tasman/Nelson 7011 New Zealand;X-APPLE-RADIUS=500;X-TITLE=SAXTON FIELDS:geo:173.2181794,-41.3280994
END:VEVENT
BEGIN:VEVENT
DTSTART;TZID=Pacific/Auckland:20250523T163000
DTEND;TZID=Pacific/Auckland:20250523T180000
DTSTAMP:20260422T062946
CREATED:20250430T031159Z
LAST-MODIFIED:20250430T031159Z
UID:23731-1748017800-1748023200@www.nelsonhockey.org.nz
SUMMARY:Secondary Boys - Round 4 - NC Sky vs Federal
DESCRIPTION:
URL:https://www.nelsonhockey.org.nz/event/secondary-boys-round-4-nc-sky-vs-federal/
CATEGORIES:Club Competition Week
END:VEVENT
BEGIN:VEVENT
DTSTART;TZID=Pacific/Auckland:20250523T163000
DTEND;TZID=Pacific/Auckland:20250523T180000
DTSTAMP:20260422T062946
CREATED:20250430T031451Z
LAST-MODIFIED:20250430T031451Z
UID:23805-1748017800-1748023200@www.nelsonhockey.org.nz
SUMMARY:Secondary Girls/Mixed - Round 4 - Garin Senior Girls vs Nelson College for Girls 9&10
DESCRIPTION:
URL:https://www.nelsonhockey.org.nz/event/secondary-girls-mixed-round-4-garin-senior-girls-vs-nelson-college-for-girls-910/
CATEGORIES:Club Competition Week
END:VEVENT
BEGIN:VEVENT
DTSTART;TZID=Pacific/Auckland:20250523T175500
DTEND;TZID=Pacific/Auckland:20250523T192500
DTSTAMP:20260422T062946
CREATED:20250430T031012Z
LAST-MODIFIED:20250430T031012Z
UID:23743-1748022900-1748028300@www.nelsonhockey.org.nz
SUMMARY:Secondary Boys - Round 4 - Waimai United vs NC Navy
DESCRIPTION:
URL:https://www.nelsonhockey.org.nz/event/secondary-boys-round-4-waimai-united-vs-nc-navy/
CATEGORIES:Club Competition Week
END:VEVENT
BEGIN:VEVENT
DTSTART;TZID=Pacific/Auckland:20250523T175500
DTEND;TZID=Pacific/Auckland:20250523T192500
DTSTAMP:20260422T062946
CREATED:20250430T031854Z
LAST-MODIFIED:20250430T031854Z
UID:23817-1748022900-1748028300@www.nelsonhockey.org.nz
SUMMARY:Secondary Girls/Mixed - Round 4 - Nelson College for Girls combined vs Garin Development
DESCRIPTION:
URL:https://www.nelsonhockey.org.nz/event/secondary-girls-mixed-round-4-nelson-college-for-girls-combined-vs-garin-development/
CATEGORIES:Club Competition Week
END:VEVENT
BEGIN:VEVENT
DTSTART;TZID=Pacific/Auckland:20250523T192000
DTEND;TZID=Pacific/Auckland:20250523T205000
DTSTAMP:20260422T062946
CREATED:20250430T030218Z
LAST-MODIFIED:20250430T030218Z
UID:23755-1748028000-1748033400@www.nelsonhockey.org.nz
SUMMARY:Secondary Boys - Round 4 - Garin Senior Boys vs Stoke Mixed Secondary
DESCRIPTION:
URL:https://www.nelsonhockey.org.nz/event/secondary-boys-round-4-garin-senior-boys-vs-stoke-mixed-secondary/
CATEGORIES:Club Competition Week
END:VEVENT
BEGIN:VEVENT
DTSTART;TZID=Pacific/Auckland:20250523T192000
DTEND;TZID=Pacific/Auckland:20250523T205000
DTSTAMP:20260422T062946
CREATED:20250430T032255Z
LAST-MODIFIED:20250430T032255Z
UID:23829-1748028000-1748033400@www.nelsonhockey.org.nz
SUMMARY:Secondary Girls/Mixed - Round 4 - Tasman Titans vs Waimea College Tasman
DESCRIPTION:
URL:https://www.nelsonhockey.org.nz/event/secondary-girls-mixed-round-4-tasman-titans-vs-waimea-college-tasman/
CATEGORIES:Club Competition Week
END:VEVENT
BEGIN:VEVENT
DTSTART;TZID=Pacific/Auckland:20250524T133000
DTEND;TZID=Pacific/Auckland:20250524T150000
DTSTAMP:20260422T062946
CREATED:20250404T012949Z
LAST-MODIFIED:20250404T012954Z
UID:23460-1748093400-1748098800@www.nelsonhockey.org.nz
SUMMARY:Premier 1 Men - Round 7 - Tasman Black vs. Stoke Premier Men
DESCRIPTION:
URL:https://www.nelsonhockey.org.nz/event/premier-1-men-round-7-tasman-black-vs-stoke-premier-men/
CATEGORIES:Club Competition Week
END:VEVENT
BEGIN:VEVENT
DTSTART;TZID=Pacific/Auckland:20250524T134500
DTEND;TZID=Pacific/Auckland:20250524T151500
DTSTAMP:20260422T062946
CREATED:20250404T013038Z
LAST-MODIFIED:20250404T013038Z
UID:23477-1748094300-1748099700@www.nelsonhockey.org.nz
SUMMARY:Premier 1 Women - Round 6 - Stoke P1 Women vs. Federal Premier Women
DESCRIPTION:
URL:https://www.nelsonhockey.org.nz/event/premier-1-women-round-6-stoke-p1-women-vs-federal-premier-women/
CATEGORIES:Club Competition Week
END:VEVENT
BEGIN:VEVENT
DTSTART;TZID=Pacific/Auckland:20250524T151500
DTEND;TZID=Pacific/Auckland:20250524T164500
DTSTAMP:20260422T062946
CREATED:20250404T013148Z
LAST-MODIFIED:20250404T013148Z
UID:23519-1748099700-1748105100@www.nelsonhockey.org.nz
SUMMARY:Premier 1 Men - Round 7 - Waimai United P1 Men vs. Federal Premier Men
DESCRIPTION:
URL:https://www.nelsonhockey.org.nz/event/premier-1-men-round-7-waimai-united-p1-men-vs-federal-premier-men/
CATEGORIES:Club Competition Week
END:VEVENT
BEGIN:VEVENT
DTSTART;TZID=Pacific/Auckland:20250524T153000
DTEND;TZID=Pacific/Auckland:20250524T170000
DTSTAMP:20260422T062946
CREATED:20250404T013229Z
LAST-MODIFIED:20250404T013229Z
UID:23536-1748100600-1748106000@www.nelsonhockey.org.nz
SUMMARY:Premier 1 Women - Round 6 - Waimai United P1 Women vs. Tasman Black Women's P1
DESCRIPTION:
URL:https://www.nelsonhockey.org.nz/event/premier-1-women-round-6-waimai-united-p1-women-vs-tasman-black-womens-p1/
CATEGORIES:Club Competition Week
END:VEVENT
BEGIN:VEVENT
DTSTART;TZID=Pacific/Auckland:20250525T110000
DTEND;TZID=Pacific/Auckland:20250525T123000
DTSTAMP:20260422T062946
CREATED:20250404T012119Z
LAST-MODIFIED:20250404T012119Z
UID:23401-1748170800-1748176200@www.nelsonhockey.org.nz
SUMMARY:Premier 2 Men - Round 7 - Stoke Gold P2 Men vs. Nelson College
DESCRIPTION:
URL:https://www.nelsonhockey.org.nz/event/premier-2-men-round-7-stoke-gold-p2-men-vs-nelson-college/
CATEGORIES:Club Competition Week
END:VEVENT
BEGIN:VEVENT
DTSTART;TZID=Pacific/Auckland:20250525T111500
DTEND;TZID=Pacific/Auckland:20250525T124500
DTSTAMP:20260422T062946
CREATED:20250404T012722Z
LAST-MODIFIED:20250404T012722Z
UID:23415-1748171700-1748177100@www.nelsonhockey.org.nz
SUMMARY:Premier 2 Women - Round 7 - Stoke Gold vs. Nelson College for Girls 1st XI
DESCRIPTION:
URL:https://www.nelsonhockey.org.nz/event/premier-2-women-round-7-stoke-gold-vs-nelson-college-for-girls-1st-xi/
CATEGORIES:Club Competition Week
END:VEVENT
BEGIN:VEVENT
DTSTART;TZID=Pacific/Auckland:20250525T124500
DTEND;TZID=Pacific/Auckland:20250525T141500
DTSTAMP:20260422T062946
CREATED:20250404T012829Z
LAST-MODIFIED:20250404T012829Z
UID:23429-1748177100-1748182500@www.nelsonhockey.org.nz
SUMMARY:Premier 2 Men - Round 7 - Waimai United P2 Men vs. Federal Coffin Dodgers
DESCRIPTION:
URL:https://www.nelsonhockey.org.nz/event/premier-2-men-round-7-waimai-united-p2-men-vs-federal-coffin-dodgers/
CATEGORIES:Club Competition Week
END:VEVENT
BEGIN:VEVENT
DTSTART;TZID=Pacific/Auckland:20250525T130000
DTEND;TZID=Pacific/Auckland:20250525T143000
DTSTAMP:20260422T062946
CREATED:20250404T012852Z
LAST-MODIFIED:20250404T012852Z
UID:23442-1748178000-1748183400@www.nelsonhockey.org.nz
SUMMARY:Premier 2 Women - Round 7 - Tasman Women's P2 vs. Rewa Hockey
DESCRIPTION:
URL:https://www.nelsonhockey.org.nz/event/premier-2-women-round-7-tasman-womens-p2-vs-rewa-hockey/
CATEGORIES:Club Competition Week
END:VEVENT
BEGIN:VEVENT
DTSTART;TZID=Pacific/Auckland:20250525T143000
DTEND;TZID=Pacific/Auckland:20250525T160000
DTSTAMP:20260422T062946
CREATED:20250404T013052Z
LAST-MODIFIED:20250404T013052Z
UID:23491-1748183400-1748188800@www.nelsonhockey.org.nz
SUMMARY:Premier 2 Men - Round 7 - Stoke Black P2 Men vs. Tasman P2 Mens
DESCRIPTION:
URL:https://www.nelsonhockey.org.nz/event/premier-2-men-round-7-stoke-black-p2-men-vs-tasman-p2-mens/
CATEGORIES:Club Competition Week
END:VEVENT
BEGIN:VEVENT
DTSTART;TZID=Pacific/Auckland:20250525T144500
DTEND;TZID=Pacific/Auckland:20250525T161500
DTSTAMP:20260422T062946
CREATED:20250404T013123Z
LAST-MODIFIED:20250404T013123Z
UID:23505-1748184300-1748189700@www.nelsonhockey.org.nz
SUMMARY:Premier 2 Women - Round 7 - Waimai United P2 Women vs. Federal Senior Women
DESCRIPTION:
URL:https://www.nelsonhockey.org.nz/event/premier-2-women-round-7-waimai-united-p2-women-vs-federal-senior-women/
CATEGORIES:Club Competition Week
END:VEVENT
BEGIN:VEVENT
DTSTART;TZID=Pacific/Auckland:20250528T163000
DTEND;TZID=Pacific/Auckland:20250528T170000
DTSTAMP:20260422T062946
CREATED:20250516T020416Z
LAST-MODIFIED:20250516T020416Z
UID:24042-1748449800-1748451600@www.nelsonhockey.org.nz
SUMMARY:Primary Grade - Round 2 - Tasman Tigers VS Waimai United
DESCRIPTION:
URL:https://www.nelsonhockey.org.nz/event/primary-grade-round-2-tasman-tigers-vs-waimai-united/
CATEGORIES:Club Competition Week
END:VEVENT
BEGIN:VEVENT
DTSTART;TZID=Pacific/Auckland:20250528T163000
DTEND;TZID=Pacific/Auckland:20250528T170000
DTSTAMP:20260422T062946
CREATED:20250516T020417Z
LAST-MODIFIED:20250516T020417Z
UID:24044-1748449800-1748451600@www.nelsonhockey.org.nz
SUMMARY:Primary Grade - Round 2 - Federal Primary VS Stoke Primary Mixed
DESCRIPTION:
URL:https://www.nelsonhockey.org.nz/event/primary-grade-round-2-federal-primary-vs-stoke-primary-mixed/
CATEGORIES:Club Competition Week
END:VEVENT
BEGIN:VEVENT
DTSTART;TZID=Pacific/Auckland:20250528T163000
DTEND;TZID=Pacific/Auckland:20250528T173500
DTSTAMP:20260422T062946
CREATED:20250514T031336Z
LAST-MODIFIED:20250514T031336Z
UID:23985-1748449800-1748453700@www.nelsonhockey.org.nz
SUMMARY:Intermediate Grade - Round 2 - Waimai United vs Waimai United  - Orange
DESCRIPTION:
URL:https://www.nelsonhockey.org.nz/event/intermediate-grade-round-2-waimai-united-vs-waimai-united-orange/
CATEGORIES:Club Competition Week
END:VEVENT
BEGIN:VEVENT
DTSTART;TZID=Pacific/Auckland:20250528T163000
DTEND;TZID=Pacific/Auckland:20250528T173500
DTSTAMP:20260422T062946
CREATED:20250514T031338Z
LAST-MODIFIED:20250514T031338Z
UID:23988-1748449800-1748453700@www.nelsonhockey.org.nz
SUMMARY:Intermediate Grade - Round 2 - N.C.G. Prep Storm vs NC Prep Navy
DESCRIPTION:
URL:https://www.nelsonhockey.org.nz/event/intermediate-grade-round-2-n-c-g-prep-storm-vs-nc-prep-navy/
CATEGORIES:Club Competition Week
END:VEVENT
BEGIN:VEVENT
DTSTART;TZID=Pacific/Auckland:20250528T170000
DTEND;TZID=Pacific/Auckland:20250528T173000
DTSTAMP:20260422T062946
CREATED:20250516T020417Z
LAST-MODIFIED:20250516T020417Z
UID:24045-1748451600-1748453400@www.nelsonhockey.org.nz
SUMMARY:Primary Grade - Round 2 - Federal Primary VS St Paul's Tasman
DESCRIPTION:
URL:https://www.nelsonhockey.org.nz/event/primary-grade-round-2-federal-primary-vs-st-pauls-tasman/
CATEGORIES:Club Competition Week
END:VEVENT
BEGIN:VEVENT
DTSTART;TZID=Pacific/Auckland:20250528T170000
DTEND;TZID=Pacific/Auckland:20250528T173000
DTSTAMP:20260422T062946
CREATED:20250516T020617Z
LAST-MODIFIED:20250516T020617Z
UID:24047-1748451600-1748453400@www.nelsonhockey.org.nz
SUMMARY:Primary Grade - Round 2 - Waimai United Whizzers VS Tasman Tigers
DESCRIPTION:
URL:https://www.nelsonhockey.org.nz/event/primary-grade-round-2-waimai-united-whizzers-vs-tasman-tigers/
CATEGORIES:Club Competition Week
END:VEVENT
END:VCALENDAR