BEGIN:VCALENDAR
VERSION:2.0
PRODID:-//Nelson Hockey Association (1993) Inc - ECPv6.15.16//NONSGML v1.0//EN
CALSCALE:GREGORIAN
METHOD:PUBLISH
X-WR-CALNAME:Nelson Hockey Association (1993) Inc
X-ORIGINAL-URL:https://www.nelsonhockey.org.nz
X-WR-CALDESC:Events for Nelson Hockey Association (1993) Inc
REFRESH-INTERVAL;VALUE=DURATION:PT1H
X-Robots-Tag:noindex
X-PUBLISHED-TTL:PT1H
BEGIN:VTIMEZONE
TZID:Pacific/Auckland
BEGIN:STANDARD
TZOFFSETFROM:+1300
TZOFFSETTO:+1200
TZNAME:NZST
DTSTART:20240406T140000
END:STANDARD
BEGIN:DAYLIGHT
TZOFFSETFROM:+1200
TZOFFSETTO:+1300
TZNAME:NZDT
DTSTART:20240928T140000
END:DAYLIGHT
BEGIN:STANDARD
TZOFFSETFROM:+1300
TZOFFSETTO:+1200
TZNAME:NZST
DTSTART:20250405T140000
END:STANDARD
BEGIN:DAYLIGHT
TZOFFSETFROM:+1200
TZOFFSETTO:+1300
TZNAME:NZDT
DTSTART:20250927T140000
END:DAYLIGHT
BEGIN:STANDARD
TZOFFSETFROM:+1300
TZOFFSETTO:+1200
TZNAME:NZST
DTSTART:20260404T140000
END:STANDARD
BEGIN:DAYLIGHT
TZOFFSETFROM:+1200
TZOFFSETTO:+1300
TZNAME:NZDT
DTSTART:20260926T140000
END:DAYLIGHT
END:VTIMEZONE
BEGIN:VEVENT
DTSTART;TZID=Pacific/Auckland:20250502T175500
DTEND;TZID=Pacific/Auckland:20250502T192500
DTSTAMP:20260421T165953
CREATED:20250430T031025Z
LAST-MODIFIED:20250430T031025Z
UID:23740-1746208500-1746213900@www.nelsonhockey.org.nz
SUMMARY:Secondary Boys - Round 1 - NC Navy vs NC Sky
DESCRIPTION:
URL:https://www.nelsonhockey.org.nz/event/secondary-boys-round-1-nc-navy-vs-nc-sky/
LOCATION:Tasman/Nelson
CATEGORIES:Club Competition Week
END:VEVENT
BEGIN:VEVENT
DTSTART;TZID=Pacific/Auckland:20250502T175500
DTEND;TZID=Pacific/Auckland:20250502T192500
DTSTAMP:20260421T165953
CREATED:20250430T031655Z
LAST-MODIFIED:20250430T031655Z
UID:23814-1746208500-1746213900@www.nelsonhockey.org.nz
SUMMARY:Secondary Girls/Mixed - Round 1 - Garin Development vs Garin Senior Girls
DESCRIPTION:
URL:https://www.nelsonhockey.org.nz/event/secondary-girls-mixed-round-1-garin-development-vs-garin-senior-girls/
LOCATION:Tasman/Nelson
CATEGORIES:Club Competition Week
END:VEVENT
BEGIN:VEVENT
DTSTART;TZID=Pacific/Auckland:20250502T192000
DTEND;TZID=Pacific/Auckland:20250502T205000
DTSTAMP:20260421T165953
CREATED:20250430T030455Z
LAST-MODIFIED:20250430T030455Z
UID:23752-1746213600-1746219000@www.nelsonhockey.org.nz
SUMMARY:Secondary Boys - Round 1 - Stoke Mixed Secondary vs Federal
DESCRIPTION:
URL:https://www.nelsonhockey.org.nz/event/secondary-boys-round-1-stoke-mixed-secondary-vs-federal/
LOCATION:Tasman/Nelson
CATEGORIES:Club Competition Week
END:VEVENT
BEGIN:VEVENT
DTSTART;TZID=Pacific/Auckland:20250502T192000
DTEND;TZID=Pacific/Auckland:20250502T205000
DTSTAMP:20260421T165953
CREATED:20250430T032058Z
LAST-MODIFIED:20250430T032058Z
UID:23826-1746213600-1746219000@www.nelsonhockey.org.nz
SUMMARY:Secondary Girls/Mixed - Round 1 - Waimea College Tasman vs Nelson College for Girls 9&10
DESCRIPTION:
URL:https://www.nelsonhockey.org.nz/event/secondary-girls-mixed-round-1-waimea-college-tasman-vs-nelson-college-for-girls-910/
LOCATION:Tasman/Nelson
CATEGORIES:Club Competition Week
END:VEVENT
BEGIN:VEVENT
DTSTART;TZID=Pacific/Auckland:20250503T090000
DTEND;TZID=Pacific/Auckland:20250503T103000
DTSTAMP:20260421T165953
CREATED:20241228T214328Z
LAST-MODIFIED:20241228T214328Z
UID:22638-1746262800-1746268200@www.nelsonhockey.org.nz
SUMMARY:JR.HOCKEY CLUB OPEN DAY+(2nd. Hand Gear)
DESCRIPTION:
URL:https://www.nelsonhockey.org.nz/event/jr-hockey-club-open-day2nd-hand-gear/
LOCATION:NELSON HOCKEY\, SAXTON FIELDS\, Nelson\, Tasman/Nelson\, 7011\, New Zealand
CATEGORIES:Events
ATTACH;FMTTYPE=image/jpeg:https://www.nelsonhockey.org.nz/wp-content/uploads/2024/12/2025-NHA-OPEN-DAY.jpg
GEO:-41.3280994;173.2181794
X-APPLE-STRUCTURED-LOCATION;VALUE=URI;X-ADDRESS=NELSON HOCKEY SAXTON FIELDS Nelson Tasman/Nelson 7011 New Zealand;X-APPLE-RADIUS=500;X-TITLE=SAXTON FIELDS:geo:173.2181794,-41.3280994
END:VEVENT
BEGIN:VEVENT
DTSTART;TZID=Pacific/Auckland:20250503T133000
DTEND;TZID=Pacific/Auckland:20250503T150000
DTSTAMP:20260421T165953
CREATED:20250404T012930Z
LAST-MODIFIED:20250404T012932Z
UID:23452-1746279000-1746284400@www.nelsonhockey.org.nz
SUMMARY:Premier 1 Women - Round 4 - Tasman Black Women's P1 vs. Stoke P1 Women
DESCRIPTION:
URL:https://www.nelsonhockey.org.nz/event/premier-1-women-round-4-tasman-black-womens-p1-vs-stoke-p1-women/
LOCATION:Tasman/Nelson
CATEGORIES:Club Competition Week
END:VEVENT
BEGIN:VEVENT
DTSTART;TZID=Pacific/Auckland:20250503T134500
DTEND;TZID=Pacific/Auckland:20250503T151500
DTSTAMP:20260421T165953
CREATED:20250404T013036Z
LAST-MODIFIED:20250404T013036Z
UID:23475-1746279900-1746285300@www.nelsonhockey.org.nz
SUMMARY:Premier 1 Men - Round 4 - Stoke Premier Men vs. Waimai United P1 Men
DESCRIPTION:
URL:https://www.nelsonhockey.org.nz/event/premier-1-men-round-4-stoke-premier-men-vs-waimai-united-p1-men/
LOCATION:Tasman/Nelson
CATEGORIES:Club Competition Week
END:VEVENT
BEGIN:VEVENT
DTSTART;TZID=Pacific/Auckland:20250503T151500
DTEND;TZID=Pacific/Auckland:20250503T164500
DTSTAMP:20260421T165953
CREATED:20250404T013147Z
LAST-MODIFIED:20250404T013147Z
UID:23516-1746285300-1746290700@www.nelsonhockey.org.nz
SUMMARY:Premier 1 Women - Round 4 - Waimai United P1 Women vs. Federal Premier Women
DESCRIPTION:
URL:https://www.nelsonhockey.org.nz/event/premier-1-women-round-4-waimai-united-p1-women-vs-federal-premier-women/
LOCATION:Tasman/Nelson
CATEGORIES:Club Competition Week
END:VEVENT
BEGIN:VEVENT
DTSTART;TZID=Pacific/Auckland:20250503T153000
DTEND;TZID=Pacific/Auckland:20250503T170000
DTSTAMP:20260421T165953
CREATED:20250404T013216Z
LAST-MODIFIED:20250404T013216Z
UID:23534-1746286200-1746291600@www.nelsonhockey.org.nz
SUMMARY:Premier 1 Men - Round 4 - Tasman White vs. Tasman Black
DESCRIPTION:
URL:https://www.nelsonhockey.org.nz/event/premier-1-men-round-4-tasman-white-vs-tasman-black/
LOCATION:Tasman/Nelson
CATEGORIES:Club Competition Week
END:VEVENT
BEGIN:VEVENT
DTSTART;TZID=Pacific/Auckland:20250504T110000
DTEND;TZID=Pacific/Auckland:20250504T123000
DTSTAMP:20260421T165953
CREATED:20250404T012115Z
LAST-MODIFIED:20250404T012115Z
UID:23398-1746356400-1746361800@www.nelsonhockey.org.nz
SUMMARY:Premier 2 Women - Round 4 - Waimai United P2 Women vs. Nelson College for Girls 1st XI
DESCRIPTION:
URL:https://www.nelsonhockey.org.nz/event/premier-2-women-round-4-waimai-united-p2-women-vs-nelson-college-for-girls-1st-xi/
LOCATION:Tasman/Nelson
CATEGORIES:Club Competition Week
END:VEVENT
BEGIN:VEVENT
DTSTART;TZID=Pacific/Auckland:20250504T111500
DTEND;TZID=Pacific/Auckland:20250504T124500
DTSTAMP:20260421T165953
CREATED:20250404T012521Z
LAST-MODIFIED:20250404T012521Z
UID:23412-1746357300-1746362700@www.nelsonhockey.org.nz
SUMMARY:Premier 2 Men - Round 4 - Stoke Gold P2 Men vs. Federal Coffin Dodgers
DESCRIPTION:
URL:https://www.nelsonhockey.org.nz/event/premier-2-men-round-4-stoke-gold-p2-men-vs-federal-coffin-dodgers/
LOCATION:Tasman/Nelson
CATEGORIES:Club Competition Week
END:VEVENT
BEGIN:VEVENT
DTSTART;TZID=Pacific/Auckland:20250504T124500
DTEND;TZID=Pacific/Auckland:20250504T141500
DTSTAMP:20260421T165953
CREATED:20250404T012827Z
LAST-MODIFIED:20250404T012827Z
UID:23426-1746362700-1746368100@www.nelsonhockey.org.nz
SUMMARY:Premier 2 Women - Round 4 - Stoke Gold vs. Rewa Hockey
DESCRIPTION:
URL:https://www.nelsonhockey.org.nz/event/premier-2-women-round-4-stoke-gold-vs-rewa-hockey/
LOCATION:Tasman/Nelson
CATEGORIES:Club Competition Week
END:VEVENT
BEGIN:VEVENT
DTSTART;TZID=Pacific/Auckland:20250504T130000
DTEND;TZID=Pacific/Auckland:20250504T143000
DTSTAMP:20260421T165953
CREATED:20250404T012848Z
LAST-MODIFIED:20250404T012848Z
UID:23439-1746363600-1746369000@www.nelsonhockey.org.nz
SUMMARY:Premier 2 Men - Round 4 - Tasman P2 Mens vs. Nelson College
DESCRIPTION:
URL:https://www.nelsonhockey.org.nz/event/premier-2-men-round-4-tasman-p2-mens-vs-nelson-college/
LOCATION:Tasman/Nelson
CATEGORIES:Club Competition Week
END:VEVENT
BEGIN:VEVENT
DTSTART;TZID=Pacific/Auckland:20250504T143000
DTEND;TZID=Pacific/Auckland:20250504T160000
DTSTAMP:20260421T165953
CREATED:20250404T013049Z
LAST-MODIFIED:20250404T013049Z
UID:23488-1746369000-1746374400@www.nelsonhockey.org.nz
SUMMARY:Premier 2 Women - Round 4 - Tasman Women's P2 vs. Endeavours
DESCRIPTION:
URL:https://www.nelsonhockey.org.nz/event/premier-2-women-round-4-tasman-womens-p2-vs-endeavours/
LOCATION:Tasman/Nelson
CATEGORIES:Club Competition Week
END:VEVENT
BEGIN:VEVENT
DTSTART;TZID=Pacific/Auckland:20250504T144500
DTEND;TZID=Pacific/Auckland:20250504T161500
DTSTAMP:20260421T165953
CREATED:20250404T013113Z
LAST-MODIFIED:20250404T013113Z
UID:23502-1746369900-1746375300@www.nelsonhockey.org.nz
SUMMARY:Premier 2 Men - Round 4 - Stoke Black P2 Men vs. Waimai United P2 Men
DESCRIPTION:
URL:https://www.nelsonhockey.org.nz/event/premier-2-men-round-4-stoke-black-p2-men-vs-waimai-united-p2-men/
LOCATION:Tasman/Nelson
CATEGORIES:Club Competition Week
END:VEVENT
BEGIN:VEVENT
DTSTART;TZID=Pacific/Auckland:20250507T170000
DTEND;TZID=Pacific/Auckland:20250507T190000
DTSTAMP:20260421T165953
CREATED:20241228T003754Z
LAST-MODIFIED:20241228T003754Z
UID:22599-1746637200-1746644400@www.nelsonhockey.org.nz
SUMMARY:NHA U18M&W Teams Training
DESCRIPTION:
URL:https://www.nelsonhockey.org.nz/event/nha-u18mw-teams-training-2/2025-05-07/
LOCATION:NELSON HOCKEY\, SAXTON FIELDS\, Nelson\, Tasman/Nelson\, 7011\, New Zealand
CATEGORIES:Nelson U18 Boys-Girls Trials
ATTACH;FMTTYPE=image/jpeg:https://www.nelsonhockey.org.nz/wp-content/uploads/2023/07/Nelson-Hockey_NHA-Representative_Facebook-Banner_Nov22.jpg
GEO:-41.3280994;173.2181794
X-APPLE-STRUCTURED-LOCATION;VALUE=URI;X-ADDRESS=NELSON HOCKEY SAXTON FIELDS Nelson Tasman/Nelson 7011 New Zealand;X-APPLE-RADIUS=500;X-TITLE=SAXTON FIELDS:geo:173.2181794,-41.3280994
END:VEVENT
BEGIN:VEVENT
DTSTART;TZID=Pacific/Auckland:20250507T180000
DTEND;TZID=Pacific/Auckland:20250507T190000
DTSTAMP:20260421T165953
CREATED:20241228T011442Z
LAST-MODIFIED:20241228T011442Z
UID:22622-1746640800-1746644400@www.nelsonhockey.org.nz
SUMMARY:GK Training Program
DESCRIPTION:
URL:https://www.nelsonhockey.org.nz/event/gk-training-program-2/2025-05-07/
LOCATION:NELSON HOCKEY\, SAXTON FIELDS\, Nelson\, Tasman/Nelson\, 7011\, New Zealand
CATEGORIES:GK TRAINING PROGRAM
ATTACH;FMTTYPE=image/jpeg:https://www.nelsonhockey.org.nz/wp-content/uploads/2024/10/2025-NHA-GK-Training-Program.jpg
GEO:-41.3280994;173.2181794
X-APPLE-STRUCTURED-LOCATION;VALUE=URI;X-ADDRESS=NELSON HOCKEY SAXTON FIELDS Nelson Tasman/Nelson 7011 New Zealand;X-APPLE-RADIUS=500;X-TITLE=SAXTON FIELDS:geo:173.2181794,-41.3280994
END:VEVENT
BEGIN:VEVENT
DTSTART;TZID=Pacific/Auckland:20250508T110000
DTEND;TZID=Pacific/Auckland:20250508T120000
DTSTAMP:20260421T165953
CREATED:20241228T215024Z
LAST-MODIFIED:20241228T215024Z
UID:22648-1746702000-1746705600@www.nelsonhockey.org.nz
SUMMARY:Primary & Intermediate Team Registrations DUE-12:00 PM
DESCRIPTION:
URL:https://www.nelsonhockey.org.nz/event/primary-intermediate-team-registrations-due-1200-pm/
LOCATION:NELSON HOCKEY\, SAXTON FIELDS\, Nelson\, Tasman/Nelson\, 7011\, New Zealand
CATEGORIES:Division 5,Division 6
ATTACH;FMTTYPE=image/jpeg:https://www.nelsonhockey.org.nz/wp-content/uploads/2024/12/NHA-Logo-3.jpg
GEO:-41.3280994;173.2181794
X-APPLE-STRUCTURED-LOCATION;VALUE=URI;X-ADDRESS=NELSON HOCKEY SAXTON FIELDS Nelson Tasman/Nelson 7011 New Zealand;X-APPLE-RADIUS=500;X-TITLE=SAXTON FIELDS:geo:173.2181794,-41.3280994
END:VEVENT
BEGIN:VEVENT
DTSTART;TZID=Pacific/Auckland:20250508T160000
DTEND;TZID=Pacific/Auckland:20250508T203000
DTSTAMP:20260421T165953
CREATED:20241228T214745Z
LAST-MODIFIED:20241228T214745Z
UID:22643-1746720000-1746736200@www.nelsonhockey.org.nz
SUMMARY:Player Development Program II-(U13's & U15's)-Performance Program II (U18's)
DESCRIPTION:
URL:https://www.nelsonhockey.org.nz/event/player-development-program-ii-u13s-u15s-performance-program-ii-u18s/2025-05-08/
LOCATION:NELSON HOCKEY\, SAXTON FIELDS\, Nelson\, Tasman/Nelson\, 7011\, New Zealand
CATEGORIES:U13-U15 Development Programme
ATTACH;FMTTYPE=image/jpeg:https://www.nelsonhockey.org.nz/wp-content/uploads/2024/12/2025-NHA-U13-U15-DEVELOPMENT-PROGRAM-II.jpg
GEO:-41.3280994;173.2181794
X-APPLE-STRUCTURED-LOCATION;VALUE=URI;X-ADDRESS=NELSON HOCKEY SAXTON FIELDS Nelson Tasman/Nelson 7011 New Zealand;X-APPLE-RADIUS=500;X-TITLE=SAXTON FIELDS:geo:173.2181794,-41.3280994
END:VEVENT
BEGIN:VEVENT
DTSTART;TZID=Pacific/Auckland:20250509T163000
DTEND;TZID=Pacific/Auckland:20250509T180000
DTSTAMP:20260421T165953
CREATED:20250430T031209Z
LAST-MODIFIED:20250430T031209Z
UID:23729-1746808200-1746813600@www.nelsonhockey.org.nz
SUMMARY:Secondary Boys - Round 2 - NC Sky vs Garin Senior Boys
DESCRIPTION:
URL:https://www.nelsonhockey.org.nz/event/secondary-boys-round-2-nc-sky-vs-garin-senior-boys/
LOCATION:Tasman/Nelson
CATEGORIES:Club Competition Week
END:VEVENT
BEGIN:VEVENT
DTSTART;TZID=Pacific/Auckland:20250509T163000
DTEND;TZID=Pacific/Auckland:20250509T180000
DTSTAMP:20260421T165953
CREATED:20250430T031451Z
LAST-MODIFIED:20250430T031451Z
UID:23803-1746808200-1746813600@www.nelsonhockey.org.nz
SUMMARY:Secondary Girls/Mixed - Round 2 - Garin Senior Girls vs Tasman Titans
DESCRIPTION:
URL:https://www.nelsonhockey.org.nz/event/secondary-girls-mixed-round-2-garin-senior-girls-vs-tasman-titans/
LOCATION:Tasman/Nelson
CATEGORIES:Club Competition Week
END:VEVENT
BEGIN:VEVENT
DTSTART;TZID=Pacific/Auckland:20250509T175500
DTEND;TZID=Pacific/Auckland:20250509T192500
DTSTAMP:20260421T165953
CREATED:20250430T031023Z
LAST-MODIFIED:20250430T031023Z
UID:23741-1746813300-1746818700@www.nelsonhockey.org.nz
SUMMARY:Secondary Boys - Round 2 - Waimai United vs Stoke Mixed Secondary
DESCRIPTION:
URL:https://www.nelsonhockey.org.nz/event/secondary-boys-round-2-waimai-united-vs-stoke-mixed-secondary/
LOCATION:Tasman/Nelson
CATEGORIES:Club Competition Week
END:VEVENT
BEGIN:VEVENT
DTSTART;TZID=Pacific/Auckland:20250509T175500
DTEND;TZID=Pacific/Auckland:20250509T192500
DTSTAMP:20260421T165953
CREATED:20250430T031655Z
LAST-MODIFIED:20250430T031655Z
UID:23815-1746813300-1746818700@www.nelsonhockey.org.nz
SUMMARY:Secondary Girls/Mixed - Round 2 - Nelson College for Girls combined vs Waimea College Tasman
DESCRIPTION:
URL:https://www.nelsonhockey.org.nz/event/secondary-girls-mixed-round-2-nelson-college-for-girls-combined-vs-waimea-college-tasman/
LOCATION:Tasman/Nelson
CATEGORIES:Club Competition Week
END:VEVENT
BEGIN:VEVENT
DTSTART;TZID=Pacific/Auckland:20250509T192000
DTEND;TZID=Pacific/Auckland:20250509T205000
DTSTAMP:20260421T165953
CREATED:20250430T030226Z
LAST-MODIFIED:20250430T030226Z
UID:23753-1746818400-1746823800@www.nelsonhockey.org.nz
SUMMARY:Secondary Boys - Round 2 - Federal vs NC Navy
DESCRIPTION:
URL:https://www.nelsonhockey.org.nz/event/secondary-boys-round-2-federal-vs-nc-navy/
LOCATION:Tasman/Nelson
CATEGORIES:Club Competition Week
END:VEVENT
BEGIN:VEVENT
DTSTART;TZID=Pacific/Auckland:20250509T192000
DTEND;TZID=Pacific/Auckland:20250509T205000
DTSTAMP:20260421T165953
CREATED:20250430T032254Z
LAST-MODIFIED:20250430T032254Z
UID:23827-1746818400-1746823800@www.nelsonhockey.org.nz
SUMMARY:Secondary Girls/Mixed - Round 2 - Nelson College for Girls 9&10 vs Garin Development
DESCRIPTION:
URL:https://www.nelsonhockey.org.nz/event/secondary-girls-mixed-round-2-nelson-college-for-girls-910-vs-garin-development/
LOCATION:Tasman/Nelson
CATEGORIES:Club Competition Week
END:VEVENT
BEGIN:VEVENT
DTSTART;VALUE=DATE:20250510
DTEND;VALUE=DATE:20250512
DTSTAMP:20260421T165953
CREATED:20241228T220704Z
LAST-MODIFIED:20241228T220704Z
UID:22650-1746835200-1747007999@www.nelsonhockey.org.nz
SUMMARY:U18M&W Stirling & Dodson Cup
DESCRIPTION:
URL:https://www.nelsonhockey.org.nz/event/u18mw-stirling-dodson-cup-2/
LOCATION:West Coast Hockey Association\, Shakespeare Street\, Greymouth\, West Coast\, 7805\, New Zealand
CATEGORIES:U18 Development
ATTACH;FMTTYPE=image/jpeg:https://www.nelsonhockey.org.nz/wp-content/uploads/2024/12/WCHA.jpg
ORGANIZER;CN="WEST COST HOCKEY ASSOCIATION":MAILTO:West Coast Hockey Association Amanda Curry
END:VEVENT
BEGIN:VEVENT
DTSTART;TZID=Pacific/Auckland:20250510T133000
DTEND;TZID=Pacific/Auckland:20250510T150000
DTSTAMP:20260421T165953
CREATED:20250404T012930Z
LAST-MODIFIED:20250404T012932Z
UID:23453-1746883800-1746889200@www.nelsonhockey.org.nz
SUMMARY:Premier 1 Men - Round 5 - Tasman White vs. Stoke Premier Men
DESCRIPTION:
URL:https://www.nelsonhockey.org.nz/event/premier-1-men-round-5-tasman-white-vs-stoke-premier-men/
LOCATION:Tasman/Nelson
CATEGORIES:Club Competition Week
END:VEVENT
BEGIN:VEVENT
DTSTART;TZID=Pacific/Auckland:20250510T151500
DTEND;TZID=Pacific/Auckland:20250510T164500
DTSTAMP:20260421T165953
CREATED:20250404T013147Z
LAST-MODIFIED:20250404T013147Z
UID:23517-1746890100-1746895500@www.nelsonhockey.org.nz
SUMMARY:Premier 1 Men - Round 5 - Tasman Black vs. Federal Premier Men
DESCRIPTION:
URL:https://www.nelsonhockey.org.nz/event/premier-1-men-round-5-tasman-black-vs-federal-premier-men/
LOCATION:Tasman/Nelson
CATEGORIES:Club Competition Week
END:VEVENT
BEGIN:VEVENT
DTSTART;TZID=Pacific/Auckland:20250511T110000
DTEND;TZID=Pacific/Auckland:20250511T123000
DTSTAMP:20260421T165953
CREATED:20250404T012116Z
LAST-MODIFIED:20250404T012116Z
UID:23399-1746961200-1746966600@www.nelsonhockey.org.nz
SUMMARY:Premier 2 Men - Round 5 - Federal Coffin Dodgers vs. Tasman P2 Mens
DESCRIPTION:
URL:https://www.nelsonhockey.org.nz/event/premier-2-men-round-5-federal-coffin-dodgers-vs-tasman-p2-mens/
LOCATION:Tasman/Nelson
CATEGORIES:Club Competition Week
END:VEVENT
BEGIN:VEVENT
DTSTART;TZID=Pacific/Auckland:20250511T111500
DTEND;TZID=Pacific/Auckland:20250511T124500
DTSTAMP:20260421T165953
CREATED:20250404T012521Z
LAST-MODIFIED:20250404T012521Z
UID:23413-1746962100-1746967500@www.nelsonhockey.org.nz
SUMMARY:Premier 2 Women - Round 5 - Rewa Hockey vs. Federal Senior Women
DESCRIPTION:
URL:https://www.nelsonhockey.org.nz/event/premier-2-women-round-5-rewa-hockey-vs-federal-senior-women/
LOCATION:Tasman/Nelson
CATEGORIES:Club Competition Week
END:VEVENT
END:VCALENDAR