BEGIN:VCALENDAR
VERSION:2.0
PRODID:-//Nelson Hockey Association (1993) Inc - ECPv6.15.16//NONSGML v1.0//EN
CALSCALE:GREGORIAN
METHOD:PUBLISH
X-WR-CALNAME:Nelson Hockey Association (1993) Inc
X-ORIGINAL-URL:https://www.nelsonhockey.org.nz
X-WR-CALDESC:Events for Nelson Hockey Association (1993) Inc
REFRESH-INTERVAL;VALUE=DURATION:PT1H
X-Robots-Tag:noindex
X-PUBLISHED-TTL:PT1H
BEGIN:VTIMEZONE
TZID:Pacific/Auckland
BEGIN:STANDARD
TZOFFSETFROM:+1300
TZOFFSETTO:+1200
TZNAME:NZST
DTSTART:20240406T140000
END:STANDARD
BEGIN:DAYLIGHT
TZOFFSETFROM:+1200
TZOFFSETTO:+1300
TZNAME:NZDT
DTSTART:20240928T140000
END:DAYLIGHT
BEGIN:STANDARD
TZOFFSETFROM:+1300
TZOFFSETTO:+1200
TZNAME:NZST
DTSTART:20250405T140000
END:STANDARD
BEGIN:DAYLIGHT
TZOFFSETFROM:+1200
TZOFFSETTO:+1300
TZNAME:NZDT
DTSTART:20250927T140000
END:DAYLIGHT
BEGIN:STANDARD
TZOFFSETFROM:+1300
TZOFFSETTO:+1200
TZNAME:NZST
DTSTART:20260404T140000
END:STANDARD
BEGIN:DAYLIGHT
TZOFFSETFROM:+1200
TZOFFSETTO:+1300
TZNAME:NZDT
DTSTART:20260926T140000
END:DAYLIGHT
END:VTIMEZONE
BEGIN:VEVENT
DTSTART;TZID=Pacific/Auckland:20250406T144500
DTEND;TZID=Pacific/Auckland:20250406T161500
DTSTAMP:20260421T095258
CREATED:20250404T013108Z
LAST-MODIFIED:20250404T013108Z
UID:23499-1743950700-1743956100@www.nelsonhockey.org.nz
SUMMARY:Premier 2 Women - Round 1 - Federal Senior Women vs. Tasman Women's P2
DESCRIPTION:
URL:https://www.nelsonhockey.org.nz/event/premier-2-women-round-1-federal-senior-women-vs-tasman-womens-p2/
LOCATION:Tasman/Nelson
CATEGORIES:Club Competition Week
END:VEVENT
BEGIN:VEVENT
DTSTART;TZID=Pacific/Auckland:20250409T170000
DTEND;TZID=Pacific/Auckland:20250409T190000
DTSTAMP:20260421T095258
CREATED:20241228T003754Z
LAST-MODIFIED:20241228T003754Z
UID:22595-1744218000-1744225200@www.nelsonhockey.org.nz
SUMMARY:NHA U18M&W Teams Training
DESCRIPTION:
URL:https://www.nelsonhockey.org.nz/event/nha-u18mw-teams-training-2/2025-04-09/
LOCATION:NELSON HOCKEY\, SAXTON FIELDS\, Nelson\, Tasman/Nelson\, 7011\, New Zealand
CATEGORIES:Nelson U18 Boys-Girls Trials
ATTACH;FMTTYPE=image/jpeg:https://www.nelsonhockey.org.nz/wp-content/uploads/2023/07/Nelson-Hockey_NHA-Representative_Facebook-Banner_Nov22.jpg
GEO:-41.3280994;173.2181794
X-APPLE-STRUCTURED-LOCATION;VALUE=URI;X-ADDRESS=NELSON HOCKEY SAXTON FIELDS Nelson Tasman/Nelson 7011 New Zealand;X-APPLE-RADIUS=500;X-TITLE=SAXTON FIELDS:geo:173.2181794,-41.3280994
END:VEVENT
BEGIN:VEVENT
DTSTART;TZID=Pacific/Auckland:20250409T180000
DTEND;TZID=Pacific/Auckland:20250409T190000
DTSTAMP:20260421T095258
CREATED:20241228T011442Z
LAST-MODIFIED:20241228T011442Z
UID:22618-1744221600-1744225200@www.nelsonhockey.org.nz
SUMMARY:GK Training Program
DESCRIPTION:
URL:https://www.nelsonhockey.org.nz/event/gk-training-program-2/2025-04-09/
LOCATION:NELSON HOCKEY\, SAXTON FIELDS\, Nelson\, Tasman/Nelson\, 7011\, New Zealand
CATEGORIES:GK TRAINING PROGRAM
ATTACH;FMTTYPE=image/jpeg:https://www.nelsonhockey.org.nz/wp-content/uploads/2024/10/2025-NHA-GK-Training-Program.jpg
GEO:-41.3280994;173.2181794
X-APPLE-STRUCTURED-LOCATION;VALUE=URI;X-ADDRESS=NELSON HOCKEY SAXTON FIELDS Nelson Tasman/Nelson 7011 New Zealand;X-APPLE-RADIUS=500;X-TITLE=SAXTON FIELDS:geo:173.2181794,-41.3280994
END:VEVENT
BEGIN:VEVENT
DTSTART;VALUE=DATE:20250411
DTEND;VALUE=DATE:20250412
DTSTAMP:20260421T095258
CREATED:20241228T004125Z
LAST-MODIFIED:20241228T010320Z
UID:22603-1744329600-1744415999@www.nelsonhockey.org.nz
SUMMARY:NHA Primary & Intermediate Teams Entry Forms DUE-12:00 PM
DESCRIPTION:
URL:https://www.nelsonhockey.org.nz/event/nha-primary-intermediate-teams-entry-forms-due-1200-pm/
LOCATION:NELSON HOCKEY\, SAXTON FIELDS\, Nelson\, Tasman/Nelson\, 7011\, New Zealand
CATEGORIES:Division 5,Division 6
ATTACH;FMTTYPE=image/jpeg:https://www.nelsonhockey.org.nz/wp-content/uploads/2024/12/NHA-Logo-2.jpg
GEO:-41.3280994;173.2181794
X-APPLE-STRUCTURED-LOCATION;VALUE=URI;X-ADDRESS=NELSON HOCKEY SAXTON FIELDS Nelson Tasman/Nelson 7011 New Zealand;X-APPLE-RADIUS=500;X-TITLE=SAXTON FIELDS:geo:173.2181794,-41.3280994
END:VEVENT
BEGIN:VEVENT
DTSTART;VALUE=DATE:20250412
DTEND;VALUE=DATE:20250428
DTSTAMP:20260421T095258
CREATED:20241228T010454Z
LAST-MODIFIED:20241228T010454Z
UID:22605-1744416000-1745798399@www.nelsonhockey.org.nz
SUMMARY:School Holidays
DESCRIPTION:
URL:https://www.nelsonhockey.org.nz/event/school-holidays-14/
LOCATION:Tasman/Nelson
CATEGORIES:School Holidays
ATTACH;FMTTYPE=image/jpeg:https://www.nelsonhockey.org.nz/wp-content/uploads/2022/12/SCHOOL-HOLIDAYS.jpg
END:VEVENT
BEGIN:VEVENT
DTSTART;TZID=Pacific/Auckland:20250412T133000
DTEND;TZID=Pacific/Auckland:20250412T150000
DTSTAMP:20260421T095258
CREATED:20250404T012929Z
LAST-MODIFIED:20250404T012932Z
UID:23450-1744464600-1744470000@www.nelsonhockey.org.nz
SUMMARY:Premier 1 Women - Round 2 - Federal Premier Women vs. Tasman Black Women's P1
DESCRIPTION:
URL:https://www.nelsonhockey.org.nz/event/premier-1-women-round-2-federal-premier-women-vs-tasman-black-womens-p1/
LOCATION:Tasman/Nelson
CATEGORIES:Club Competition Week
END:VEVENT
BEGIN:VEVENT
DTSTART;TZID=Pacific/Auckland:20250412T134500
DTEND;TZID=Pacific/Auckland:20250412T151500
DTSTAMP:20260421T095258
CREATED:20250404T013019Z
LAST-MODIFIED:20250404T013019Z
UID:23473-1744465500-1744470900@www.nelsonhockey.org.nz
SUMMARY:Premier 1 Men - Round 2 - Stoke Premier Men vs. Tasman Black
DESCRIPTION:
URL:https://www.nelsonhockey.org.nz/event/premier-1-men-round-2-stoke-premier-men-vs-tasman-black/
LOCATION:Tasman/Nelson
CATEGORIES:Club Competition Week
END:VEVENT
BEGIN:VEVENT
DTSTART;TZID=Pacific/Auckland:20250412T151500
DTEND;TZID=Pacific/Auckland:20250412T164500
DTSTAMP:20260421T095258
CREATED:20250404T013143Z
LAST-MODIFIED:20250404T013143Z
UID:23514-1744470900-1744476300@www.nelsonhockey.org.nz
SUMMARY:Premier 1 Women - Round 2 - Waimai United P1 Women vs. Stoke P1 Women
DESCRIPTION:
URL:https://www.nelsonhockey.org.nz/event/premier-1-women-round-2-waimai-united-p1-women-vs-stoke-p1-women/
LOCATION:Tasman/Nelson
CATEGORIES:Club Competition Week
END:VEVENT
BEGIN:VEVENT
DTSTART;TZID=Pacific/Auckland:20250412T153000
DTEND;TZID=Pacific/Auckland:20250412T170000
DTSTAMP:20260421T095258
CREATED:20250404T013215Z
LAST-MODIFIED:20250404T013215Z
UID:23532-1744471800-1744477200@www.nelsonhockey.org.nz
SUMMARY:Premier 1 Men - Round 2 - Federal Premier Men vs. Waimai United P1 Men
DESCRIPTION:
URL:https://www.nelsonhockey.org.nz/event/premier-1-men-round-2-federal-premier-men-vs-waimai-united-p1-men/
LOCATION:Tasman/Nelson
CATEGORIES:Club Competition Week
END:VEVENT
BEGIN:VEVENT
DTSTART;TZID=Pacific/Auckland:20250413T110000
DTEND;TZID=Pacific/Auckland:20250413T123000
DTSTAMP:20260421T095258
CREATED:20250404T012115Z
LAST-MODIFIED:20250404T012115Z
UID:23396-1744542000-1744547400@www.nelsonhockey.org.nz
SUMMARY:Premier 2 Women - Round 2 - Tasman Women's P2 vs. Waimai United P2 Women
DESCRIPTION:
URL:https://www.nelsonhockey.org.nz/event/premier-2-women-round-2-tasman-womens-p2-vs-waimai-united-p2-women/
LOCATION:Tasman/Nelson
CATEGORIES:Club Competition Week
END:VEVENT
BEGIN:VEVENT
DTSTART;TZID=Pacific/Auckland:20250413T111500
DTEND;TZID=Pacific/Auckland:20250413T124500
DTSTAMP:20260421T095258
CREATED:20250404T012521Z
LAST-MODIFIED:20250404T012521Z
UID:23410-1744542900-1744548300@www.nelsonhockey.org.nz
SUMMARY:Premier 2 Men - Round 2 - Nelson College vs. Stoke Gold P2 Men
DESCRIPTION:
URL:https://www.nelsonhockey.org.nz/event/premier-2-men-round-2-nelson-college-vs-stoke-gold-p2-men/
LOCATION:Tasman/Nelson
CATEGORIES:Club Competition Week
END:VEVENT
BEGIN:VEVENT
DTSTART;TZID=Pacific/Auckland:20250413T124500
DTEND;TZID=Pacific/Auckland:20250413T141500
DTSTAMP:20260421T095258
CREATED:20250404T012818Z
LAST-MODIFIED:20250404T012818Z
UID:23424-1744548300-1744553700@www.nelsonhockey.org.nz
SUMMARY:Premier 2 Women - Round 2 - Endeavours vs. Federal Senior Women
DESCRIPTION:
URL:https://www.nelsonhockey.org.nz/event/premier-2-women-round-2-endeavours-vs-federal-senior-women/
LOCATION:Tasman/Nelson
CATEGORIES:Club Competition Week
END:VEVENT
BEGIN:VEVENT
DTSTART;TZID=Pacific/Auckland:20250413T130000
DTEND;TZID=Pacific/Auckland:20250413T143000
DTSTAMP:20260421T095258
CREATED:20250404T012847Z
LAST-MODIFIED:20250404T012847Z
UID:23437-1744549200-1744554600@www.nelsonhockey.org.nz
SUMMARY:Premier 2 Men - Round 2 - Federal Coffin Dodgers vs. Waimai United P2 Men
DESCRIPTION:
URL:https://www.nelsonhockey.org.nz/event/premier-2-men-round-2-federal-coffin-dodgers-vs-waimai-united-p2-men/
LOCATION:Tasman/Nelson
CATEGORIES:Club Competition Week
END:VEVENT
BEGIN:VEVENT
DTSTART;TZID=Pacific/Auckland:20250413T143000
DTEND;TZID=Pacific/Auckland:20250413T160000
DTSTAMP:20260421T095258
CREATED:20250404T013048Z
LAST-MODIFIED:20250404T013048Z
UID:23486-1744554600-1744560000@www.nelsonhockey.org.nz
SUMMARY:Premier 2 Women - Round 2 - Rewa Hockey vs. Nelson College for Girls 1st XI
DESCRIPTION:
URL:https://www.nelsonhockey.org.nz/event/premier-2-women-round-2-rewa-hockey-vs-nelson-college-for-girls-1st-xi/
LOCATION:Tasman/Nelson
CATEGORIES:Club Competition Week
END:VEVENT
BEGIN:VEVENT
DTSTART;TZID=Pacific/Auckland:20250413T144500
DTEND;TZID=Pacific/Auckland:20250413T161500
DTSTAMP:20260421T095258
CREATED:20250404T013113Z
LAST-MODIFIED:20250404T013113Z
UID:23500-1744555500-1744560900@www.nelsonhockey.org.nz
SUMMARY:Premier 2 Men - Round 2 - Stoke Black P2 Men vs. Tasman P2 Mens
DESCRIPTION:
URL:https://www.nelsonhockey.org.nz/event/premier-2-men-round-2-stoke-black-p2-men-vs-tasman-p2-mens/
LOCATION:Tasman/Nelson
CATEGORIES:Club Competition Week
END:VEVENT
BEGIN:VEVENT
DTSTART;TZID=Pacific/Auckland:20250416T170000
DTEND;TZID=Pacific/Auckland:20250416T190000
DTSTAMP:20260421T095258
CREATED:20241228T003754Z
LAST-MODIFIED:20241228T003754Z
UID:22596-1744822800-1744830000@www.nelsonhockey.org.nz
SUMMARY:NHA U18M&W Teams Training
DESCRIPTION:
URL:https://www.nelsonhockey.org.nz/event/nha-u18mw-teams-training-2/2025-04-16/
LOCATION:NELSON HOCKEY\, SAXTON FIELDS\, Nelson\, Tasman/Nelson\, 7011\, New Zealand
CATEGORIES:Nelson U18 Boys-Girls Trials
ATTACH;FMTTYPE=image/jpeg:https://www.nelsonhockey.org.nz/wp-content/uploads/2023/07/Nelson-Hockey_NHA-Representative_Facebook-Banner_Nov22.jpg
GEO:-41.3280994;173.2181794
X-APPLE-STRUCTURED-LOCATION;VALUE=URI;X-ADDRESS=NELSON HOCKEY SAXTON FIELDS Nelson Tasman/Nelson 7011 New Zealand;X-APPLE-RADIUS=500;X-TITLE=SAXTON FIELDS:geo:173.2181794,-41.3280994
END:VEVENT
BEGIN:VEVENT
DTSTART;TZID=Pacific/Auckland:20250416T180000
DTEND;TZID=Pacific/Auckland:20250416T190000
DTSTAMP:20260421T095258
CREATED:20241228T011442Z
LAST-MODIFIED:20241228T011442Z
UID:22619-1744826400-1744830000@www.nelsonhockey.org.nz
SUMMARY:GK Training Program
DESCRIPTION:
URL:https://www.nelsonhockey.org.nz/event/gk-training-program-2/2025-04-16/
LOCATION:NELSON HOCKEY\, SAXTON FIELDS\, Nelson\, Tasman/Nelson\, 7011\, New Zealand
CATEGORIES:GK TRAINING PROGRAM
ATTACH;FMTTYPE=image/jpeg:https://www.nelsonhockey.org.nz/wp-content/uploads/2024/10/2025-NHA-GK-Training-Program.jpg
GEO:-41.3280994;173.2181794
X-APPLE-STRUCTURED-LOCATION;VALUE=URI;X-ADDRESS=NELSON HOCKEY SAXTON FIELDS Nelson Tasman/Nelson 7011 New Zealand;X-APPLE-RADIUS=500;X-TITLE=SAXTON FIELDS:geo:173.2181794,-41.3280994
END:VEVENT
BEGIN:VEVENT
DTSTART;VALUE=DATE:20250418
DTEND;VALUE=DATE:20250419
DTSTAMP:20260421T095258
CREATED:20241228T010550Z
LAST-MODIFIED:20241228T010550Z
UID:22607-1744934400-1745020799@www.nelsonhockey.org.nz
SUMMARY:Good Friday
DESCRIPTION:
URL:https://www.nelsonhockey.org.nz/event/good-friday-3/
LOCATION:Tasman/Nelson
CATEGORIES:PUBLIC HOLIDAY
ATTACH;FMTTYPE=image/png:https://www.nelsonhockey.org.nz/wp-content/uploads/2023/11/good-friday.png
END:VEVENT
BEGIN:VEVENT
DTSTART;VALUE=DATE:20250421
DTEND;VALUE=DATE:20250422
DTSTAMP:20260421T095258
CREATED:20241228T010657Z
LAST-MODIFIED:20241228T010657Z
UID:22609-1745193600-1745279999@www.nelsonhockey.org.nz
SUMMARY:Easter Monday
DESCRIPTION:
URL:https://www.nelsonhockey.org.nz/event/easter-monday-3/
LOCATION:Tasman/Nelson
CATEGORIES:PUBLIC HOLIDAY
ATTACH;FMTTYPE=image/jpeg:https://www.nelsonhockey.org.nz/wp-content/uploads/2018/03/easter.jpg
END:VEVENT
BEGIN:VEVENT
DTSTART;TZID=Pacific/Auckland:20250423T170000
DTEND;TZID=Pacific/Auckland:20250423T190000
DTSTAMP:20260421T095258
CREATED:20241228T003754Z
LAST-MODIFIED:20241228T003754Z
UID:22597-1745427600-1745434800@www.nelsonhockey.org.nz
SUMMARY:NHA U18M&W Teams Training
DESCRIPTION:
URL:https://www.nelsonhockey.org.nz/event/nha-u18mw-teams-training-2/2025-04-23/
LOCATION:NELSON HOCKEY\, SAXTON FIELDS\, Nelson\, Tasman/Nelson\, 7011\, New Zealand
CATEGORIES:Nelson U18 Boys-Girls Trials
ATTACH;FMTTYPE=image/jpeg:https://www.nelsonhockey.org.nz/wp-content/uploads/2023/07/Nelson-Hockey_NHA-Representative_Facebook-Banner_Nov22.jpg
GEO:-41.3280994;173.2181794
X-APPLE-STRUCTURED-LOCATION;VALUE=URI;X-ADDRESS=NELSON HOCKEY SAXTON FIELDS Nelson Tasman/Nelson 7011 New Zealand;X-APPLE-RADIUS=500;X-TITLE=SAXTON FIELDS:geo:173.2181794,-41.3280994
END:VEVENT
BEGIN:VEVENT
DTSTART;TZID=Pacific/Auckland:20250423T180000
DTEND;TZID=Pacific/Auckland:20250423T190000
DTSTAMP:20260421T095258
CREATED:20241228T011442Z
LAST-MODIFIED:20241228T011442Z
UID:22620-1745431200-1745434800@www.nelsonhockey.org.nz
SUMMARY:GK Training Program
DESCRIPTION:
URL:https://www.nelsonhockey.org.nz/event/gk-training-program-2/2025-04-23/
LOCATION:NELSON HOCKEY\, SAXTON FIELDS\, Nelson\, Tasman/Nelson\, 7011\, New Zealand
CATEGORIES:GK TRAINING PROGRAM
ATTACH;FMTTYPE=image/jpeg:https://www.nelsonhockey.org.nz/wp-content/uploads/2024/10/2025-NHA-GK-Training-Program.jpg
GEO:-41.3280994;173.2181794
X-APPLE-STRUCTURED-LOCATION;VALUE=URI;X-ADDRESS=NELSON HOCKEY SAXTON FIELDS Nelson Tasman/Nelson 7011 New Zealand;X-APPLE-RADIUS=500;X-TITLE=SAXTON FIELDS:geo:173.2181794,-41.3280994
END:VEVENT
BEGIN:VEVENT
DTSTART;VALUE=DATE:20250425
DTEND;VALUE=DATE:20250426
DTSTAMP:20260421T095258
CREATED:20241228T010756Z
LAST-MODIFIED:20241228T010756Z
UID:22611-1745539200-1745625599@www.nelsonhockey.org.nz
SUMMARY:Anzac Day
DESCRIPTION:
URL:https://www.nelsonhockey.org.nz/event/anzac-day-4/
LOCATION:Tasman/Nelson
CATEGORIES:PUBLIC HOLIDAY
ATTACH;FMTTYPE=image/jpeg:https://www.nelsonhockey.org.nz/wp-content/uploads/2019/04/ANZAC.jpg
END:VEVENT
BEGIN:VEVENT
DTSTART;TZID=Pacific/Auckland:20250426T133000
DTEND;TZID=Pacific/Auckland:20250426T150000
DTSTAMP:20260421T095258
CREATED:20250404T012930Z
LAST-MODIFIED:20250404T012932Z
UID:23451-1745674200-1745679600@www.nelsonhockey.org.nz
SUMMARY:Premier 1 Men - Round 3 - Waimai United P1 Men vs. Tasman White
DESCRIPTION:
URL:https://www.nelsonhockey.org.nz/event/premier-1-men-round-3-waimai-united-p1-men-vs-tasman-white/
LOCATION:Tasman/Nelson
CATEGORIES:Club Competition Week
END:VEVENT
BEGIN:VEVENT
DTSTART;TZID=Pacific/Auckland:20250426T134500
DTEND;TZID=Pacific/Auckland:20250426T151500
DTSTAMP:20260421T095258
CREATED:20250404T013019Z
LAST-MODIFIED:20250404T013019Z
UID:23474-1745675100-1745680500@www.nelsonhockey.org.nz
SUMMARY:Premier 1 Women - Round 3 - Tasman Black Women's P1 vs. Waimai United P1 Women
DESCRIPTION:
URL:https://www.nelsonhockey.org.nz/event/premier-1-women-round-3-tasman-black-womens-p1-vs-waimai-united-p1-women/
LOCATION:Tasman/Nelson
CATEGORIES:Club Competition Week
END:VEVENT
BEGIN:VEVENT
DTSTART;TZID=Pacific/Auckland:20250426T151500
DTEND;TZID=Pacific/Auckland:20250426T164500
DTSTAMP:20260421T095258
CREATED:20250404T013146Z
LAST-MODIFIED:20250404T013146Z
UID:23515-1745680500-1745685900@www.nelsonhockey.org.nz
SUMMARY:Premier 1 Men - Round 3 - Federal Premier Men vs. Stoke Premier Men
DESCRIPTION:
URL:https://www.nelsonhockey.org.nz/event/premier-1-men-round-3-federal-premier-men-vs-stoke-premier-men/
LOCATION:Tasman/Nelson
CATEGORIES:Club Competition Week
END:VEVENT
BEGIN:VEVENT
DTSTART;TZID=Pacific/Auckland:20250426T153000
DTEND;TZID=Pacific/Auckland:20250426T170000
DTSTAMP:20260421T095258
CREATED:20250404T013216Z
LAST-MODIFIED:20250404T013216Z
UID:23533-1745681400-1745686800@www.nelsonhockey.org.nz
SUMMARY:Premier 1 Women - Round 3 - Federal Premier Women vs. Stoke P1 Women
DESCRIPTION:
URL:https://www.nelsonhockey.org.nz/event/premier-1-women-round-3-federal-premier-women-vs-stoke-p1-women/
LOCATION:Tasman/Nelson
CATEGORIES:Club Competition Week
END:VEVENT
BEGIN:VEVENT
DTSTART;TZID=Pacific/Auckland:20250427T110000
DTEND;TZID=Pacific/Auckland:20250427T123000
DTSTAMP:20260421T095258
CREATED:20250404T012115Z
LAST-MODIFIED:20250404T012115Z
UID:23397-1745751600-1745757000@www.nelsonhockey.org.nz
SUMMARY:Premier 2 Men - Round 3 - Federal Coffin Dodgers vs. Nelson College
DESCRIPTION:
URL:https://www.nelsonhockey.org.nz/event/premier-2-men-round-3-federal-coffin-dodgers-vs-nelson-college/
LOCATION:Tasman/Nelson
CATEGORIES:Club Competition Week
END:VEVENT
BEGIN:VEVENT
DTSTART;TZID=Pacific/Auckland:20250427T111500
DTEND;TZID=Pacific/Auckland:20250427T124500
DTSTAMP:20260421T095258
CREATED:20250404T012521Z
LAST-MODIFIED:20250404T012521Z
UID:23411-1745752500-1745757900@www.nelsonhockey.org.nz
SUMMARY:Premier 2 Women - Round 3 - Federal Senior Women vs. Stoke Gold
DESCRIPTION:
URL:https://www.nelsonhockey.org.nz/event/premier-2-women-round-3-federal-senior-women-vs-stoke-gold/
LOCATION:Tasman/Nelson
CATEGORIES:Club Competition Week
END:VEVENT
BEGIN:VEVENT
DTSTART;TZID=Pacific/Auckland:20250427T124500
DTEND;TZID=Pacific/Auckland:20250427T141500
DTSTAMP:20260421T095258
CREATED:20250404T012827Z
LAST-MODIFIED:20250404T012827Z
UID:23425-1745757900-1745763300@www.nelsonhockey.org.nz
SUMMARY:Premier 2 Men - Round 3 - Waimai United P2 Men vs. Tasman P2 Mens
DESCRIPTION:
URL:https://www.nelsonhockey.org.nz/event/premier-2-men-round-3-waimai-united-p2-men-vs-tasman-p2-mens/
LOCATION:Tasman/Nelson
CATEGORIES:Club Competition Week
END:VEVENT
BEGIN:VEVENT
DTSTART;TZID=Pacific/Auckland:20250427T130000
DTEND;TZID=Pacific/Auckland:20250427T143000
DTSTAMP:20260421T095258
CREATED:20250404T012848Z
LAST-MODIFIED:20250404T012848Z
UID:23438-1745758800-1745764200@www.nelsonhockey.org.nz
SUMMARY:Premier 2 Women - Round 3 - Nelson College for Girls 1st XI vs. Tasman Women's P2
DESCRIPTION:
URL:https://www.nelsonhockey.org.nz/event/premier-2-women-round-3-nelson-college-for-girls-1st-xi-vs-tasman-womens-p2/
LOCATION:Tasman/Nelson
CATEGORIES:Club Competition Week
END:VEVENT
END:VCALENDAR