BEGIN:VCALENDAR
VERSION:2.0
PRODID:-//Nelson Hockey Association (1993) Inc - ECPv6.15.16//NONSGML v1.0//EN
CALSCALE:GREGORIAN
METHOD:PUBLISH
X-WR-CALNAME:Nelson Hockey Association (1993) Inc
X-ORIGINAL-URL:https://www.nelsonhockey.org.nz
X-WR-CALDESC:Events for Nelson Hockey Association (1993) Inc
REFRESH-INTERVAL;VALUE=DURATION:PT1H
X-Robots-Tag:noindex
X-PUBLISHED-TTL:PT1H
BEGIN:VTIMEZONE
TZID:Pacific/Auckland
BEGIN:STANDARD
TZOFFSETFROM:+1300
TZOFFSETTO:+1200
TZNAME:NZST
DTSTART:20240406T140000
END:STANDARD
BEGIN:DAYLIGHT
TZOFFSETFROM:+1200
TZOFFSETTO:+1300
TZNAME:NZDT
DTSTART:20240928T140000
END:DAYLIGHT
BEGIN:STANDARD
TZOFFSETFROM:+1300
TZOFFSETTO:+1200
TZNAME:NZST
DTSTART:20250405T140000
END:STANDARD
BEGIN:DAYLIGHT
TZOFFSETFROM:+1200
TZOFFSETTO:+1300
TZNAME:NZDT
DTSTART:20250927T140000
END:DAYLIGHT
BEGIN:STANDARD
TZOFFSETFROM:+1300
TZOFFSETTO:+1200
TZNAME:NZST
DTSTART:20260404T140000
END:STANDARD
BEGIN:DAYLIGHT
TZOFFSETFROM:+1200
TZOFFSETTO:+1300
TZNAME:NZDT
DTSTART:20260926T140000
END:DAYLIGHT
END:VTIMEZONE
BEGIN:VEVENT
DTSTART;TZID=Pacific/Auckland:20250509T175500
DTEND;TZID=Pacific/Auckland:20250509T192500
DTSTAMP:20260422T051651
CREATED:20250430T031023Z
LAST-MODIFIED:20250430T031023Z
UID:23741-1746813300-1746818700@www.nelsonhockey.org.nz
SUMMARY:Secondary Boys - Round 2 - Waimai United vs Stoke Mixed Secondary
DESCRIPTION:
URL:https://www.nelsonhockey.org.nz/event/secondary-boys-round-2-waimai-united-vs-stoke-mixed-secondary/
CATEGORIES:Club Competition Week
END:VEVENT
BEGIN:VEVENT
DTSTART;TZID=Pacific/Auckland:20250509T175500
DTEND;TZID=Pacific/Auckland:20250509T192500
DTSTAMP:20260422T051651
CREATED:20250430T031655Z
LAST-MODIFIED:20250430T031655Z
UID:23815-1746813300-1746818700@www.nelsonhockey.org.nz
SUMMARY:Secondary Girls/Mixed - Round 2 - Nelson College for Girls combined vs Waimea College Tasman
DESCRIPTION:
URL:https://www.nelsonhockey.org.nz/event/secondary-girls-mixed-round-2-nelson-college-for-girls-combined-vs-waimea-college-tasman/
CATEGORIES:Club Competition Week
END:VEVENT
BEGIN:VEVENT
DTSTART;TZID=Pacific/Auckland:20250509T192000
DTEND;TZID=Pacific/Auckland:20250509T205000
DTSTAMP:20260422T051651
CREATED:20250430T030226Z
LAST-MODIFIED:20250430T030226Z
UID:23753-1746818400-1746823800@www.nelsonhockey.org.nz
SUMMARY:Secondary Boys - Round 2 - Federal vs NC Navy
DESCRIPTION:
URL:https://www.nelsonhockey.org.nz/event/secondary-boys-round-2-federal-vs-nc-navy/
CATEGORIES:Club Competition Week
END:VEVENT
BEGIN:VEVENT
DTSTART;TZID=Pacific/Auckland:20250509T192000
DTEND;TZID=Pacific/Auckland:20250509T205000
DTSTAMP:20260422T051651
CREATED:20250430T032254Z
LAST-MODIFIED:20250430T032254Z
UID:23827-1746818400-1746823800@www.nelsonhockey.org.nz
SUMMARY:Secondary Girls/Mixed - Round 2 - Nelson College for Girls 9&10 vs Garin Development
DESCRIPTION:
URL:https://www.nelsonhockey.org.nz/event/secondary-girls-mixed-round-2-nelson-college-for-girls-910-vs-garin-development/
CATEGORIES:Club Competition Week
END:VEVENT
BEGIN:VEVENT
DTSTART;VALUE=DATE:20250510
DTEND;VALUE=DATE:20250512
DTSTAMP:20260422T051651
CREATED:20241228T220704Z
LAST-MODIFIED:20241228T220704Z
UID:22650-1746835200-1747007999@www.nelsonhockey.org.nz
SUMMARY:U18M&W Stirling & Dodson Cup
DESCRIPTION:
URL:https://www.nelsonhockey.org.nz/event/u18mw-stirling-dodson-cup-2/
LOCATION:West Coast Hockey Association\, Shakespeare Street\, Greymouth\, West Coast\, 7805\, New Zealand
CATEGORIES:U18 Development
ATTACH;FMTTYPE=image/jpeg:https://www.nelsonhockey.org.nz/wp-content/uploads/2024/12/WCHA.jpg
ORGANIZER;CN="WEST COST HOCKEY ASSOCIATION":MAILTO:West Coast Hockey Association Amanda Curry
END:VEVENT
BEGIN:VEVENT
DTSTART;TZID=Pacific/Auckland:20250510T133000
DTEND;TZID=Pacific/Auckland:20250510T150000
DTSTAMP:20260422T051651
CREATED:20250404T012930Z
LAST-MODIFIED:20250404T012932Z
UID:23453-1746883800-1746889200@www.nelsonhockey.org.nz
SUMMARY:Premier 1 Men - Round 5 - Tasman White vs. Stoke Premier Men
DESCRIPTION:
URL:https://www.nelsonhockey.org.nz/event/premier-1-men-round-5-tasman-white-vs-stoke-premier-men/
CATEGORIES:Club Competition Week
END:VEVENT
BEGIN:VEVENT
DTSTART;TZID=Pacific/Auckland:20250510T151500
DTEND;TZID=Pacific/Auckland:20250510T164500
DTSTAMP:20260422T051651
CREATED:20250404T013147Z
LAST-MODIFIED:20250404T013147Z
UID:23517-1746890100-1746895500@www.nelsonhockey.org.nz
SUMMARY:Premier 1 Men - Round 5 - Tasman Black vs. Federal Premier Men
DESCRIPTION:
URL:https://www.nelsonhockey.org.nz/event/premier-1-men-round-5-tasman-black-vs-federal-premier-men/
CATEGORIES:Club Competition Week
END:VEVENT
BEGIN:VEVENT
DTSTART;TZID=Pacific/Auckland:20250511T110000
DTEND;TZID=Pacific/Auckland:20250511T123000
DTSTAMP:20260422T051651
CREATED:20250404T012116Z
LAST-MODIFIED:20250404T012116Z
UID:23399-1746961200-1746966600@www.nelsonhockey.org.nz
SUMMARY:Premier 2 Men - Round 5 - Federal Coffin Dodgers vs. Tasman P2 Mens
DESCRIPTION:
URL:https://www.nelsonhockey.org.nz/event/premier-2-men-round-5-federal-coffin-dodgers-vs-tasman-p2-mens/
CATEGORIES:Club Competition Week
END:VEVENT
BEGIN:VEVENT
DTSTART;TZID=Pacific/Auckland:20250511T111500
DTEND;TZID=Pacific/Auckland:20250511T124500
DTSTAMP:20260422T051651
CREATED:20250404T012521Z
LAST-MODIFIED:20250404T012521Z
UID:23413-1746962100-1746967500@www.nelsonhockey.org.nz
SUMMARY:Premier 2 Women - Round 5 - Rewa Hockey vs. Federal Senior Women
DESCRIPTION:
URL:https://www.nelsonhockey.org.nz/event/premier-2-women-round-5-rewa-hockey-vs-federal-senior-women/
CATEGORIES:Club Competition Week
END:VEVENT
BEGIN:VEVENT
DTSTART;TZID=Pacific/Auckland:20250511T124500
DTEND;TZID=Pacific/Auckland:20250511T141500
DTSTAMP:20260422T051651
CREATED:20250404T012828Z
LAST-MODIFIED:20250404T012828Z
UID:23427-1746967500-1746972900@www.nelsonhockey.org.nz
SUMMARY:Premier 2 Men - Round 5 - Waimai United P2 Men vs. Stoke Gold P2 Men
DESCRIPTION:
URL:https://www.nelsonhockey.org.nz/event/premier-2-men-round-5-waimai-united-p2-men-vs-stoke-gold-p2-men/
CATEGORIES:Club Competition Week
END:VEVENT
BEGIN:VEVENT
DTSTART;TZID=Pacific/Auckland:20250511T130000
DTEND;TZID=Pacific/Auckland:20250511T143000
DTSTAMP:20260422T051651
CREATED:20250404T012851Z
LAST-MODIFIED:20250404T012851Z
UID:23440-1746968400-1746973800@www.nelsonhockey.org.nz
SUMMARY:Premier 2 Women - Round 5 - Endeavours vs. Waimai United P2 Women
DESCRIPTION:
URL:https://www.nelsonhockey.org.nz/event/premier-2-women-round-5-endeavours-vs-waimai-united-p2-women/
CATEGORIES:Club Competition Week
END:VEVENT
BEGIN:VEVENT
DTSTART;TZID=Pacific/Auckland:20250511T143000
DTEND;TZID=Pacific/Auckland:20250511T160000
DTSTAMP:20260422T051651
CREATED:20250404T013049Z
LAST-MODIFIED:20250404T013049Z
UID:23489-1746973800-1746979200@www.nelsonhockey.org.nz
SUMMARY:Premier 2 Men - Round 5 - Stoke Black P2 Men vs. Nelson College
DESCRIPTION:
URL:https://www.nelsonhockey.org.nz/event/premier-2-men-round-5-stoke-black-p2-men-vs-nelson-college/
CATEGORIES:Club Competition Week
END:VEVENT
BEGIN:VEVENT
DTSTART;TZID=Pacific/Auckland:20250511T144500
DTEND;TZID=Pacific/Auckland:20250511T161500
DTSTAMP:20260422T051651
CREATED:20250404T013114Z
LAST-MODIFIED:20250404T013114Z
UID:23503-1746974700-1746980100@www.nelsonhockey.org.nz
SUMMARY:Premier 2 Women - Round 5 - Tasman Women's P2 vs. Stoke Gold
DESCRIPTION:
URL:https://www.nelsonhockey.org.nz/event/premier-2-women-round-5-tasman-womens-p2-vs-stoke-gold/
CATEGORIES:Club Competition Week
END:VEVENT
BEGIN:VEVENT
DTSTART;TZID=Pacific/Auckland:20250514T180000
DTEND;TZID=Pacific/Auckland:20250514T190000
DTSTAMP:20260422T051651
CREATED:20241228T011442Z
LAST-MODIFIED:20241228T011442Z
UID:22623-1747245600-1747249200@www.nelsonhockey.org.nz
SUMMARY:GK Training Program
DESCRIPTION:
URL:https://www.nelsonhockey.org.nz/event/gk-training-program-2/2025-05-14/
LOCATION:NELSON HOCKEY\, SAXTON FIELDS\, Nelson\, Tasman/Nelson\, 7011\, New Zealand
CATEGORIES:GK TRAINING PROGRAM
ATTACH;FMTTYPE=image/jpeg:https://www.nelsonhockey.org.nz/wp-content/uploads/2024/10/2025-NHA-GK-Training-Program.jpg
GEO:-41.3280994;173.2181794
X-APPLE-STRUCTURED-LOCATION;VALUE=URI;X-ADDRESS=NELSON HOCKEY SAXTON FIELDS Nelson Tasman/Nelson 7011 New Zealand;X-APPLE-RADIUS=500;X-TITLE=SAXTON FIELDS:geo:173.2181794,-41.3280994
END:VEVENT
BEGIN:VEVENT
DTSTART;TZID=Pacific/Auckland:20250515T154500
DTEND;TZID=Pacific/Auckland:20250515T183000
DTSTAMP:20260422T051651
CREATED:20241228T220923Z
LAST-MODIFIED:20241228T220923Z
UID:22654-1747323900-1747333800@www.nelsonhockey.org.nz
SUMMARY:Junior Program II
DESCRIPTION:
URL:https://www.nelsonhockey.org.nz/event/junior-program-ii-7/2025-05-15/
LOCATION:NELSON HOCKEY\, SAXTON FIELDS\, Nelson\, Tasman/Nelson\, 7011\, New Zealand
CATEGORIES:Junior Programme
ATTACH;FMTTYPE=image/jpeg:https://www.nelsonhockey.org.nz/wp-content/uploads/2024/10/2025-NHA-Junior-Programme-II.jpg
GEO:-41.3280994;173.2181794
X-APPLE-STRUCTURED-LOCATION;VALUE=URI;X-ADDRESS=NELSON HOCKEY SAXTON FIELDS Nelson Tasman/Nelson 7011 New Zealand;X-APPLE-RADIUS=500;X-TITLE=SAXTON FIELDS:geo:173.2181794,-41.3280994
END:VEVENT
BEGIN:VEVENT
DTSTART;TZID=Pacific/Auckland:20250515T160000
DTEND;TZID=Pacific/Auckland:20250515T203000
DTSTAMP:20260422T051651
CREATED:20241228T214745Z
LAST-MODIFIED:20241228T214745Z
UID:22644-1747324800-1747341000@www.nelsonhockey.org.nz
SUMMARY:Player Development Program II-(U13's & U15's)-Performance Program II (U18's)
DESCRIPTION:
URL:https://www.nelsonhockey.org.nz/event/player-development-program-ii-u13s-u15s-performance-program-ii-u18s/2025-05-15/
LOCATION:NELSON HOCKEY\, SAXTON FIELDS\, Nelson\, Tasman/Nelson\, 7011\, New Zealand
CATEGORIES:U13-U15 Development Programme
ATTACH;FMTTYPE=image/jpeg:https://www.nelsonhockey.org.nz/wp-content/uploads/2024/12/2025-NHA-U13-U15-DEVELOPMENT-PROGRAM-II.jpg
GEO:-41.3280994;173.2181794
X-APPLE-STRUCTURED-LOCATION;VALUE=URI;X-ADDRESS=NELSON HOCKEY SAXTON FIELDS Nelson Tasman/Nelson 7011 New Zealand;X-APPLE-RADIUS=500;X-TITLE=SAXTON FIELDS:geo:173.2181794,-41.3280994
END:VEVENT
BEGIN:VEVENT
DTSTART;VALUE=DATE:20250516
DTEND;VALUE=DATE:20250519
DTSTAMP:20260422T051651
CREATED:20241228T221112Z
LAST-MODIFIED:20241228T221112Z
UID:22661-1747353600-1747612799@www.nelsonhockey.org.nz
SUMMARY:HNZ Umpires Clinic-(Colin French)
DESCRIPTION:
URL:https://www.nelsonhockey.org.nz/event/hnz-umpires-clinic-colin-french-2/
LOCATION:NELSON HOCKEY\, SAXTON FIELDS\, Nelson\, Tasman/Nelson\, 7011\, New Zealand
CATEGORIES:Umpire Course
ATTACH;FMTTYPE=image/png:https://www.nelsonhockey.org.nz/wp-content/uploads/2022/11/Hockey-New-Zealand-Logo-1.png
GEO:-41.3280994;173.2181794
X-APPLE-STRUCTURED-LOCATION;VALUE=URI;X-ADDRESS=NELSON HOCKEY SAXTON FIELDS Nelson Tasman/Nelson 7011 New Zealand;X-APPLE-RADIUS=500;X-TITLE=SAXTON FIELDS:geo:173.2181794,-41.3280994
END:VEVENT
BEGIN:VEVENT
DTSTART;TZID=Pacific/Auckland:20250516T163000
DTEND;TZID=Pacific/Auckland:20250516T180000
DTSTAMP:20260422T051651
CREATED:20250430T031205Z
LAST-MODIFIED:20250430T031205Z
UID:23730-1747413000-1747418400@www.nelsonhockey.org.nz
SUMMARY:Secondary Boys - Round 3 - Federal vs Waimai United
DESCRIPTION:
URL:https://www.nelsonhockey.org.nz/event/secondary-boys-round-3-federal-vs-waimai-united/
CATEGORIES:Club Competition Week
END:VEVENT
BEGIN:VEVENT
DTSTART;TZID=Pacific/Auckland:20250516T163000
DTEND;TZID=Pacific/Auckland:20250516T180000
DTSTAMP:20260422T051651
CREATED:20250430T031451Z
LAST-MODIFIED:20250430T031451Z
UID:23804-1747413000-1747418400@www.nelsonhockey.org.nz
SUMMARY:Secondary Girls/Mixed - Round 3 - Nelson College for Girls 9&10 vs Nelson College for Girls combined
DESCRIPTION:
URL:https://www.nelsonhockey.org.nz/event/secondary-girls-mixed-round-3-nelson-college-for-girls-910-vs-nelson-college-for-girls-combined/
CATEGORIES:Club Competition Week
END:VEVENT
BEGIN:VEVENT
DTSTART;TZID=Pacific/Auckland:20250516T175500
DTEND;TZID=Pacific/Auckland:20250516T192500
DTSTAMP:20260422T051651
CREATED:20250430T031016Z
LAST-MODIFIED:20250430T031016Z
UID:23742-1747418100-1747423500@www.nelsonhockey.org.nz
SUMMARY:Secondary Boys - Round 3 - Stoke Mixed Secondary vs NC Sky
DESCRIPTION:
URL:https://www.nelsonhockey.org.nz/event/secondary-boys-round-3-stoke-mixed-secondary-vs-nc-sky/
CATEGORIES:Club Competition Week
END:VEVENT
BEGIN:VEVENT
DTSTART;TZID=Pacific/Auckland:20250516T175500
DTEND;TZID=Pacific/Auckland:20250516T192500
DTSTAMP:20260422T051651
CREATED:20250430T031655Z
LAST-MODIFIED:20250430T031655Z
UID:23816-1747418100-1747423500@www.nelsonhockey.org.nz
SUMMARY:Secondary Girls/Mixed - Round 3 - Waimea College Tasman vs Garin Senior Girls
DESCRIPTION:
URL:https://www.nelsonhockey.org.nz/event/secondary-girls-mixed-round-3-waimea-college-tasman-vs-garin-senior-girls/
CATEGORIES:Club Competition Week
END:VEVENT
BEGIN:VEVENT
DTSTART;TZID=Pacific/Auckland:20250516T192000
DTEND;TZID=Pacific/Auckland:20250516T205000
DTSTAMP:20260422T051651
CREATED:20250430T030223Z
LAST-MODIFIED:20250430T030223Z
UID:23754-1747423200-1747428600@www.nelsonhockey.org.nz
SUMMARY:Secondary Boys - Round 3 - NC Navy vs Garin Senior Boys
DESCRIPTION:
URL:https://www.nelsonhockey.org.nz/event/secondary-boys-round-3-nc-navy-vs-garin-senior-boys/
CATEGORIES:Club Competition Week
END:VEVENT
BEGIN:VEVENT
DTSTART;TZID=Pacific/Auckland:20250516T192000
DTEND;TZID=Pacific/Auckland:20250516T205000
DTSTAMP:20260422T051651
CREATED:20250430T032254Z
LAST-MODIFIED:20250430T032254Z
UID:23828-1747423200-1747428600@www.nelsonhockey.org.nz
SUMMARY:Secondary Girls/Mixed - Round 3 - Garin Development vs Tasman Titans
DESCRIPTION:
URL:https://www.nelsonhockey.org.nz/event/secondary-girls-mixed-round-3-garin-development-vs-tasman-titans/
CATEGORIES:Club Competition Week
END:VEVENT
BEGIN:VEVENT
DTSTART;TZID=Pacific/Auckland:20250517T133000
DTEND;TZID=Pacific/Auckland:20250517T150000
DTSTAMP:20260422T051651
CREATED:20250404T012931Z
LAST-MODIFIED:20250404T012932Z
UID:23454-1747488600-1747494000@www.nelsonhockey.org.nz
SUMMARY:Premier 1 Women - Round 5 - Tasman Black Women's P1 vs. Federal Premier Women
DESCRIPTION:
URL:https://www.nelsonhockey.org.nz/event/premier-1-women-round-5-tasman-black-womens-p1-vs-federal-premier-women/
CATEGORIES:Club Competition Week
END:VEVENT
BEGIN:VEVENT
DTSTART;TZID=Pacific/Auckland:20250517T134500
DTEND;TZID=Pacific/Auckland:20250517T151500
DTSTAMP:20260422T051651
CREATED:20250404T013037Z
LAST-MODIFIED:20250404T013037Z
UID:23476-1747489500-1747494900@www.nelsonhockey.org.nz
SUMMARY:Premier 1 Men - Round 6 - Federal Premier Men vs. Tasman White
DESCRIPTION:
URL:https://www.nelsonhockey.org.nz/event/premier-1-men-round-6-federal-premier-men-vs-tasman-white/
CATEGORIES:Club Competition Week
END:VEVENT
BEGIN:VEVENT
DTSTART;TZID=Pacific/Auckland:20250517T151500
DTEND;TZID=Pacific/Auckland:20250517T164500
DTSTAMP:20260422T051651
CREATED:20250404T013147Z
LAST-MODIFIED:20250404T013147Z
UID:23518-1747494900-1747500300@www.nelsonhockey.org.nz
SUMMARY:Premier 1 Women - Round 5 - Stoke P1 Women vs. Waimai United P1 Women
DESCRIPTION:
URL:https://www.nelsonhockey.org.nz/event/premier-1-women-round-5-stoke-p1-women-vs-waimai-united-p1-women/
CATEGORIES:Club Competition Week
END:VEVENT
BEGIN:VEVENT
DTSTART;TZID=Pacific/Auckland:20250517T153000
DTEND;TZID=Pacific/Auckland:20250517T170000
DTSTAMP:20260422T051651
CREATED:20250404T013228Z
LAST-MODIFIED:20250404T013228Z
UID:23535-1747495800-1747501200@www.nelsonhockey.org.nz
SUMMARY:Premier 1 Men - Round 6 - Waimai United P1 Men vs. Tasman Black
DESCRIPTION:
URL:https://www.nelsonhockey.org.nz/event/premier-1-men-round-6-waimai-united-p1-men-vs-tasman-black/
CATEGORIES:Club Competition Week
END:VEVENT
BEGIN:VEVENT
DTSTART;VALUE=DATE:20250518
DTEND;VALUE=DATE:20250519
DTSTAMP:20260422T051651
CREATED:20241228T221242Z
LAST-MODIFIED:20241228T221242Z
UID:22663-1747526400-1747612799@www.nelsonhockey.org.nz
SUMMARY:NHA Coaching Forum II
DESCRIPTION:
URL:https://www.nelsonhockey.org.nz/event/nha-coaching-forum-ii-2/
LOCATION:NELSON HOCKEY\, SAXTON FIELDS\, Nelson\, Tasman/Nelson\, 7011\, New Zealand
CATEGORIES:Courses
ATTACH;FMTTYPE=image/jpeg:https://www.nelsonhockey.org.nz/wp-content/uploads/2023/06/Nelson-Hockey_Coaching_Various-Banner_Apr23-scaled.jpg
GEO:-41.3280994;173.2181794
X-APPLE-STRUCTURED-LOCATION;VALUE=URI;X-ADDRESS=NELSON HOCKEY SAXTON FIELDS Nelson Tasman/Nelson 7011 New Zealand;X-APPLE-RADIUS=500;X-TITLE=SAXTON FIELDS:geo:173.2181794,-41.3280994
END:VEVENT
BEGIN:VEVENT
DTSTART;TZID=Pacific/Auckland:20250518T110000
DTEND;TZID=Pacific/Auckland:20250518T123000
DTSTAMP:20260422T051651
CREATED:20250404T012119Z
LAST-MODIFIED:20250404T012119Z
UID:23400-1747566000-1747571400@www.nelsonhockey.org.nz
SUMMARY:Premier 2 Women - Round 6 - Nelson College for Girls 1st XI vs. Endeavours
DESCRIPTION:
URL:https://www.nelsonhockey.org.nz/event/premier-2-women-round-6-nelson-college-for-girls-1st-xi-vs-endeavours/
CATEGORIES:Club Competition Week
END:VEVENT
BEGIN:VEVENT
DTSTART;TZID=Pacific/Auckland:20250518T111500
DTEND;TZID=Pacific/Auckland:20250518T124500
DTSTAMP:20260422T051651
CREATED:20250404T012522Z
LAST-MODIFIED:20250404T012522Z
UID:23414-1747566900-1747572300@www.nelsonhockey.org.nz
SUMMARY:Premier 2 Men - Round 6 - Nelson College vs. Waimai United P2 Men
DESCRIPTION:
URL:https://www.nelsonhockey.org.nz/event/premier-2-men-round-6-nelson-college-vs-waimai-united-p2-men/
CATEGORIES:Club Competition Week
END:VEVENT
END:VCALENDAR