BEGIN:VCALENDAR
VERSION:2.0
PRODID:-//Nelson Hockey Association (1993) Inc - ECPv6.15.16//NONSGML v1.0//EN
CALSCALE:GREGORIAN
METHOD:PUBLISH
X-WR-CALNAME:Nelson Hockey Association (1993) Inc
X-ORIGINAL-URL:https://www.nelsonhockey.org.nz
X-WR-CALDESC:Events for Nelson Hockey Association (1993) Inc
REFRESH-INTERVAL;VALUE=DURATION:PT1H
X-Robots-Tag:noindex
X-PUBLISHED-TTL:PT1H
BEGIN:VTIMEZONE
TZID:Pacific/Auckland
BEGIN:STANDARD
TZOFFSETFROM:+1300
TZOFFSETTO:+1200
TZNAME:NZST
DTSTART:20240406T140000
END:STANDARD
BEGIN:DAYLIGHT
TZOFFSETFROM:+1200
TZOFFSETTO:+1300
TZNAME:NZDT
DTSTART:20240928T140000
END:DAYLIGHT
BEGIN:STANDARD
TZOFFSETFROM:+1300
TZOFFSETTO:+1200
TZNAME:NZST
DTSTART:20250405T140000
END:STANDARD
BEGIN:DAYLIGHT
TZOFFSETFROM:+1200
TZOFFSETTO:+1300
TZNAME:NZDT
DTSTART:20250927T140000
END:DAYLIGHT
BEGIN:STANDARD
TZOFFSETFROM:+1300
TZOFFSETTO:+1200
TZNAME:NZST
DTSTART:20260404T140000
END:STANDARD
BEGIN:DAYLIGHT
TZOFFSETFROM:+1200
TZOFFSETTO:+1300
TZNAME:NZDT
DTSTART:20260926T140000
END:DAYLIGHT
END:VTIMEZONE
BEGIN:VEVENT
DTSTART;TZID=Pacific/Auckland:20250528T163000
DTEND;TZID=Pacific/Auckland:20250528T173500
DTSTAMP:20260423T101516
CREATED:20250514T031338Z
LAST-MODIFIED:20250514T031338Z
UID:23988-1748449800-1748453700@www.nelsonhockey.org.nz
SUMMARY:Intermediate Grade - Round 2 - N.C.G. Prep Storm vs NC Prep Navy
DESCRIPTION:
URL:https://www.nelsonhockey.org.nz/event/intermediate-grade-round-2-n-c-g-prep-storm-vs-nc-prep-navy/
LOCATION:Tasman/Nelson
CATEGORIES:Club Competition Week
END:VEVENT
BEGIN:VEVENT
DTSTART;TZID=Pacific/Auckland:20250528T170000
DTEND;TZID=Pacific/Auckland:20250528T173000
DTSTAMP:20260423T101516
CREATED:20250516T020417Z
LAST-MODIFIED:20250516T020417Z
UID:24045-1748451600-1748453400@www.nelsonhockey.org.nz
SUMMARY:Primary Grade - Round 2 - Federal Primary VS St Paul's Tasman
DESCRIPTION:
URL:https://www.nelsonhockey.org.nz/event/primary-grade-round-2-federal-primary-vs-st-pauls-tasman/
LOCATION:Tasman/Nelson
CATEGORIES:Club Competition Week
END:VEVENT
BEGIN:VEVENT
DTSTART;TZID=Pacific/Auckland:20250528T170000
DTEND;TZID=Pacific/Auckland:20250528T173000
DTSTAMP:20260423T101516
CREATED:20250516T020617Z
LAST-MODIFIED:20250516T020617Z
UID:24047-1748451600-1748453400@www.nelsonhockey.org.nz
SUMMARY:Primary Grade - Round 2 - Waimai United Whizzers VS Tasman Tigers
DESCRIPTION:
URL:https://www.nelsonhockey.org.nz/event/primary-grade-round-2-waimai-united-whizzers-vs-tasman-tigers/
LOCATION:Tasman/Nelson
CATEGORIES:Club Competition Week
END:VEVENT
BEGIN:VEVENT
DTSTART;TZID=Pacific/Auckland:20250528T173000
DTEND;TZID=Pacific/Auckland:20250528T180000
DTSTAMP:20260423T101516
CREATED:20250516T020417Z
LAST-MODIFIED:20250516T020417Z
UID:24043-1748453400-1748455200@www.nelsonhockey.org.nz
SUMMARY:Primary Grade - Round 2 - St Paul's Tasman VS Waimai United Whizzers
DESCRIPTION:
URL:https://www.nelsonhockey.org.nz/event/primary-grade-round-2-st-pauls-tasman-vs-waimai-united-whizzers/
LOCATION:Tasman/Nelson
CATEGORIES:Club Competition Week
END:VEVENT
BEGIN:VEVENT
DTSTART;TZID=Pacific/Auckland:20250528T173000
DTEND;TZID=Pacific/Auckland:20250528T180000
DTSTAMP:20260423T101516
CREATED:20250516T020617Z
LAST-MODIFIED:20250516T020617Z
UID:24048-1748453400-1748455200@www.nelsonhockey.org.nz
SUMMARY:Primary Grade - Round 2 - Stoke Primary Mixed VS Waimai United
DESCRIPTION:
URL:https://www.nelsonhockey.org.nz/event/primary-grade-round-2-stoke-primary-mixed-vs-waimai-united/
LOCATION:Tasman/Nelson
CATEGORIES:Club Competition Week
END:VEVENT
BEGIN:VEVENT
DTSTART;TZID=Pacific/Auckland:20250528T173500
DTEND;TZID=Pacific/Auckland:20250528T184000
DTSTAMP:20260423T101516
CREATED:20250514T031337Z
LAST-MODIFIED:20250514T031337Z
UID:23986-1748453700-1748457600@www.nelsonhockey.org.nz
SUMMARY:Intermediate Grade - Round 2 - N.C.G. Prep Thunder vs Waimai United  - Blue
DESCRIPTION:
URL:https://www.nelsonhockey.org.nz/event/intermediate-grade-round-2-n-c-g-prep-thunder-vs-waimai-united-blue/
LOCATION:Tasman/Nelson
CATEGORIES:Club Competition Week
END:VEVENT
BEGIN:VEVENT
DTSTART;TZID=Pacific/Auckland:20250528T173500
DTEND;TZID=Pacific/Auckland:20250528T184000
DTSTAMP:20260423T101516
CREATED:20250514T031338Z
LAST-MODIFIED:20250514T031338Z
UID:23987-1748453700-1748457600@www.nelsonhockey.org.nz
SUMMARY:Intermediate Grade - Round 2 - Stoke Intermediate mixed vs NC Prep Sky
DESCRIPTION:
URL:https://www.nelsonhockey.org.nz/event/intermediate-grade-round-2-stoke-intermediate-mixed-vs-nc-prep-sky/
LOCATION:Tasman/Nelson
CATEGORIES:Club Competition Week
END:VEVENT
BEGIN:VEVENT
DTSTART;TZID=Pacific/Auckland:20250528T180000
DTEND;TZID=Pacific/Auckland:20250528T190000
DTSTAMP:20260423T101516
CREATED:20241228T011442Z
LAST-MODIFIED:20241228T011442Z
UID:22625-1748455200-1748458800@www.nelsonhockey.org.nz
SUMMARY:GK Training Program
DESCRIPTION:
URL:https://www.nelsonhockey.org.nz/event/gk-training-program-2/2025-05-28/
LOCATION:NELSON HOCKEY\, SAXTON FIELDS\, Nelson\, Tasman/Nelson\, 7011\, New Zealand
CATEGORIES:GK TRAINING PROGRAM
ATTACH;FMTTYPE=image/jpeg:https://www.nelsonhockey.org.nz/wp-content/uploads/2024/10/2025-NHA-GK-Training-Program.jpg
GEO:-41.3280994;173.2181794
X-APPLE-STRUCTURED-LOCATION;VALUE=URI;X-ADDRESS=NELSON HOCKEY SAXTON FIELDS Nelson Tasman/Nelson 7011 New Zealand;X-APPLE-RADIUS=500;X-TITLE=SAXTON FIELDS:geo:173.2181794,-41.3280994
END:VEVENT
BEGIN:VEVENT
DTSTART;TZID=Pacific/Auckland:20250529T154500
DTEND;TZID=Pacific/Auckland:20250529T183000
DTSTAMP:20260423T101516
CREATED:20241228T220923Z
LAST-MODIFIED:20241228T220923Z
UID:22656-1748533500-1748543400@www.nelsonhockey.org.nz
SUMMARY:Junior Program II
DESCRIPTION:
URL:https://www.nelsonhockey.org.nz/event/junior-program-ii-7/2025-05-29/
LOCATION:NELSON HOCKEY\, SAXTON FIELDS\, Nelson\, Tasman/Nelson\, 7011\, New Zealand
CATEGORIES:Junior Programme
ATTACH;FMTTYPE=image/jpeg:https://www.nelsonhockey.org.nz/wp-content/uploads/2024/10/2025-NHA-Junior-Programme-II.jpg
GEO:-41.3280994;173.2181794
X-APPLE-STRUCTURED-LOCATION;VALUE=URI;X-ADDRESS=NELSON HOCKEY SAXTON FIELDS Nelson Tasman/Nelson 7011 New Zealand;X-APPLE-RADIUS=500;X-TITLE=SAXTON FIELDS:geo:173.2181794,-41.3280994
END:VEVENT
BEGIN:VEVENT
DTSTART;TZID=Pacific/Auckland:20250529T160000
DTEND;TZID=Pacific/Auckland:20250529T203000
DTSTAMP:20260423T101516
CREATED:20241228T214745Z
LAST-MODIFIED:20241228T214745Z
UID:22646-1748534400-1748550600@www.nelsonhockey.org.nz
SUMMARY:Player Development Program II-(U13's & U15's)-Performance Program II (U18's)
DESCRIPTION:
URL:https://www.nelsonhockey.org.nz/event/player-development-program-ii-u13s-u15s-performance-program-ii-u18s/2025-05-29/
LOCATION:NELSON HOCKEY\, SAXTON FIELDS\, Nelson\, Tasman/Nelson\, 7011\, New Zealand
CATEGORIES:U13-U15 Development Programme
ATTACH;FMTTYPE=image/jpeg:https://www.nelsonhockey.org.nz/wp-content/uploads/2024/12/2025-NHA-U13-U15-DEVELOPMENT-PROGRAM-II.jpg
GEO:-41.3280994;173.2181794
X-APPLE-STRUCTURED-LOCATION;VALUE=URI;X-ADDRESS=NELSON HOCKEY SAXTON FIELDS Nelson Tasman/Nelson 7011 New Zealand;X-APPLE-RADIUS=500;X-TITLE=SAXTON FIELDS:geo:173.2181794,-41.3280994
END:VEVENT
BEGIN:VEVENT
DTSTART;VALUE=DATE:20250530
DTEND;VALUE=DATE:20250531
DTSTAMP:20260423T101516
CREATED:20241228T221443Z
LAST-MODIFIED:20241228T221443Z
UID:22665-1748563200-1748649599@www.nelsonhockey.org.nz
SUMMARY:NHA SR.M&W Registrations Due Day
DESCRIPTION:
URL:https://www.nelsonhockey.org.nz/event/nha-sr-mw-registrations-due-day/
LOCATION:NELSON HOCKEY\, SAXTON FIELDS\, Nelson\, Tasman/Nelson\, 7011\, New Zealand
CATEGORIES:SENIORS
ATTACH;FMTTYPE=image/jpeg:https://www.nelsonhockey.org.nz/wp-content/uploads/2022/12/Nelson-Hockey_NHA-Representative_Facebook-Banner_Nov22.jpg
GEO:-41.3280994;173.2181794
X-APPLE-STRUCTURED-LOCATION;VALUE=URI;X-ADDRESS=NELSON HOCKEY SAXTON FIELDS Nelson Tasman/Nelson 7011 New Zealand;X-APPLE-RADIUS=500;X-TITLE=SAXTON FIELDS:geo:173.2181794,-41.3280994
END:VEVENT
BEGIN:VEVENT
DTSTART;TZID=Pacific/Auckland:20250530T163000
DTEND;TZID=Pacific/Auckland:20250530T180000
DTSTAMP:20260423T101516
CREATED:20250430T031156Z
LAST-MODIFIED:20250430T031156Z
UID:23732-1748622600-1748628000@www.nelsonhockey.org.nz
SUMMARY:Secondary Boys - Round 5 - NC Navy vs Stoke Mixed Secondary
DESCRIPTION:
URL:https://www.nelsonhockey.org.nz/event/secondary-boys-round-5-nc-navy-vs-stoke-mixed-secondary/
LOCATION:Tasman/Nelson
CATEGORIES:Club Competition Week
END:VEVENT
BEGIN:VEVENT
DTSTART;TZID=Pacific/Auckland:20250530T163000
DTEND;TZID=Pacific/Auckland:20250530T180000
DTSTAMP:20260423T101516
CREATED:20250430T031451Z
LAST-MODIFIED:20250430T031451Z
UID:23806-1748622600-1748628000@www.nelsonhockey.org.nz
SUMMARY:Secondary Girls/Mixed - Round 5 - Garin Development vs Waimea College Tasman
DESCRIPTION:
URL:https://www.nelsonhockey.org.nz/event/secondary-girls-mixed-round-5-garin-development-vs-waimea-college-tasman/
LOCATION:Tasman/Nelson
CATEGORIES:Club Competition Week
END:VEVENT
BEGIN:VEVENT
DTSTART;TZID=Pacific/Auckland:20250530T175500
DTEND;TZID=Pacific/Auckland:20250530T192500
DTSTAMP:20260423T101516
CREATED:20250430T031017Z
LAST-MODIFIED:20250430T031017Z
UID:23744-1748627700-1748633100@www.nelsonhockey.org.nz
SUMMARY:Secondary Boys - Round 5 - Federal vs Garin Senior Boys
DESCRIPTION:
URL:https://www.nelsonhockey.org.nz/event/secondary-boys-round-5-federal-vs-garin-senior-boys/
LOCATION:Tasman/Nelson
CATEGORIES:Club Competition Week
END:VEVENT
BEGIN:VEVENT
DTSTART;TZID=Pacific/Auckland:20250530T175500
DTEND;TZID=Pacific/Auckland:20250530T192500
DTSTAMP:20260423T101516
CREATED:20250430T031854Z
LAST-MODIFIED:20250430T031854Z
UID:23818-1748627700-1748633100@www.nelsonhockey.org.nz
SUMMARY:Secondary Girls/Mixed - Round 5 - Nelson College for Girls 9&10 vs Tasman Titans
DESCRIPTION:
URL:https://www.nelsonhockey.org.nz/event/secondary-girls-mixed-round-5-nelson-college-for-girls-910-vs-tasman-titans/
LOCATION:Tasman/Nelson
CATEGORIES:Club Competition Week
END:VEVENT
BEGIN:VEVENT
DTSTART;TZID=Pacific/Auckland:20250530T192000
DTEND;TZID=Pacific/Auckland:20250530T205000
DTSTAMP:20260423T101516
CREATED:20250430T030145Z
LAST-MODIFIED:20250430T030145Z
UID:23756-1748632800-1748638200@www.nelsonhockey.org.nz
SUMMARY:Secondary Boys - Round 5 - Waimai United vs NC Sky
DESCRIPTION:
URL:https://www.nelsonhockey.org.nz/event/secondary-boys-round-5-waimai-united-vs-nc-sky/
LOCATION:Tasman/Nelson
CATEGORIES:Club Competition Week
END:VEVENT
BEGIN:VEVENT
DTSTART;TZID=Pacific/Auckland:20250530T192000
DTEND;TZID=Pacific/Auckland:20250530T205000
DTSTAMP:20260423T101516
CREATED:20250430T032255Z
LAST-MODIFIED:20250430T032255Z
UID:23830-1748632800-1748638200@www.nelsonhockey.org.nz
SUMMARY:Secondary Girls/Mixed - Round 5 - Nelson College for Girls combined vs Garin Senior Girls
DESCRIPTION:
URL:https://www.nelsonhockey.org.nz/event/secondary-girls-mixed-round-5-nelson-college-for-girls-combined-vs-garin-senior-girls/
LOCATION:Tasman/Nelson
CATEGORIES:Club Competition Week
END:VEVENT
BEGIN:VEVENT
DTSTART;VALUE=DATE:20250602
DTEND;VALUE=DATE:20250603
DTSTAMP:20260423T101516
CREATED:20241228T223626Z
LAST-MODIFIED:20241228T223626Z
UID:22667-1748822400-1748908799@www.nelsonhockey.org.nz
SUMMARY:King's Birthday
DESCRIPTION:
URL:https://www.nelsonhockey.org.nz/event/kings-birthday-3/
LOCATION:Tasman/Nelson
CATEGORIES:PUBLIC HOLIDAY
ATTACH;FMTTYPE=image/jpeg:https://www.nelsonhockey.org.nz/wp-content/uploads/2024/05/Kings-Birthday-public-holiday-3-June.jpg
END:VEVENT
BEGIN:VEVENT
DTSTART;TZID=Pacific/Auckland:20250604T163000
DTEND;TZID=Pacific/Auckland:20250604T170000
DTSTAMP:20260423T101516
CREATED:20250516T020617Z
LAST-MODIFIED:20250516T020617Z
UID:24049-1749054600-1749056400@www.nelsonhockey.org.nz
SUMMARY:Primary Grade - Round 3 - Federal Primary VS St Paul's Tasman
DESCRIPTION:
URL:https://www.nelsonhockey.org.nz/event/primary-grade-round-3-federal-primary-vs-st-pauls-tasman/
LOCATION:Tasman/Nelson
CATEGORIES:Club Competition Week
END:VEVENT
BEGIN:VEVENT
DTSTART;TZID=Pacific/Auckland:20250604T163000
DTEND;TZID=Pacific/Auckland:20250604T170000
DTSTAMP:20260423T101516
CREATED:20250516T020617Z
LAST-MODIFIED:20250516T020617Z
UID:24051-1749054600-1749056400@www.nelsonhockey.org.nz
SUMMARY:Primary Grade - Round 3 - Stoke Primary Mixed VS Waimai United
DESCRIPTION:
URL:https://www.nelsonhockey.org.nz/event/primary-grade-round-3-stoke-primary-mixed-vs-waimai-united/
LOCATION:Tasman/Nelson
CATEGORIES:Club Competition Week
END:VEVENT
BEGIN:VEVENT
DTSTART;TZID=Pacific/Auckland:20250604T163000
DTEND;TZID=Pacific/Auckland:20250604T173500
DTSTAMP:20260423T101516
CREATED:20250514T031338Z
LAST-MODIFIED:20250514T031338Z
UID:23989-1749054600-1749058500@www.nelsonhockey.org.nz
SUMMARY:Intermediate Grade - Round 3 - Waimai United  - Blue vs Federal Intermediate
DESCRIPTION:
URL:https://www.nelsonhockey.org.nz/event/intermediate-grade-round-3-waimai-united-blue-vs-federal-intermediate/
LOCATION:Tasman/Nelson
CATEGORIES:Club Competition Week
END:VEVENT
BEGIN:VEVENT
DTSTART;TZID=Pacific/Auckland:20250604T163000
DTEND;TZID=Pacific/Auckland:20250604T173500
DTSTAMP:20260423T101516
CREATED:20250514T031539Z
LAST-MODIFIED:20250514T031539Z
UID:23991-1749054600-1749058500@www.nelsonhockey.org.nz
SUMMARY:Intermediate Grade - Round 3 - NC Prep Navy vs N.C.G. Prep Thunder
DESCRIPTION:
URL:https://www.nelsonhockey.org.nz/event/intermediate-grade-round-3-nc-prep-navy-vs-n-c-g-prep-thunder/
LOCATION:Tasman/Nelson
CATEGORIES:Club Competition Week
END:VEVENT
BEGIN:VEVENT
DTSTART;TZID=Pacific/Auckland:20250604T170000
DTEND;TZID=Pacific/Auckland:20250604T173000
DTSTAMP:20260423T101516
CREATED:20250516T020617Z
LAST-MODIFIED:20250516T020617Z
UID:24050-1749056400-1749058200@www.nelsonhockey.org.nz
SUMMARY:Primary Grade - Round 3 - Waimai United Whizzers VS Tasman Tigers
DESCRIPTION:
URL:https://www.nelsonhockey.org.nz/event/primary-grade-round-3-waimai-united-whizzers-vs-tasman-tigers/
LOCATION:Tasman/Nelson
CATEGORIES:Club Competition Week
END:VEVENT
BEGIN:VEVENT
DTSTART;TZID=Pacific/Auckland:20250604T170000
DTEND;TZID=Pacific/Auckland:20250604T173000
DTSTAMP:20260423T101516
CREATED:20250516T020818Z
LAST-MODIFIED:20250516T020818Z
UID:24054-1749056400-1749058200@www.nelsonhockey.org.nz
SUMMARY:Primary Grade - Round 3 - Federal Primary VS Stoke Primary Mixed
DESCRIPTION:
URL:https://www.nelsonhockey.org.nz/event/primary-grade-round-3-federal-primary-vs-stoke-primary-mixed/
LOCATION:Tasman/Nelson
CATEGORIES:Club Competition Week
END:VEVENT
BEGIN:VEVENT
DTSTART;TZID=Pacific/Auckland:20250604T173000
DTEND;TZID=Pacific/Auckland:20250604T180000
DTSTAMP:20260423T101516
CREATED:20250516T020818Z
LAST-MODIFIED:20250516T020818Z
UID:24053-1749058200-1749060000@www.nelsonhockey.org.nz
SUMMARY:Primary Grade - Round 3 - St Paul's Tasman VS Waimai United Whizzers
DESCRIPTION:
URL:https://www.nelsonhockey.org.nz/event/primary-grade-round-3-st-pauls-tasman-vs-waimai-united-whizzers/
LOCATION:Tasman/Nelson
CATEGORIES:Club Competition Week
END:VEVENT
BEGIN:VEVENT
DTSTART;TZID=Pacific/Auckland:20250604T173000
DTEND;TZID=Pacific/Auckland:20250604T180000
DTSTAMP:20260423T101516
CREATED:20250516T020818Z
LAST-MODIFIED:20250516T020818Z
UID:24052-1749058200-1749060000@www.nelsonhockey.org.nz
SUMMARY:Primary Grade - Round 3 - Tasman Tigers VS Waimai United
DESCRIPTION:
URL:https://www.nelsonhockey.org.nz/event/primary-grade-round-3-tasman-tigers-vs-waimai-united/
LOCATION:Tasman/Nelson
CATEGORIES:Club Competition Week
END:VEVENT
BEGIN:VEVENT
DTSTART;TZID=Pacific/Auckland:20250604T173500
DTEND;TZID=Pacific/Auckland:20250604T184000
DTSTAMP:20260423T101516
CREATED:20250514T031339Z
LAST-MODIFIED:20250514T031339Z
UID:23990-1749058500-1749062400@www.nelsonhockey.org.nz
SUMMARY:Intermediate Grade - Round 3 - NC Prep Sky vs Waimai United
DESCRIPTION:
URL:https://www.nelsonhockey.org.nz/event/intermediate-grade-round-3-nc-prep-sky-vs-waimai-united/
LOCATION:Tasman/Nelson
CATEGORIES:Club Competition Week
END:VEVENT
BEGIN:VEVENT
DTSTART;TZID=Pacific/Auckland:20250604T173500
DTEND;TZID=Pacific/Auckland:20250604T184000
DTSTAMP:20260423T101516
CREATED:20250514T031539Z
LAST-MODIFIED:20250514T031539Z
UID:23992-1749058500-1749062400@www.nelsonhockey.org.nz
SUMMARY:Intermediate Grade - Round 3 - N.C.G. Prep Storm vs Stoke Intermediate mixed
DESCRIPTION:
URL:https://www.nelsonhockey.org.nz/event/intermediate-grade-round-3-n-c-g-prep-storm-vs-stoke-intermediate-mixed/
LOCATION:Tasman/Nelson
CATEGORIES:Club Competition Week
END:VEVENT
BEGIN:VEVENT
DTSTART;TZID=Pacific/Auckland:20250604T180000
DTEND;TZID=Pacific/Auckland:20250604T190000
DTSTAMP:20260423T101516
CREATED:20241228T011442Z
LAST-MODIFIED:20241228T011442Z
UID:22626-1749060000-1749063600@www.nelsonhockey.org.nz
SUMMARY:GK Training Program
DESCRIPTION:
URL:https://www.nelsonhockey.org.nz/event/gk-training-program-2/2025-06-04/
LOCATION:NELSON HOCKEY\, SAXTON FIELDS\, Nelson\, Tasman/Nelson\, 7011\, New Zealand
CATEGORIES:GK TRAINING PROGRAM
ATTACH;FMTTYPE=image/jpeg:https://www.nelsonhockey.org.nz/wp-content/uploads/2024/10/2025-NHA-GK-Training-Program.jpg
GEO:-41.3280994;173.2181794
X-APPLE-STRUCTURED-LOCATION;VALUE=URI;X-ADDRESS=NELSON HOCKEY SAXTON FIELDS Nelson Tasman/Nelson 7011 New Zealand;X-APPLE-RADIUS=500;X-TITLE=SAXTON FIELDS:geo:173.2181794,-41.3280994
END:VEVENT
BEGIN:VEVENT
DTSTART;TZID=Pacific/Auckland:20250604T190000
DTEND;TZID=Pacific/Auckland:20250604T200000
DTSTAMP:20260423T101516
CREATED:20241228T224151Z
LAST-MODIFIED:20241228T224151Z
UID:22669-1749063600-1749067200@www.nelsonhockey.org.nz
SUMMARY:NHA SR.M&W Training
DESCRIPTION:
URL:https://www.nelsonhockey.org.nz/event/nha-sr-mw-training-2/2025-06-04/
LOCATION:NELSON HOCKEY\, SAXTON FIELDS\, Nelson\, Tasman/Nelson\, 7011\, New Zealand
CATEGORIES:SENIORS
ATTACH;FMTTYPE=image/jpeg:https://www.nelsonhockey.org.nz/wp-content/uploads/2022/12/Nelson-Hockey_NHA-Representative_Blog-Post-Banner_Nov22.jpg
GEO:-41.3280994;173.2181794
X-APPLE-STRUCTURED-LOCATION;VALUE=URI;X-ADDRESS=NELSON HOCKEY SAXTON FIELDS Nelson Tasman/Nelson 7011 New Zealand;X-APPLE-RADIUS=500;X-TITLE=SAXTON FIELDS:geo:173.2181794,-41.3280994
END:VEVENT
END:VCALENDAR