BEGIN:VCALENDAR
VERSION:2.0
PRODID:-//Nelson Hockey Association (1993) Inc - ECPv6.15.16//NONSGML v1.0//EN
CALSCALE:GREGORIAN
METHOD:PUBLISH
X-WR-CALNAME:Nelson Hockey Association (1993) Inc
X-ORIGINAL-URL:https://www.nelsonhockey.org.nz
X-WR-CALDESC:Events for Nelson Hockey Association (1993) Inc
REFRESH-INTERVAL;VALUE=DURATION:PT1H
X-Robots-Tag:noindex
X-PUBLISHED-TTL:PT1H
BEGIN:VTIMEZONE
TZID:Pacific/Auckland
BEGIN:STANDARD
TZOFFSETFROM:+1300
TZOFFSETTO:+1200
TZNAME:NZST
DTSTART:20240406T140000
END:STANDARD
BEGIN:DAYLIGHT
TZOFFSETFROM:+1200
TZOFFSETTO:+1300
TZNAME:NZDT
DTSTART:20240928T140000
END:DAYLIGHT
BEGIN:STANDARD
TZOFFSETFROM:+1300
TZOFFSETTO:+1200
TZNAME:NZST
DTSTART:20250405T140000
END:STANDARD
BEGIN:DAYLIGHT
TZOFFSETFROM:+1200
TZOFFSETTO:+1300
TZNAME:NZDT
DTSTART:20250927T140000
END:DAYLIGHT
BEGIN:STANDARD
TZOFFSETFROM:+1300
TZOFFSETTO:+1200
TZNAME:NZST
DTSTART:20260404T140000
END:STANDARD
BEGIN:DAYLIGHT
TZOFFSETFROM:+1200
TZOFFSETTO:+1300
TZNAME:NZDT
DTSTART:20260926T140000
END:DAYLIGHT
END:VTIMEZONE
BEGIN:VEVENT
DTSTART;TZID=Pacific/Auckland:20250611T173500
DTEND;TZID=Pacific/Auckland:20250611T184000
DTSTAMP:20260422T190956
CREATED:20250514T031540Z
LAST-MODIFIED:20250514T031540Z
UID:23995-1749663300-1749667200@www.nelsonhockey.org.nz
SUMMARY:Intermediate Grade - Round 4 - Waimai United vs N.C.G. Prep Storm
DESCRIPTION:
URL:https://www.nelsonhockey.org.nz/event/intermediate-grade-round-4-waimai-united-vs-n-c-g-prep-storm/
LOCATION:Tasman/Nelson
CATEGORIES:Club Competition Week
END:VEVENT
BEGIN:VEVENT
DTSTART;TZID=Pacific/Auckland:20250611T180000
DTEND;TZID=Pacific/Auckland:20250611T190000
DTSTAMP:20260422T190956
CREATED:20241228T011442Z
LAST-MODIFIED:20241228T011442Z
UID:22627-1749664800-1749668400@www.nelsonhockey.org.nz
SUMMARY:GK Training Program
DESCRIPTION:
URL:https://www.nelsonhockey.org.nz/event/gk-training-program-2/2025-06-11/
LOCATION:NELSON HOCKEY\, SAXTON FIELDS\, Nelson\, Tasman/Nelson\, 7011\, New Zealand
CATEGORIES:GK TRAINING PROGRAM
ATTACH;FMTTYPE=image/jpeg:https://www.nelsonhockey.org.nz/wp-content/uploads/2024/10/2025-NHA-GK-Training-Program.jpg
GEO:-41.3280994;173.2181794
X-APPLE-STRUCTURED-LOCATION;VALUE=URI;X-ADDRESS=NELSON HOCKEY SAXTON FIELDS Nelson Tasman/Nelson 7011 New Zealand;X-APPLE-RADIUS=500;X-TITLE=SAXTON FIELDS:geo:173.2181794,-41.3280994
END:VEVENT
BEGIN:VEVENT
DTSTART;TZID=Pacific/Auckland:20250611T190000
DTEND;TZID=Pacific/Auckland:20250611T200000
DTSTAMP:20260422T190956
CREATED:20241228T224151Z
LAST-MODIFIED:20241228T224151Z
UID:22670-1749668400-1749672000@www.nelsonhockey.org.nz
SUMMARY:NHA SR.M&W Training
DESCRIPTION:
URL:https://www.nelsonhockey.org.nz/event/nha-sr-mw-training-2/2025-06-11/
LOCATION:NELSON HOCKEY\, SAXTON FIELDS\, Nelson\, Tasman/Nelson\, 7011\, New Zealand
CATEGORIES:SENIORS
ATTACH;FMTTYPE=image/jpeg:https://www.nelsonhockey.org.nz/wp-content/uploads/2022/12/Nelson-Hockey_NHA-Representative_Blog-Post-Banner_Nov22.jpg
GEO:-41.3280994;173.2181794
X-APPLE-STRUCTURED-LOCATION;VALUE=URI;X-ADDRESS=NELSON HOCKEY SAXTON FIELDS Nelson Tasman/Nelson 7011 New Zealand;X-APPLE-RADIUS=500;X-TITLE=SAXTON FIELDS:geo:173.2181794,-41.3280994
END:VEVENT
BEGIN:VEVENT
DTSTART;TZID=Pacific/Auckland:20250612T154500
DTEND;TZID=Pacific/Auckland:20250612T183000
DTSTAMP:20260422T190956
CREATED:20241228T220923Z
LAST-MODIFIED:20241228T220923Z
UID:22658-1749743100-1749753000@www.nelsonhockey.org.nz
SUMMARY:Junior Program II
DESCRIPTION:
URL:https://www.nelsonhockey.org.nz/event/junior-program-ii-7/2025-06-12/
LOCATION:NELSON HOCKEY\, SAXTON FIELDS\, Nelson\, Tasman/Nelson\, 7011\, New Zealand
CATEGORIES:Junior Programme
ATTACH;FMTTYPE=image/jpeg:https://www.nelsonhockey.org.nz/wp-content/uploads/2024/10/2025-NHA-Junior-Programme-II.jpg
GEO:-41.3280994;173.2181794
X-APPLE-STRUCTURED-LOCATION;VALUE=URI;X-ADDRESS=NELSON HOCKEY SAXTON FIELDS Nelson Tasman/Nelson 7011 New Zealand;X-APPLE-RADIUS=500;X-TITLE=SAXTON FIELDS:geo:173.2181794,-41.3280994
END:VEVENT
BEGIN:VEVENT
DTSTART;TZID=Pacific/Auckland:20250613T163000
DTEND;TZID=Pacific/Auckland:20250613T180000
DTSTAMP:20260422T190956
CREATED:20250430T031124Z
LAST-MODIFIED:20250430T031124Z
UID:23734-1749832200-1749837600@www.nelsonhockey.org.nz
SUMMARY:Secondary Boys - Round 7 - Garin Senior Boys vs NC Sky
DESCRIPTION:
URL:https://www.nelsonhockey.org.nz/event/secondary-boys-round-7-garin-senior-boys-vs-nc-sky/
LOCATION:Tasman/Nelson
CATEGORIES:Club Competition Week
END:VEVENT
BEGIN:VEVENT
DTSTART;TZID=Pacific/Auckland:20250613T163000
DTEND;TZID=Pacific/Auckland:20250613T180000
DTSTAMP:20260422T190956
CREATED:20250430T031454Z
LAST-MODIFIED:20250430T031454Z
UID:23808-1749832200-1749837600@www.nelsonhockey.org.nz
SUMMARY:Secondary Girls/Mixed - Round 7 - Tasman Titans vs Garin Senior Girls
DESCRIPTION:
URL:https://www.nelsonhockey.org.nz/event/secondary-girls-mixed-round-7-tasman-titans-vs-garin-senior-girls/
LOCATION:Tasman/Nelson
CATEGORIES:Club Competition Week
END:VEVENT
BEGIN:VEVENT
DTSTART;TZID=Pacific/Auckland:20250613T175500
DTEND;TZID=Pacific/Auckland:20250613T192500
DTSTAMP:20260422T190956
CREATED:20250430T031004Z
LAST-MODIFIED:20250430T031004Z
UID:23746-1749837300-1749842700@www.nelsonhockey.org.nz
SUMMARY:Secondary Boys - Round 7 - Stoke Mixed Secondary vs Waimai United
DESCRIPTION:
URL:https://www.nelsonhockey.org.nz/event/secondary-boys-round-7-stoke-mixed-secondary-vs-waimai-united/
LOCATION:Tasman/Nelson
CATEGORIES:Club Competition Week
END:VEVENT
BEGIN:VEVENT
DTSTART;TZID=Pacific/Auckland:20250613T175500
DTEND;TZID=Pacific/Auckland:20250613T192500
DTSTAMP:20260422T190956
CREATED:20250430T031855Z
LAST-MODIFIED:20250430T031855Z
UID:23820-1749837300-1749842700@www.nelsonhockey.org.nz
SUMMARY:Secondary Girls/Mixed - Round 7 - Waimea College Tasman vs Nelson College for Girls combined
DESCRIPTION:
URL:https://www.nelsonhockey.org.nz/event/secondary-girls-mixed-round-7-waimea-college-tasman-vs-nelson-college-for-girls-combined/
LOCATION:Tasman/Nelson
CATEGORIES:Club Competition Week
END:VEVENT
BEGIN:VEVENT
DTSTART;TZID=Pacific/Auckland:20250613T192000
DTEND;TZID=Pacific/Auckland:20250613T205000
DTSTAMP:20260422T190956
CREATED:20250430T030108Z
LAST-MODIFIED:20250430T030108Z
UID:23758-1749842400-1749847800@www.nelsonhockey.org.nz
SUMMARY:Secondary Boys - Round 7 - NC Navy vs Federal
DESCRIPTION:
URL:https://www.nelsonhockey.org.nz/event/secondary-boys-round-7-nc-navy-vs-federal/
LOCATION:Tasman/Nelson
CATEGORIES:Club Competition Week
END:VEVENT
BEGIN:VEVENT
DTSTART;TZID=Pacific/Auckland:20250613T192000
DTEND;TZID=Pacific/Auckland:20250613T205000
DTSTAMP:20260422T190956
CREATED:20250430T032454Z
LAST-MODIFIED:20250430T032454Z
UID:23832-1749842400-1749847800@www.nelsonhockey.org.nz
SUMMARY:Secondary Girls/Mixed - Round 7 - Garin Development vs Nelson College for Girls 9&10
DESCRIPTION:
URL:https://www.nelsonhockey.org.nz/event/secondary-girls-mixed-round-7-garin-development-vs-nelson-college-for-girls-910/
LOCATION:Tasman/Nelson
CATEGORIES:Club Competition Week
END:VEVENT
BEGIN:VEVENT
DTSTART;TZID=Pacific/Auckland:20250614T133000
DTEND;TZID=Pacific/Auckland:20250614T150000
DTSTAMP:20260422T190956
CREATED:20250404T012951Z
LAST-MODIFIED:20250404T012954Z
UID:23462-1749907800-1749913200@www.nelsonhockey.org.nz
SUMMARY:Premier 1 Men - Round 9 - Federal Premier Men vs. Tasman Black
DESCRIPTION:
URL:https://www.nelsonhockey.org.nz/event/premier-1-men-round-9-federal-premier-men-vs-tasman-black/
LOCATION:Tasman/Nelson
CATEGORIES:Club Competition Week
END:VEVENT
BEGIN:VEVENT
DTSTART;TZID=Pacific/Auckland:20250614T134500
DTEND;TZID=Pacific/Auckland:20250614T151500
DTSTAMP:20260422T190956
CREATED:20250404T013039Z
LAST-MODIFIED:20250404T013039Z
UID:23479-1749908700-1749914100@www.nelsonhockey.org.nz
SUMMARY:Premier 1 Women - Round 8 - Federal Premier Women vs. Tasman Black Women's P1
DESCRIPTION:
URL:https://www.nelsonhockey.org.nz/event/premier-1-women-round-8-federal-premier-women-vs-tasman-black-womens-p1/
LOCATION:Tasman/Nelson
CATEGORIES:Club Competition Week
END:VEVENT
BEGIN:VEVENT
DTSTART;TZID=Pacific/Auckland:20250614T151500
DTEND;TZID=Pacific/Auckland:20250614T164500
DTSTAMP:20260422T190956
CREATED:20250404T013205Z
LAST-MODIFIED:20250404T013211Z
UID:23521-1749914100-1749919500@www.nelsonhockey.org.nz
SUMMARY:Premier 1 Men - Round 9 - Stoke Premier Men vs. Tasman White
DESCRIPTION:
URL:https://www.nelsonhockey.org.nz/event/premier-1-men-round-9-stoke-premier-men-vs-tasman-white/
LOCATION:Tasman/Nelson
CATEGORIES:Club Competition Week
END:VEVENT
BEGIN:VEVENT
DTSTART;TZID=Pacific/Auckland:20250614T153000
DTEND;TZID=Pacific/Auckland:20250614T170000
DTSTAMP:20260422T190956
CREATED:20250404T013230Z
LAST-MODIFIED:20250404T013230Z
UID:23538-1749915000-1749920400@www.nelsonhockey.org.nz
SUMMARY:Premier 1 Women - Round 8 - Waimai United P1 Women vs. Stoke P1 Women
DESCRIPTION:
URL:https://www.nelsonhockey.org.nz/event/premier-1-women-round-8-waimai-united-p1-women-vs-stoke-p1-women/
LOCATION:Tasman/Nelson
CATEGORIES:Club Competition Week
END:VEVENT
BEGIN:VEVENT
DTSTART;VALUE=DATE:20250615
DTEND;VALUE=DATE:20250616
DTSTAMP:20260422T190956
CREATED:20241228T225019Z
LAST-MODIFIED:20241228T225019Z
UID:22680-1749945600-1750031999@www.nelsonhockey.org.nz
SUMMARY:NHA SR.M&W V Marlborough Hockey
DESCRIPTION:
URL:https://www.nelsonhockey.org.nz/event/nha-sr-mw-v-marlborough-hockey/
LOCATION:NELSON HOCKEY\, SAXTON FIELDS\, Nelson\, Tasman/Nelson\, 7011\, New Zealand
CATEGORIES:NELSON HOCKEY ASSOCIATION
ATTACH;FMTTYPE=image/jpeg:https://www.nelsonhockey.org.nz/wp-content/uploads/2022/12/Nelson-Hockey_NHA-Representative_Blog-Post-Banner_Nov22.jpg
GEO:-41.3280994;173.2181794
X-APPLE-STRUCTURED-LOCATION;VALUE=URI;X-ADDRESS=NELSON HOCKEY SAXTON FIELDS Nelson Tasman/Nelson 7011 New Zealand;X-APPLE-RADIUS=500;X-TITLE=SAXTON FIELDS:geo:173.2181794,-41.3280994
END:VEVENT
BEGIN:VEVENT
DTSTART;VALUE=DATE:20250615
DTEND;VALUE=DATE:20250616
DTSTAMP:20260422T190956
CREATED:20241228T225151Z
LAST-MODIFIED:20241228T225151Z
UID:22682-1749945600-1750031999@www.nelsonhockey.org.nz
SUMMARY:NHA Coaching Forum III
DESCRIPTION:
URL:https://www.nelsonhockey.org.nz/event/nha-coaching-forum-iii-2/
LOCATION:NELSON HOCKEY\, SAXTON FIELDS\, Nelson\, Tasman/Nelson\, 7011\, New Zealand
CATEGORIES:Courses
ATTACH;FMTTYPE=image/jpeg:https://www.nelsonhockey.org.nz/wp-content/uploads/2022/12/Nelson-Hockey_Coaching_Blog-Post-Banner_Nov22.jpg
GEO:-41.3280994;173.2181794
X-APPLE-STRUCTURED-LOCATION;VALUE=URI;X-ADDRESS=NELSON HOCKEY SAXTON FIELDS Nelson Tasman/Nelson 7011 New Zealand;X-APPLE-RADIUS=500;X-TITLE=SAXTON FIELDS:geo:173.2181794,-41.3280994
END:VEVENT
BEGIN:VEVENT
DTSTART;TZID=Pacific/Auckland:20250615T110000
DTEND;TZID=Pacific/Auckland:20250615T123000
DTSTAMP:20260422T190956
CREATED:20250404T012120Z
LAST-MODIFIED:20250404T012120Z
UID:23403-1749985200-1749990600@www.nelsonhockey.org.nz
SUMMARY:Premier 2 Men - Round 9 - Federal Coffin Dodgers vs. Stoke Gold P2 Men
DESCRIPTION:
URL:https://www.nelsonhockey.org.nz/event/premier-2-men-round-9-federal-coffin-dodgers-vs-stoke-gold-p2-men/
LOCATION:Tasman/Nelson
CATEGORIES:Club Competition Week
END:VEVENT
BEGIN:VEVENT
DTSTART;TZID=Pacific/Auckland:20250615T111500
DTEND;TZID=Pacific/Auckland:20250615T124500
DTSTAMP:20260422T190956
CREATED:20250404T012725Z
LAST-MODIFIED:20250404T012725Z
UID:23417-1749986100-1749991500@www.nelsonhockey.org.nz
SUMMARY:Premier 2 Women - Round 9 - Waimai United P2 Women vs. Tasman Women's P2
DESCRIPTION:
URL:https://www.nelsonhockey.org.nz/event/premier-2-women-round-9-waimai-united-p2-women-vs-tasman-womens-p2/
LOCATION:Tasman/Nelson
CATEGORIES:Club Competition Week
END:VEVENT
BEGIN:VEVENT
DTSTART;TZID=Pacific/Auckland:20250615T161500
DTEND;TZID=Pacific/Auckland:20250615T174500
DTSTAMP:20260422T190956
CREATED:20250404T013053Z
LAST-MODIFIED:20250422T214101Z
UID:23493-1750004100-1750009500@www.nelsonhockey.org.nz
SUMMARY:Premier 2 Men - Round 9 - Nelson College vs. Tasman P2 Mens
DESCRIPTION:
URL:https://www.nelsonhockey.org.nz/event/premier-2-men-round-9-nelson-college-vs-tasman-p2-mens/
LOCATION:Tasman/Nelson
CATEGORIES:Club Competition Week
END:VEVENT
BEGIN:VEVENT
DTSTART;TZID=Pacific/Auckland:20250615T163000
DTEND;TZID=Pacific/Auckland:20250615T180000
DTSTAMP:20260422T190956
CREATED:20250404T013124Z
LAST-MODIFIED:20250422T213901Z
UID:23507-1750005000-1750010400@www.nelsonhockey.org.nz
SUMMARY:Premier 2 Women - Round 9 - Federal Senior Women vs. Endeavours
DESCRIPTION:
URL:https://www.nelsonhockey.org.nz/event/premier-2-women-round-9-federal-senior-women-vs-endeavours/
LOCATION:Tasman/Nelson
CATEGORIES:Club Competition Week
END:VEVENT
BEGIN:VEVENT
DTSTART;TZID=Pacific/Auckland:20250615T180000
DTEND;TZID=Pacific/Auckland:20250615T193000
DTSTAMP:20260422T190956
CREATED:20250404T013250Z
LAST-MODIFIED:20250404T013250Z
UID:23544-1750010400-1750015800@www.nelsonhockey.org.nz
SUMMARY:Premier 2 Men - Round 9 - Stoke Black P2 Men vs. Waimai United P2 Men
DESCRIPTION:
URL:https://www.nelsonhockey.org.nz/event/premier-2-men-round-9-stoke-black-p2-men-vs-waimai-united-p2-men/
LOCATION:Tasman/Nelson
CATEGORIES:Club Competition Week
END:VEVENT
BEGIN:VEVENT
DTSTART;VALUE=DATE:20250617
DTEND;VALUE=DATE:20250618
DTSTAMP:20260422T190956
CREATED:20241228T225327Z
LAST-MODIFIED:20241228T225327Z
UID:22684-1750118400-1750204799@www.nelsonhockey.org.nz
SUMMARY:NHA Clubs Mid-Season Meeting
DESCRIPTION:
URL:https://www.nelsonhockey.org.nz/event/nha-clubs-mid-season-meeting-3/
LOCATION:NELSON HOCKEY\, SAXTON FIELDS\, Nelson\, Tasman/Nelson\, 7011\, New Zealand
CATEGORIES:NELSON HOCKEY ASSOCIATION
ATTACH;FMTTYPE=image/jpeg:https://www.nelsonhockey.org.nz/wp-content/uploads/2024/12/NHA-Logo-3.jpg
GEO:-41.3280994;173.2181794
X-APPLE-STRUCTURED-LOCATION;VALUE=URI;X-ADDRESS=NELSON HOCKEY SAXTON FIELDS Nelson Tasman/Nelson 7011 New Zealand;X-APPLE-RADIUS=500;X-TITLE=SAXTON FIELDS:geo:173.2181794,-41.3280994
END:VEVENT
BEGIN:VEVENT
DTSTART;TZID=Pacific/Auckland:20250618T163000
DTEND;TZID=Pacific/Auckland:20250618T170000
DTSTAMP:20260422T190956
CREATED:20250516T021020Z
LAST-MODIFIED:20250516T021020Z
UID:24061-1750264200-1750266000@www.nelsonhockey.org.nz
SUMMARY:Primary Grade - Round 5 - Stoke Primary Mixed VS Waimai United Whizzers
DESCRIPTION:
URL:https://www.nelsonhockey.org.nz/event/primary-grade-round-5-stoke-primary-mixed-vs-waimai-united-whizzers/
LOCATION:Tasman/Nelson
CATEGORIES:Club Competition Week
END:VEVENT
BEGIN:VEVENT
DTSTART;TZID=Pacific/Auckland:20250618T163000
DTEND;TZID=Pacific/Auckland:20250618T170000
DTSTAMP:20260422T190956
CREATED:20250516T021233Z
LAST-MODIFIED:20250516T021233Z
UID:24062-1750264200-1750266000@www.nelsonhockey.org.nz
SUMMARY:Primary Grade - Round 5 - Federal Primary VS Waimai United
DESCRIPTION:
URL:https://www.nelsonhockey.org.nz/event/primary-grade-round-5-federal-primary-vs-waimai-united/
LOCATION:Tasman/Nelson
CATEGORIES:Club Competition Week
END:VEVENT
BEGIN:VEVENT
DTSTART;TZID=Pacific/Auckland:20250618T163000
DTEND;TZID=Pacific/Auckland:20250618T173500
DTSTAMP:20260422T190956
CREATED:20250514T031740Z
LAST-MODIFIED:20250514T031740Z
UID:23997-1750264200-1750268100@www.nelsonhockey.org.nz
SUMMARY:Intermediate Grade - Round 5 - NC Prep Navy vs Waimai United  - Blue
DESCRIPTION:
URL:https://www.nelsonhockey.org.nz/event/intermediate-grade-round-5-nc-prep-navy-vs-waimai-united-blue/
LOCATION:Tasman/Nelson
CATEGORIES:Club Competition Week
END:VEVENT
BEGIN:VEVENT
DTSTART;TZID=Pacific/Auckland:20250618T163000
DTEND;TZID=Pacific/Auckland:20250618T173500
DTSTAMP:20260422T190956
CREATED:20250514T031740Z
LAST-MODIFIED:20250514T031740Z
UID:23998-1750264200-1750268100@www.nelsonhockey.org.nz
SUMMARY:Intermediate Grade - Round 5 - N.C.G. Prep Storm vs Waimai United  - Orange
DESCRIPTION:
URL:https://www.nelsonhockey.org.nz/event/intermediate-grade-round-5-n-c-g-prep-storm-vs-waimai-united-orange/
LOCATION:Tasman/Nelson
CATEGORIES:Club Competition Week
END:VEVENT
BEGIN:VEVENT
DTSTART;TZID=Pacific/Auckland:20250618T170000
DTEND;TZID=Pacific/Auckland:20250618T173000
DTSTAMP:20260422T190956
CREATED:20250516T021234Z
LAST-MODIFIED:20250516T021234Z
UID:24063-1750266000-1750267800@www.nelsonhockey.org.nz
SUMMARY:Primary Grade - Round 5 - St Paul's Tasman VS Tasman Tigers
DESCRIPTION:
URL:https://www.nelsonhockey.org.nz/event/primary-grade-round-5-st-pauls-tasman-vs-tasman-tigers/
LOCATION:Tasman/Nelson
CATEGORIES:Club Competition Week
END:VEVENT
BEGIN:VEVENT
DTSTART;TZID=Pacific/Auckland:20250618T170000
DTEND;TZID=Pacific/Auckland:20250618T173000
DTSTAMP:20260422T190956
CREATED:20250516T021234Z
LAST-MODIFIED:20250516T021234Z
UID:24064-1750266000-1750267800@www.nelsonhockey.org.nz
SUMMARY:Primary Grade - Round 5 - Waimai United Whizzers VS Stoke Primary Mixed
DESCRIPTION:
URL:https://www.nelsonhockey.org.nz/event/primary-grade-round-5-waimai-united-whizzers-vs-stoke-primary-mixed/
LOCATION:Tasman/Nelson
CATEGORIES:Club Competition Week
END:VEVENT
BEGIN:VEVENT
DTSTART;TZID=Pacific/Auckland:20250618T173000
DTEND;TZID=Pacific/Auckland:20250618T180000
DTSTAMP:20260422T190956
CREATED:20250516T021235Z
LAST-MODIFIED:20250516T021235Z
UID:24065-1750267800-1750269600@www.nelsonhockey.org.nz
SUMMARY:Primary Grade - Round 5 - Waimai United VS Federal Primary
DESCRIPTION:
URL:https://www.nelsonhockey.org.nz/event/primary-grade-round-5-waimai-united-vs-federal-primary/
LOCATION:Tasman/Nelson
CATEGORIES:Club Competition Week
END:VEVENT
BEGIN:VEVENT
DTSTART;TZID=Pacific/Auckland:20250618T173000
DTEND;TZID=Pacific/Auckland:20250618T180000
DTSTAMP:20260422T190956
CREATED:20250516T021235Z
LAST-MODIFIED:20250516T021235Z
UID:24066-1750267800-1750269600@www.nelsonhockey.org.nz
SUMMARY:Primary Grade - Round 5 - Tasman Tigers VS St Paul's Tasman
DESCRIPTION:
URL:https://www.nelsonhockey.org.nz/event/primary-grade-round-5-tasman-tigers-vs-st-pauls-tasman/
LOCATION:Tasman/Nelson
CATEGORIES:Club Competition Week
END:VEVENT
END:VCALENDAR