BEGIN:VCALENDAR
VERSION:2.0
PRODID:-//Nelson Hockey Association (1993) Inc - ECPv6.15.16//NONSGML v1.0//EN
CALSCALE:GREGORIAN
METHOD:PUBLISH
X-WR-CALNAME:Nelson Hockey Association (1993) Inc
X-ORIGINAL-URL:https://www.nelsonhockey.org.nz
X-WR-CALDESC:Events for Nelson Hockey Association (1993) Inc
REFRESH-INTERVAL;VALUE=DURATION:PT1H
X-Robots-Tag:noindex
X-PUBLISHED-TTL:PT1H
BEGIN:VTIMEZONE
TZID:Pacific/Auckland
BEGIN:STANDARD
TZOFFSETFROM:+1300
TZOFFSETTO:+1200
TZNAME:NZST
DTSTART:20240406T140000
END:STANDARD
BEGIN:DAYLIGHT
TZOFFSETFROM:+1200
TZOFFSETTO:+1300
TZNAME:NZDT
DTSTART:20240928T140000
END:DAYLIGHT
BEGIN:STANDARD
TZOFFSETFROM:+1300
TZOFFSETTO:+1200
TZNAME:NZST
DTSTART:20250405T140000
END:STANDARD
BEGIN:DAYLIGHT
TZOFFSETFROM:+1200
TZOFFSETTO:+1300
TZNAME:NZDT
DTSTART:20250927T140000
END:DAYLIGHT
BEGIN:STANDARD
TZOFFSETFROM:+1300
TZOFFSETTO:+1200
TZNAME:NZST
DTSTART:20260404T140000
END:STANDARD
BEGIN:DAYLIGHT
TZOFFSETFROM:+1200
TZOFFSETTO:+1300
TZNAME:NZDT
DTSTART:20260926T140000
END:DAYLIGHT
END:VTIMEZONE
BEGIN:VEVENT
DTSTART;TZID=Pacific/Auckland:20250622T110000
DTEND;TZID=Pacific/Auckland:20250622T123000
DTSTAMP:20260422T123417
CREATED:20250404T012120Z
LAST-MODIFIED:20250404T012120Z
UID:23404-1750590000-1750595400@www.nelsonhockey.org.nz
SUMMARY:Premier 2 Women - Round 10 - Stoke Gold vs. Federal Senior Women
DESCRIPTION:
URL:https://www.nelsonhockey.org.nz/event/premier-2-women-round-10-stoke-gold-vs-federal-senior-women/
LOCATION:Tasman/Nelson
CATEGORIES:Club Competition Week
END:VEVENT
BEGIN:VEVENT
DTSTART;TZID=Pacific/Auckland:20250622T111500
DTEND;TZID=Pacific/Auckland:20250622T124500
DTSTAMP:20260422T123417
CREATED:20250404T012726Z
LAST-MODIFIED:20250404T012726Z
UID:23418-1750590900-1750596300@www.nelsonhockey.org.nz
SUMMARY:Premier 2 Men - Round 10 - Waimai United P2 Men vs. Nelson College
DESCRIPTION:
URL:https://www.nelsonhockey.org.nz/event/premier-2-men-round-10-waimai-united-p2-men-vs-nelson-college/
LOCATION:Tasman/Nelson
CATEGORIES:Club Competition Week
END:VEVENT
BEGIN:VEVENT
DTSTART;TZID=Pacific/Auckland:20250622T124500
DTEND;TZID=Pacific/Auckland:20250622T141500
DTSTAMP:20260422T123417
CREATED:20250404T012834Z
LAST-MODIFIED:20250404T012834Z
UID:23431-1750596300-1750601700@www.nelsonhockey.org.nz
SUMMARY:Premier 2 Women - Round 10 - Tasman Women's P2 vs. Nelson College for Girls 1st XI
DESCRIPTION:
URL:https://www.nelsonhockey.org.nz/event/premier-2-women-round-10-tasman-womens-p2-vs-nelson-college-for-girls-1st-xi/
LOCATION:Tasman/Nelson
CATEGORIES:Club Competition Week
END:VEVENT
BEGIN:VEVENT
DTSTART;TZID=Pacific/Auckland:20250622T130000
DTEND;TZID=Pacific/Auckland:20250622T143000
DTSTAMP:20260422T123417
CREATED:20250404T012853Z
LAST-MODIFIED:20250404T012853Z
UID:23444-1750597200-1750602600@www.nelsonhockey.org.nz
SUMMARY:Premier 2 Men - Round 10 - Stoke Gold P2 Men vs. Tasman P2 Mens
DESCRIPTION:
URL:https://www.nelsonhockey.org.nz/event/premier-2-men-round-10-stoke-gold-p2-men-vs-tasman-p2-mens/
LOCATION:Tasman/Nelson
CATEGORIES:Club Competition Week
END:VEVENT
BEGIN:VEVENT
DTSTART;TZID=Pacific/Auckland:20250622T143000
DTEND;TZID=Pacific/Auckland:20250622T160000
DTSTAMP:20260422T123417
CREATED:20250404T013053Z
LAST-MODIFIED:20250404T013053Z
UID:23494-1750602600-1750608000@www.nelsonhockey.org.nz
SUMMARY:Premier 2 Women - Round 10 - Endeavours vs. Rewa Hockey
DESCRIPTION:
URL:https://www.nelsonhockey.org.nz/event/premier-2-women-round-10-endeavours-vs-rewa-hockey/
LOCATION:Tasman/Nelson
CATEGORIES:Club Competition Week
END:VEVENT
BEGIN:VEVENT
DTSTART;TZID=Pacific/Auckland:20250622T144500
DTEND;TZID=Pacific/Auckland:20250622T161500
DTSTAMP:20260422T123417
CREATED:20250404T013124Z
LAST-MODIFIED:20250404T013124Z
UID:23508-1750603500-1750608900@www.nelsonhockey.org.nz
SUMMARY:Premier 2 Men - Round 10 - Stoke Black P2 Men vs. Federal Coffin Dodgers
DESCRIPTION:
URL:https://www.nelsonhockey.org.nz/event/premier-2-men-round-10-stoke-black-p2-men-vs-federal-coffin-dodgers/
LOCATION:Tasman/Nelson
CATEGORIES:Club Competition Week
END:VEVENT
BEGIN:VEVENT
DTSTART;TZID=Pacific/Auckland:20250625T163000
DTEND;TZID=Pacific/Auckland:20250625T170000
DTSTAMP:20260422T123417
CREATED:20250516T021421Z
LAST-MODIFIED:20250516T021421Z
UID:24067-1750869000-1750870800@www.nelsonhockey.org.nz
SUMMARY:Primary Grade - Round 6 - St Paul's Tasman VS Waimai United
DESCRIPTION:
URL:https://www.nelsonhockey.org.nz/event/primary-grade-round-6-st-pauls-tasman-vs-waimai-united/
LOCATION:Tasman/Nelson
CATEGORIES:Club Competition Week
END:VEVENT
BEGIN:VEVENT
DTSTART;TZID=Pacific/Auckland:20250625T163000
DTEND;TZID=Pacific/Auckland:20250625T170000
DTSTAMP:20260422T123417
CREATED:20250516T021421Z
LAST-MODIFIED:20250516T021421Z
UID:24068-1750869000-1750870800@www.nelsonhockey.org.nz
SUMMARY:Primary Grade - Round 6 - Tasman Tigers VS Stoke Primary Mixed
DESCRIPTION:
URL:https://www.nelsonhockey.org.nz/event/primary-grade-round-6-tasman-tigers-vs-stoke-primary-mixed/
LOCATION:Tasman/Nelson
CATEGORIES:Club Competition Week
END:VEVENT
BEGIN:VEVENT
DTSTART;TZID=Pacific/Auckland:20250625T163000
DTEND;TZID=Pacific/Auckland:20250625T173500
DTSTAMP:20260422T123417
CREATED:20250514T031943Z
LAST-MODIFIED:20250514T031943Z
UID:24001-1750869000-1750872900@www.nelsonhockey.org.nz
SUMMARY:Intermediate Grade - Round 6 - NC Prep Sky vs N.C.G. Prep Storm
DESCRIPTION:
URL:https://www.nelsonhockey.org.nz/event/intermediate-grade-round-6-nc-prep-sky-vs-n-c-g-prep-storm/
LOCATION:Tasman/Nelson
CATEGORIES:Club Competition Week
END:VEVENT
BEGIN:VEVENT
DTSTART;TZID=Pacific/Auckland:20250625T163000
DTEND;TZID=Pacific/Auckland:20250625T173500
DTSTAMP:20260422T123417
CREATED:20250514T031944Z
LAST-MODIFIED:20250514T031944Z
UID:24004-1750869000-1750872900@www.nelsonhockey.org.nz
SUMMARY:Intermediate Grade - Round 6 - Federal Intermediate vs Waimai United
DESCRIPTION:
URL:https://www.nelsonhockey.org.nz/event/intermediate-grade-round-6-federal-intermediate-vs-waimai-united/
LOCATION:Tasman/Nelson
CATEGORIES:Club Competition Week
END:VEVENT
BEGIN:VEVENT
DTSTART;TZID=Pacific/Auckland:20250625T170000
DTEND;TZID=Pacific/Auckland:20250625T173000
DTSTAMP:20260422T123417
CREATED:20250516T021421Z
LAST-MODIFIED:20250516T021421Z
UID:24071-1750870800-1750872600@www.nelsonhockey.org.nz
SUMMARY:Primary Grade - Round 6 - Stoke Primary Mixed VS St Paul's Tasman
DESCRIPTION:
URL:https://www.nelsonhockey.org.nz/event/primary-grade-round-6-stoke-primary-mixed-vs-st-pauls-tasman/
LOCATION:Tasman/Nelson
CATEGORIES:Club Competition Week
END:VEVENT
BEGIN:VEVENT
DTSTART;TZID=Pacific/Auckland:20250625T170000
DTEND;TZID=Pacific/Auckland:20250625T173000
DTSTAMP:20260422T123417
CREATED:20250516T021421Z
LAST-MODIFIED:20250516T021421Z
UID:24069-1750870800-1750872600@www.nelsonhockey.org.nz
SUMMARY:Primary Grade - Round 6 - Federal Primary VS Waimai United Whizzers
DESCRIPTION:
URL:https://www.nelsonhockey.org.nz/event/primary-grade-round-6-federal-primary-vs-waimai-united-whizzers/
LOCATION:Tasman/Nelson
CATEGORIES:Club Competition Week
END:VEVENT
BEGIN:VEVENT
DTSTART;TZID=Pacific/Auckland:20250625T173000
DTEND;TZID=Pacific/Auckland:20250625T180000
DTSTAMP:20260422T123417
CREATED:20250516T021421Z
LAST-MODIFIED:20250516T021421Z
UID:24070-1750872600-1750874400@www.nelsonhockey.org.nz
SUMMARY:Primary Grade - Round 6 - Federal Primary VS Tasman Tigers
DESCRIPTION:
URL:https://www.nelsonhockey.org.nz/event/primary-grade-round-6-federal-primary-vs-tasman-tigers/
LOCATION:Tasman/Nelson
CATEGORIES:Club Competition Week
END:VEVENT
BEGIN:VEVENT
DTSTART;TZID=Pacific/Auckland:20250625T173000
DTEND;TZID=Pacific/Auckland:20250625T180000
DTSTAMP:20260422T123417
CREATED:20250516T021621Z
LAST-MODIFIED:20250516T021621Z
UID:24072-1750872600-1750874400@www.nelsonhockey.org.nz
SUMMARY:Primary Grade - Round 6 - Waimai United Whizzers VS Waimai United
DESCRIPTION:
URL:https://www.nelsonhockey.org.nz/event/primary-grade-round-6-waimai-united-whizzers-vs-waimai-united/
LOCATION:Tasman/Nelson
CATEGORIES:Club Competition Week
END:VEVENT
BEGIN:VEVENT
DTSTART;TZID=Pacific/Auckland:20250625T173500
DTEND;TZID=Pacific/Auckland:20250625T184000
DTSTAMP:20260422T123417
CREATED:20250514T031943Z
LAST-MODIFIED:20250514T031943Z
UID:24002-1750872900-1750876800@www.nelsonhockey.org.nz
SUMMARY:Intermediate Grade - Round 6 - Waimai United  - Blue vs Stoke Intermediate mixed
DESCRIPTION:
URL:https://www.nelsonhockey.org.nz/event/intermediate-grade-round-6-waimai-united-blue-vs-stoke-intermediate-mixed/
LOCATION:Tasman/Nelson
CATEGORIES:Club Competition Week
END:VEVENT
BEGIN:VEVENT
DTSTART;TZID=Pacific/Auckland:20250625T173500
DTEND;TZID=Pacific/Auckland:20250625T184000
DTSTAMP:20260422T123417
CREATED:20250514T031944Z
LAST-MODIFIED:20250514T031944Z
UID:24003-1750872900-1750876800@www.nelsonhockey.org.nz
SUMMARY:Intermediate Grade - Round 6 - Waimai United  - Orange vs N.C.G. Prep Thunder
DESCRIPTION:
URL:https://www.nelsonhockey.org.nz/event/intermediate-grade-round-6-waimai-united-orange-vs-n-c-g-prep-thunder/
LOCATION:Tasman/Nelson
CATEGORIES:Club Competition Week
END:VEVENT
BEGIN:VEVENT
DTSTART;TZID=Pacific/Auckland:20250625T180000
DTEND;TZID=Pacific/Auckland:20250625T190000
DTSTAMP:20260422T123417
CREATED:20241228T011442Z
LAST-MODIFIED:20241228T011442Z
UID:22630-1750874400-1750878000@www.nelsonhockey.org.nz
SUMMARY:GK Training Program
DESCRIPTION:
URL:https://www.nelsonhockey.org.nz/event/gk-training-program-2/2025-06-25/
LOCATION:NELSON HOCKEY\, SAXTON FIELDS\, Nelson\, Tasman/Nelson\, 7011\, New Zealand
CATEGORIES:GK TRAINING PROGRAM
ATTACH;FMTTYPE=image/jpeg:https://www.nelsonhockey.org.nz/wp-content/uploads/2024/10/2025-NHA-GK-Training-Program.jpg
GEO:-41.3280994;173.2181794
X-APPLE-STRUCTURED-LOCATION;VALUE=URI;X-ADDRESS=NELSON HOCKEY SAXTON FIELDS Nelson Tasman/Nelson 7011 New Zealand;X-APPLE-RADIUS=500;X-TITLE=SAXTON FIELDS:geo:173.2181794,-41.3280994
END:VEVENT
BEGIN:VEVENT
DTSTART;TZID=Pacific/Auckland:20250625T190000
DTEND;TZID=Pacific/Auckland:20250625T200000
DTSTAMP:20260422T123417
CREATED:20241228T224151Z
LAST-MODIFIED:20241228T224151Z
UID:22672-1750878000-1750881600@www.nelsonhockey.org.nz
SUMMARY:NHA SR.M&W Training
DESCRIPTION:
URL:https://www.nelsonhockey.org.nz/event/nha-sr-mw-training-2/2025-06-25/
LOCATION:NELSON HOCKEY\, SAXTON FIELDS\, Nelson\, Tasman/Nelson\, 7011\, New Zealand
CATEGORIES:SENIORS
ATTACH;FMTTYPE=image/jpeg:https://www.nelsonhockey.org.nz/wp-content/uploads/2022/12/Nelson-Hockey_NHA-Representative_Blog-Post-Banner_Nov22.jpg
GEO:-41.3280994;173.2181794
X-APPLE-STRUCTURED-LOCATION;VALUE=URI;X-ADDRESS=NELSON HOCKEY SAXTON FIELDS Nelson Tasman/Nelson 7011 New Zealand;X-APPLE-RADIUS=500;X-TITLE=SAXTON FIELDS:geo:173.2181794,-41.3280994
END:VEVENT
BEGIN:VEVENT
DTSTART;TZID=Pacific/Auckland:20250627T163000
DTEND;TZID=Pacific/Auckland:20250627T180000
DTSTAMP:20260422T123417
CREATED:20250430T031122Z
LAST-MODIFIED:20250430T031122Z
UID:23735-1751041800-1751047200@www.nelsonhockey.org.nz
SUMMARY:Secondary Boys - Round 8 - Waimai United vs Federal
DESCRIPTION:
URL:https://www.nelsonhockey.org.nz/event/secondary-boys-round-8-waimai-united-vs-federal/
LOCATION:Tasman/Nelson
CATEGORIES:Club Competition Week
END:VEVENT
BEGIN:VEVENT
DTSTART;TZID=Pacific/Auckland:20250627T163000
DTEND;TZID=Pacific/Auckland:20250627T180000
DTSTAMP:20260422T123417
CREATED:20250430T031454Z
LAST-MODIFIED:20250430T031454Z
UID:23809-1751041800-1751047200@www.nelsonhockey.org.nz
SUMMARY:Secondary Girls/Mixed - Round 8 - Nelson College for Girls combined vs Nelson College for Girls 9&10
DESCRIPTION:
URL:https://www.nelsonhockey.org.nz/event/secondary-girls-mixed-round-8-nelson-college-for-girls-combined-vs-nelson-college-for-girls-910/
LOCATION:Tasman/Nelson
CATEGORIES:Club Competition Week
END:VEVENT
BEGIN:VEVENT
DTSTART;TZID=Pacific/Auckland:20250627T175500
DTEND;TZID=Pacific/Auckland:20250627T192500
DTSTAMP:20260422T123417
CREATED:20250430T030503Z
LAST-MODIFIED:20250430T030503Z
UID:23747-1751046900-1751052300@www.nelsonhockey.org.nz
SUMMARY:Secondary Boys - Round 8 - NC Sky vs Stoke Mixed Secondary
DESCRIPTION:
URL:https://www.nelsonhockey.org.nz/event/secondary-boys-round-8-nc-sky-vs-stoke-mixed-secondary/
LOCATION:Tasman/Nelson
CATEGORIES:Club Competition Week
END:VEVENT
BEGIN:VEVENT
DTSTART;TZID=Pacific/Auckland:20250627T175500
DTEND;TZID=Pacific/Auckland:20250627T192500
DTSTAMP:20260422T123417
CREATED:20250430T031855Z
LAST-MODIFIED:20250430T031855Z
UID:23821-1751046900-1751052300@www.nelsonhockey.org.nz
SUMMARY:Secondary Girls/Mixed - Round 8 - Garin Senior Girls vs Waimea College Tasman
DESCRIPTION:
URL:https://www.nelsonhockey.org.nz/event/secondary-girls-mixed-round-8-garin-senior-girls-vs-waimea-college-tasman/
LOCATION:Tasman/Nelson
CATEGORIES:Club Competition Week
END:VEVENT
BEGIN:VEVENT
DTSTART;TZID=Pacific/Auckland:20250627T192000
DTEND;TZID=Pacific/Auckland:20250627T205000
DTSTAMP:20260422T123417
CREATED:20250430T030059Z
LAST-MODIFIED:20250430T030059Z
UID:23759-1751052000-1751057400@www.nelsonhockey.org.nz
SUMMARY:Secondary Boys - Round 8 - Garin Senior Boys vs NC Navy
DESCRIPTION:
URL:https://www.nelsonhockey.org.nz/event/secondary-boys-round-8-garin-senior-boys-vs-nc-navy/
LOCATION:Tasman/Nelson
CATEGORIES:Club Competition Week
END:VEVENT
BEGIN:VEVENT
DTSTART;TZID=Pacific/Auckland:20250627T192000
DTEND;TZID=Pacific/Auckland:20250627T205000
DTSTAMP:20260422T123417
CREATED:20250430T032455Z
LAST-MODIFIED:20250430T032455Z
UID:23833-1751052000-1751057400@www.nelsonhockey.org.nz
SUMMARY:Secondary Girls/Mixed - Round 8 - Tasman Titans vs Garin Development
DESCRIPTION:
URL:https://www.nelsonhockey.org.nz/event/secondary-girls-mixed-round-8-tasman-titans-vs-garin-development/
LOCATION:Tasman/Nelson
CATEGORIES:Club Competition Week
END:VEVENT
BEGIN:VEVENT
DTSTART;VALUE=DATE:20250628
DTEND;VALUE=DATE:20250714
DTSTAMP:20260422T123417
CREATED:20241228T225601Z
LAST-MODIFIED:20241228T225601Z
UID:22688-1751068800-1752451199@www.nelsonhockey.org.nz
SUMMARY:School Holidays
DESCRIPTION:
URL:https://www.nelsonhockey.org.nz/event/school-holidays-15/
LOCATION:Tasman/Nelson
CATEGORIES:School Holidays
ATTACH;FMTTYPE=image/jpeg:https://www.nelsonhockey.org.nz/wp-content/uploads/2018/07/happy-holidays-happy-holidays-text-message-with-little-kids-climbing-around-clip-art_csp1670532.jpg
END:VEVENT
BEGIN:VEVENT
DTSTART;TZID=Pacific/Auckland:20250628T133000
DTEND;TZID=Pacific/Auckland:20250628T150000
DTSTAMP:20260422T123417
CREATED:20250404T012952Z
LAST-MODIFIED:20250404T012955Z
UID:23464-1751117400-1751122800@www.nelsonhockey.org.nz
SUMMARY:Premier 1 Men - Round 11 - Tasman White vs. Federal Premier Men
DESCRIPTION:
URL:https://www.nelsonhockey.org.nz/event/premier-1-men-round-11-tasman-white-vs-federal-premier-men/
LOCATION:Tasman/Nelson
CATEGORIES:Club Competition Week
END:VEVENT
BEGIN:VEVENT
DTSTART;TZID=Pacific/Auckland:20250628T134500
DTEND;TZID=Pacific/Auckland:20250628T151500
DTSTAMP:20260422T123417
CREATED:20250404T013043Z
LAST-MODIFIED:20250404T013043Z
UID:23481-1751118300-1751123700@www.nelsonhockey.org.nz
SUMMARY:Premier 1 Women - Round 10 - Tasman Black Women's P1 vs. Stoke P1 Women
DESCRIPTION:
URL:https://www.nelsonhockey.org.nz/event/premier-1-women-round-10-tasman-black-womens-p1-vs-stoke-p1-women/
LOCATION:Tasman/Nelson
CATEGORIES:Club Competition Week
END:VEVENT
BEGIN:VEVENT
DTSTART;TZID=Pacific/Auckland:20250628T151500
DTEND;TZID=Pacific/Auckland:20250628T164500
DTSTAMP:20260422T123417
CREATED:20250404T013206Z
LAST-MODIFIED:20250404T013211Z
UID:23523-1751123700-1751129100@www.nelsonhockey.org.nz
SUMMARY:Premier 1 Men - Round 11 - Tasman Black vs. Waimai United P1 Men
DESCRIPTION:
URL:https://www.nelsonhockey.org.nz/event/premier-1-men-round-11-tasman-black-vs-waimai-united-p1-men/
LOCATION:Tasman/Nelson
CATEGORIES:Club Competition Week
END:VEVENT
BEGIN:VEVENT
DTSTART;TZID=Pacific/Auckland:20250628T153000
DTEND;TZID=Pacific/Auckland:20250628T170000
DTSTAMP:20260422T123417
CREATED:20250404T013249Z
LAST-MODIFIED:20250404T013249Z
UID:23540-1751124600-1751130000@www.nelsonhockey.org.nz
SUMMARY:Premier 1 Women - Round 10 - Waimai United P1 Women vs. Federal Premier Women
DESCRIPTION:
URL:https://www.nelsonhockey.org.nz/event/premier-1-women-round-10-waimai-united-p1-women-vs-federal-premier-women/
LOCATION:Tasman/Nelson
CATEGORIES:Club Competition Week
END:VEVENT
BEGIN:VEVENT
DTSTART;VALUE=DATE:20250629
DTEND;VALUE=DATE:20250706
DTSTAMP:20260422T123417
CREATED:20241228T230216Z
LAST-MODIFIED:20241228T230216Z
UID:22690-1751155200-1751759999@www.nelsonhockey.org.nz
SUMMARY:HNZ U18W National Tournament
DESCRIPTION:
URL:https://www.nelsonhockey.org.nz/event/hnz-u18w-national-tournament/
LOCATION:North Harbour Hockey\, 159 Bush Road\, Rosedale\, Auckland\, Auckland\, 0632\, New Zealand
CATEGORIES:NZ Hockey
ATTACH;FMTTYPE=image/png:https://www.nelsonhockey.org.nz/wp-content/uploads/2022/11/Hockey-New-Zealand-Logo-1.png
ORGANIZER;CN="North Harbour Hockey":MAILTO:administration@harbourhockey.org.nz
END:VEVENT
END:VCALENDAR