BEGIN:VCALENDAR
VERSION:2.0
PRODID:-//Nelson Hockey Association (1993) Inc - ECPv6.15.16//NONSGML v1.0//EN
CALSCALE:GREGORIAN
METHOD:PUBLISH
X-WR-CALNAME:Nelson Hockey Association (1993) Inc
X-ORIGINAL-URL:https://www.nelsonhockey.org.nz
X-WR-CALDESC:Events for Nelson Hockey Association (1993) Inc
REFRESH-INTERVAL;VALUE=DURATION:PT1H
X-Robots-Tag:noindex
X-PUBLISHED-TTL:PT1H
BEGIN:VTIMEZONE
TZID:Pacific/Auckland
BEGIN:STANDARD
TZOFFSETFROM:+1300
TZOFFSETTO:+1200
TZNAME:NZST
DTSTART:20240406T140000
END:STANDARD
BEGIN:DAYLIGHT
TZOFFSETFROM:+1200
TZOFFSETTO:+1300
TZNAME:NZDT
DTSTART:20240928T140000
END:DAYLIGHT
BEGIN:STANDARD
TZOFFSETFROM:+1300
TZOFFSETTO:+1200
TZNAME:NZST
DTSTART:20250405T140000
END:STANDARD
BEGIN:DAYLIGHT
TZOFFSETFROM:+1200
TZOFFSETTO:+1300
TZNAME:NZDT
DTSTART:20250927T140000
END:DAYLIGHT
BEGIN:STANDARD
TZOFFSETFROM:+1300
TZOFFSETTO:+1200
TZNAME:NZST
DTSTART:20260404T140000
END:STANDARD
BEGIN:DAYLIGHT
TZOFFSETFROM:+1200
TZOFFSETTO:+1300
TZNAME:NZDT
DTSTART:20260926T140000
END:DAYLIGHT
END:VTIMEZONE
BEGIN:VEVENT
DTSTART;VALUE=DATE:20250714
DTEND;VALUE=DATE:20250920
DTSTAMP:20260422T090628
CREATED:20241229T201801Z
LAST-MODIFIED:20241229T201801Z
UID:22716-1752451200-1758326399@www.nelsonhockey.org.nz
SUMMARY:Term 3
DESCRIPTION:
URL:https://www.nelsonhockey.org.nz/event/term-3-2/
LOCATION:Tasman/Nelson
CATEGORIES:Term 3
ATTACH;FMTTYPE=image/jpeg:https://www.nelsonhockey.org.nz/wp-content/uploads/2023/11/Back-to-school.jpg
END:VEVENT
BEGIN:VEVENT
DTSTART;VALUE=DATE:20250720
DTEND;VALUE=DATE:20250721
DTSTAMP:20260422T090628
CREATED:20241229T201919Z
LAST-MODIFIED:20241229T201919Z
UID:22718-1752969600-1753055999@www.nelsonhockey.org.nz
SUMMARY:NHA Coaching Forum III
DESCRIPTION:
URL:https://www.nelsonhockey.org.nz/event/nha-coaching-forum-iii-3/
LOCATION:NELSON HOCKEY\, SAXTON FIELDS\, Nelson\, Tasman/Nelson\, 7011\, New Zealand
CATEGORIES:Courses
ATTACH;FMTTYPE=image/jpeg:https://www.nelsonhockey.org.nz/wp-content/uploads/2022/12/Nelson-Hockey_Coaching_Facebook-Banner_Nov22.jpg
GEO:-41.3280994;173.2181794
X-APPLE-STRUCTURED-LOCATION;VALUE=URI;X-ADDRESS=NELSON HOCKEY SAXTON FIELDS Nelson Tasman/Nelson 7011 New Zealand;X-APPLE-RADIUS=500;X-TITLE=SAXTON FIELDS:geo:173.2181794,-41.3280994
END:VEVENT
BEGIN:VEVENT
DTSTART;TZID=Pacific/Auckland:20250720T110000
DTEND;TZID=Pacific/Auckland:20250720T123000
DTSTAMP:20260422T090628
CREATED:20250404T012320Z
LAST-MODIFIED:20250404T012320Z
UID:23407-1753009200-1753014600@www.nelsonhockey.org.nz
SUMMARY:Premier 2 Men - Round 13 - Waimai United P2 Men vs. Tasman P2 Mens
DESCRIPTION:
URL:https://www.nelsonhockey.org.nz/event/premier-2-men-round-13-waimai-united-p2-men-vs-tasman-p2-mens/
LOCATION:Tasman/Nelson
CATEGORIES:Club Competition Week
END:VEVENT
BEGIN:VEVENT
DTSTART;TZID=Pacific/Auckland:20250720T111500
DTEND;TZID=Pacific/Auckland:20250720T124500
DTSTAMP:20260422T090628
CREATED:20250404T012817Z
LAST-MODIFIED:20250404T012817Z
UID:23421-1753010100-1753015500@www.nelsonhockey.org.nz
SUMMARY:Premier 2 Women - Round 13 - Endeavours vs. Nelson College for Girls 1st XI
DESCRIPTION:
URL:https://www.nelsonhockey.org.nz/event/premier-2-women-round-13-endeavours-vs-nelson-college-for-girls-1st-xi/
LOCATION:Tasman/Nelson
CATEGORIES:Club Competition Week
END:VEVENT
BEGIN:VEVENT
DTSTART;TZID=Pacific/Auckland:20250720T124500
DTEND;TZID=Pacific/Auckland:20250720T141500
DTSTAMP:20260422T090628
CREATED:20250404T012835Z
LAST-MODIFIED:20250404T012835Z
UID:23434-1753015500-1753020900@www.nelsonhockey.org.nz
SUMMARY:Premier 2 Men - Round 13 - Federal Coffin Dodgers vs. Nelson College
DESCRIPTION:
URL:https://www.nelsonhockey.org.nz/event/premier-2-men-round-13-federal-coffin-dodgers-vs-nelson-college/
LOCATION:Tasman/Nelson
CATEGORIES:Club Competition Week
END:VEVENT
BEGIN:VEVENT
DTSTART;TZID=Pacific/Auckland:20250720T130000
DTEND;TZID=Pacific/Auckland:20250720T143000
DTSTAMP:20260422T090628
CREATED:20250404T012910Z
LAST-MODIFIED:20250404T012910Z
UID:23447-1753016400-1753021800@www.nelsonhockey.org.nz
SUMMARY:Premier 2 Women - Round 13 - Tasman Women's P2 vs. Federal Senior Women
DESCRIPTION:
URL:https://www.nelsonhockey.org.nz/event/premier-2-women-round-13-tasman-womens-p2-vs-federal-senior-women/
LOCATION:Tasman/Nelson
CATEGORIES:Club Competition Week
END:VEVENT
BEGIN:VEVENT
DTSTART;TZID=Pacific/Auckland:20250720T143000
DTEND;TZID=Pacific/Auckland:20250720T160000
DTSTAMP:20260422T090628
CREATED:20250404T013108Z
LAST-MODIFIED:20250404T013108Z
UID:23497-1753021800-1753027200@www.nelsonhockey.org.nz
SUMMARY:Premier 2 Men - Round 13 - Stoke Gold P2 Men vs. Stoke Black P2 Men
DESCRIPTION:
URL:https://www.nelsonhockey.org.nz/event/premier-2-men-round-13-stoke-gold-p2-men-vs-stoke-black-p2-men/
LOCATION:Tasman/Nelson
CATEGORIES:Club Competition Week
END:VEVENT
BEGIN:VEVENT
DTSTART;TZID=Pacific/Auckland:20250720T144500
DTEND;TZID=Pacific/Auckland:20250720T161500
DTSTAMP:20260422T090628
CREATED:20250404T013142Z
LAST-MODIFIED:20250404T013142Z
UID:23511-1753022700-1753028100@www.nelsonhockey.org.nz
SUMMARY:Premier 2 Women - Round 13 - Stoke Gold vs. Waimai United P2 Women
DESCRIPTION:
URL:https://www.nelsonhockey.org.nz/event/premier-2-women-round-13-stoke-gold-vs-waimai-united-p2-women/
LOCATION:Tasman/Nelson
CATEGORIES:Club Competition Week
END:VEVENT
BEGIN:VEVENT
DTSTART;VALUE=DATE:20250721
DTEND;VALUE=DATE:20250722
DTSTAMP:20260422T090628
CREATED:20241229T202120Z
LAST-MODIFIED:20241229T202120Z
UID:22720-1753056000-1753142399@www.nelsonhockey.org.nz
SUMMARY:NHA U13's & U15's-Junior Representatives Registrations Due Day
DESCRIPTION:
URL:https://www.nelsonhockey.org.nz/event/nha-u13s-u15s-junior-representatives-registrations-due-day/
LOCATION:NELSON HOCKEY\, SAXTON FIELDS\, Nelson\, Tasman/Nelson\, 7011\, New Zealand
CATEGORIES:U13-U15 Development Programme
ATTACH;FMTTYPE=image/jpeg:https://www.nelsonhockey.org.nz/wp-content/uploads/2022/12/Nelson-Hockey_NHA-Representative_Blog-Post-Banner_Nov22.jpg
GEO:-41.3280994;173.2181794
X-APPLE-STRUCTURED-LOCATION;VALUE=URI;X-ADDRESS=NELSON HOCKEY SAXTON FIELDS Nelson Tasman/Nelson 7011 New Zealand;X-APPLE-RADIUS=500;X-TITLE=SAXTON FIELDS:geo:173.2181794,-41.3280994
END:VEVENT
BEGIN:VEVENT
DTSTART;TZID=Pacific/Auckland:20250723T163000
DTEND;TZID=Pacific/Auckland:20250723T170000
DTSTAMP:20260422T090628
CREATED:20250516T021823Z
LAST-MODIFIED:20250516T021823Z
UID:24079-1753288200-1753290000@www.nelsonhockey.org.nz
SUMMARY:Primary Grade - Round 8 - St Paul's Tasman VS Federal Primary
DESCRIPTION:
URL:https://www.nelsonhockey.org.nz/event/primary-grade-round-8-st-pauls-tasman-vs-federal-primary/
LOCATION:Tasman/Nelson
CATEGORIES:Club Competition Week
END:VEVENT
BEGIN:VEVENT
DTSTART;TZID=Pacific/Auckland:20250723T163000
DTEND;TZID=Pacific/Auckland:20250723T170000
DTSTAMP:20260422T090628
CREATED:20250516T021824Z
LAST-MODIFIED:20250516T021824Z
UID:24081-1753288200-1753290000@www.nelsonhockey.org.nz
SUMMARY:Primary Grade - Round 8 - Waimai United VS Stoke Primary Mixed
DESCRIPTION:
URL:https://www.nelsonhockey.org.nz/event/primary-grade-round-8-waimai-united-vs-stoke-primary-mixed/
LOCATION:Tasman/Nelson
CATEGORIES:Club Competition Week
END:VEVENT
BEGIN:VEVENT
DTSTART;TZID=Pacific/Auckland:20250723T163000
DTEND;TZID=Pacific/Auckland:20250723T173500
DTSTAMP:20260422T090628
CREATED:20250514T032145Z
LAST-MODIFIED:20250514T032145Z
UID:24009-1753288200-1753292100@www.nelsonhockey.org.nz
SUMMARY:Intermediate Grade - Round 8 - N.C.G. Prep Storm vs N.C.G. Prep Thunder
DESCRIPTION:
URL:https://www.nelsonhockey.org.nz/event/intermediate-grade-round-8-n-c-g-prep-storm-vs-n-c-g-prep-thunder/
LOCATION:Tasman/Nelson
CATEGORIES:Club Competition Week
END:VEVENT
BEGIN:VEVENT
DTSTART;TZID=Pacific/Auckland:20250723T163000
DTEND;TZID=Pacific/Auckland:20250723T173500
DTSTAMP:20260422T090628
CREATED:20250514T032145Z
LAST-MODIFIED:20250514T032145Z
UID:24010-1753288200-1753292100@www.nelsonhockey.org.nz
SUMMARY:Intermediate Grade - Round 8 - NC Prep Navy vs Waimai United
DESCRIPTION:
URL:https://www.nelsonhockey.org.nz/event/intermediate-grade-round-8-nc-prep-navy-vs-waimai-united/
LOCATION:Tasman/Nelson
CATEGORIES:Club Competition Week
END:VEVENT
BEGIN:VEVENT
DTSTART;TZID=Pacific/Auckland:20250723T170000
DTEND;TZID=Pacific/Auckland:20250723T173000
DTSTAMP:20260422T090628
CREATED:20250516T021823Z
LAST-MODIFIED:20250516T021823Z
UID:24080-1753290000-1753291800@www.nelsonhockey.org.nz
SUMMARY:Primary Grade - Round 8 - Tasman Tigers VS Waimai United Whizzers
DESCRIPTION:
URL:https://www.nelsonhockey.org.nz/event/primary-grade-round-8-tasman-tigers-vs-waimai-united-whizzers/
LOCATION:Tasman/Nelson
CATEGORIES:Club Competition Week
END:VEVENT
BEGIN:VEVENT
DTSTART;TZID=Pacific/Auckland:20250723T170000
DTEND;TZID=Pacific/Auckland:20250723T173000
DTSTAMP:20260422T090628
CREATED:20250516T022027Z
LAST-MODIFIED:20250516T022027Z
UID:24084-1753290000-1753291800@www.nelsonhockey.org.nz
SUMMARY:Primary Grade - Round 8 - Stoke Primary Mixed VS Federal Primary
DESCRIPTION:
URL:https://www.nelsonhockey.org.nz/event/primary-grade-round-8-stoke-primary-mixed-vs-federal-primary/
LOCATION:Tasman/Nelson
CATEGORIES:Club Competition Week
END:VEVENT
BEGIN:VEVENT
DTSTART;TZID=Pacific/Auckland:20250723T173000
DTEND;TZID=Pacific/Auckland:20250723T180000
DTSTAMP:20260422T090628
CREATED:20250516T022026Z
LAST-MODIFIED:20250516T022026Z
UID:24082-1753291800-1753293600@www.nelsonhockey.org.nz
SUMMARY:Primary Grade - Round 8 - Waimai United VS Tasman Tigers
DESCRIPTION:
URL:https://www.nelsonhockey.org.nz/event/primary-grade-round-8-waimai-united-vs-tasman-tigers/
LOCATION:Tasman/Nelson
CATEGORIES:Club Competition Week
END:VEVENT
BEGIN:VEVENT
DTSTART;TZID=Pacific/Auckland:20250723T173000
DTEND;TZID=Pacific/Auckland:20250723T180000
DTSTAMP:20260422T090628
CREATED:20250516T022027Z
LAST-MODIFIED:20250516T022027Z
UID:24083-1753291800-1753293600@www.nelsonhockey.org.nz
SUMMARY:Primary Grade - Round 8 - Waimai United Whizzers VS St Paul's Tasman
DESCRIPTION:
URL:https://www.nelsonhockey.org.nz/event/primary-grade-round-8-waimai-united-whizzers-vs-st-pauls-tasman/
LOCATION:Tasman/Nelson
CATEGORIES:Club Competition Week
END:VEVENT
BEGIN:VEVENT
DTSTART;TZID=Pacific/Auckland:20250723T173500
DTEND;TZID=Pacific/Auckland:20250723T184000
DTSTAMP:20260422T090628
CREATED:20250514T032343Z
LAST-MODIFIED:20250514T032343Z
UID:24011-1753292100-1753296000@www.nelsonhockey.org.nz
SUMMARY:Intermediate Grade - Round 8 - NC Prep Sky vs Federal Intermediate
DESCRIPTION:
URL:https://www.nelsonhockey.org.nz/event/intermediate-grade-round-8-nc-prep-sky-vs-federal-intermediate/
LOCATION:Tasman/Nelson
CATEGORIES:Club Competition Week
END:VEVENT
BEGIN:VEVENT
DTSTART;TZID=Pacific/Auckland:20250723T173500
DTEND;TZID=Pacific/Auckland:20250723T184000
DTSTAMP:20260422T090628
CREATED:20250514T032343Z
LAST-MODIFIED:20250514T032343Z
UID:24012-1753292100-1753296000@www.nelsonhockey.org.nz
SUMMARY:Intermediate Grade - Round 8 - Waimai United  - Blue vs Waimai United  - Orange
DESCRIPTION:
URL:https://www.nelsonhockey.org.nz/event/intermediate-grade-round-8-waimai-united-blue-vs-waimai-united-orange/
LOCATION:Tasman/Nelson
CATEGORIES:Club Competition Week
END:VEVENT
BEGIN:VEVENT
DTSTART;TZID=Pacific/Auckland:20250723T180000
DTEND;TZID=Pacific/Auckland:20250723T190000
DTSTAMP:20260422T090628
CREATED:20241228T011442Z
LAST-MODIFIED:20241228T011442Z
UID:22634-1753293600-1753297200@www.nelsonhockey.org.nz
SUMMARY:GK Training Program
DESCRIPTION:
URL:https://www.nelsonhockey.org.nz/event/gk-training-program-2/2025-07-23/
LOCATION:NELSON HOCKEY\, SAXTON FIELDS\, Nelson\, Tasman/Nelson\, 7011\, New Zealand
CATEGORIES:GK TRAINING PROGRAM
ATTACH;FMTTYPE=image/jpeg:https://www.nelsonhockey.org.nz/wp-content/uploads/2024/10/2025-NHA-GK-Training-Program.jpg
GEO:-41.3280994;173.2181794
X-APPLE-STRUCTURED-LOCATION;VALUE=URI;X-ADDRESS=NELSON HOCKEY SAXTON FIELDS Nelson Tasman/Nelson 7011 New Zealand;X-APPLE-RADIUS=500;X-TITLE=SAXTON FIELDS:geo:173.2181794,-41.3280994
END:VEVENT
BEGIN:VEVENT
DTSTART;TZID=Pacific/Auckland:20250724T154500
DTEND;TZID=Pacific/Auckland:20250724T183000
DTSTAMP:20260422T090628
CREATED:20241229T203521Z
LAST-MODIFIED:20241229T203521Z
UID:22741-1753371900-1753381800@www.nelsonhockey.org.nz
SUMMARY:Junior Program III
DESCRIPTION:
URL:https://www.nelsonhockey.org.nz/event/junior-program-iii-5/2025-07-24/
LOCATION:NELSON HOCKEY\, SAXTON FIELDS\, Nelson\, Tasman/Nelson\, 7011\, New Zealand
CATEGORIES:Junior Programme
ATTACH;FMTTYPE=image/jpeg:https://www.nelsonhockey.org.nz/wp-content/uploads/2024/10/2025-NHA-Junior-Programme-III.jpg
GEO:-41.3280994;173.2181794
X-APPLE-STRUCTURED-LOCATION;VALUE=URI;X-ADDRESS=NELSON HOCKEY SAXTON FIELDS Nelson Tasman/Nelson 7011 New Zealand;X-APPLE-RADIUS=500;X-TITLE=SAXTON FIELDS:geo:173.2181794,-41.3280994
END:VEVENT
BEGIN:VEVENT
DTSTART;TZID=Pacific/Auckland:20250724T190000
DTEND;TZID=Pacific/Auckland:20250724T203000
DTSTAMP:20260422T090628
CREATED:20241229T202430Z
LAST-MODIFIED:20241229T202430Z
UID:22723-1753383600-1753389000@www.nelsonhockey.org.nz
SUMMARY:Tasman Districts SR.M&W -Training
DESCRIPTION:
URL:https://www.nelsonhockey.org.nz/event/tasman-districts-sr-mw-training-3/2025-07-24/
LOCATION:NELSON HOCKEY\, SAXTON FIELDS\, Nelson\, Tasman/Nelson\, 7011\, New Zealand
CATEGORIES:Tasman Districts,Tasman Districts Hockey
ATTACH;FMTTYPE=image/png:https://www.nelsonhockey.org.nz/wp-content/uploads/2022/12/Tasman-Districts.png
GEO:-41.3280994;173.2181794
X-APPLE-STRUCTURED-LOCATION;VALUE=URI;X-ADDRESS=NELSON HOCKEY SAXTON FIELDS Nelson Tasman/Nelson 7011 New Zealand;X-APPLE-RADIUS=500;X-TITLE=SAXTON FIELDS:geo:173.2181794,-41.3280994
END:VEVENT
BEGIN:VEVENT
DTSTART;TZID=Pacific/Auckland:20250725T163000
DTEND;TZID=Pacific/Auckland:20250725T180000
DTSTAMP:20260422T090628
CREATED:20250430T031114Z
LAST-MODIFIED:20250430T031114Z
UID:23737-1753461000-1753466400@www.nelsonhockey.org.nz
SUMMARY:Secondary Boys - Round 10 - Stoke Mixed Secondary vs NC Navy
DESCRIPTION:
URL:https://www.nelsonhockey.org.nz/event/secondary-boys-round-10-stoke-mixed-secondary-vs-nc-navy/
LOCATION:Tasman/Nelson
CATEGORIES:Club Competition Week
END:VEVENT
BEGIN:VEVENT
DTSTART;TZID=Pacific/Auckland:20250725T163000
DTEND;TZID=Pacific/Auckland:20250725T180000
DTSTAMP:20260422T090628
CREATED:20250430T031454Z
LAST-MODIFIED:20250430T031454Z
UID:23811-1753461000-1753466400@www.nelsonhockey.org.nz
SUMMARY:Secondary Girls/Mixed - Round 10 - Waimea College Tasman vs Garin Development
DESCRIPTION:
URL:https://www.nelsonhockey.org.nz/event/secondary-girls-mixed-round-10-waimea-college-tasman-vs-garin-development/
LOCATION:Tasman/Nelson
CATEGORIES:Club Competition Week
END:VEVENT
BEGIN:VEVENT
DTSTART;TZID=Pacific/Auckland:20250725T175500
DTEND;TZID=Pacific/Auckland:20250725T192500
DTSTAMP:20260422T090628
CREATED:20250430T030452Z
LAST-MODIFIED:20250430T030452Z
UID:23749-1753466100-1753471500@www.nelsonhockey.org.nz
SUMMARY:Secondary Boys - Round 10 - Garin Senior Boys vs Federal
DESCRIPTION:
URL:https://www.nelsonhockey.org.nz/event/secondary-boys-round-10-garin-senior-boys-vs-federal/
LOCATION:Tasman/Nelson
CATEGORIES:Club Competition Week
END:VEVENT
BEGIN:VEVENT
DTSTART;TZID=Pacific/Auckland:20250725T175500
DTEND;TZID=Pacific/Auckland:20250725T192500
DTSTAMP:20260422T090628
CREATED:20250430T032057Z
LAST-MODIFIED:20250430T032057Z
UID:23823-1753466100-1753471500@www.nelsonhockey.org.nz
SUMMARY:Secondary Girls/Mixed - Round 10 - Tasman Titans vs Nelson College for Girls 9&10
DESCRIPTION:
URL:https://www.nelsonhockey.org.nz/event/secondary-girls-mixed-round-10-tasman-titans-vs-nelson-college-for-girls-910/
LOCATION:Tasman/Nelson
CATEGORIES:Club Competition Week
END:VEVENT
BEGIN:VEVENT
DTSTART;TZID=Pacific/Auckland:20250725T192000
DTEND;TZID=Pacific/Auckland:20250725T205000
DTSTAMP:20260422T090628
CREATED:20250430T030010Z
LAST-MODIFIED:20250430T030010Z
UID:23761-1753471200-1753476600@www.nelsonhockey.org.nz
SUMMARY:Secondary Boys - Round 10 - NC Sky vs Waimai United
DESCRIPTION:
URL:https://www.nelsonhockey.org.nz/event/secondary-boys-round-10-nc-sky-vs-waimai-united/
LOCATION:Tasman/Nelson
CATEGORIES:Club Competition Week
END:VEVENT
BEGIN:VEVENT
DTSTART;TZID=Pacific/Auckland:20250725T192000
DTEND;TZID=Pacific/Auckland:20250725T205000
DTSTAMP:20260422T090628
CREATED:20250430T032455Z
LAST-MODIFIED:20250430T032455Z
UID:23835-1753471200-1753476600@www.nelsonhockey.org.nz
SUMMARY:Secondary Girls/Mixed - Round 10 - Garin Senior Girls vs Nelson College for Girls combined
DESCRIPTION:
URL:https://www.nelsonhockey.org.nz/event/secondary-girls-mixed-round-10-garin-senior-girls-vs-nelson-college-for-girls-combined/
LOCATION:Tasman/Nelson
CATEGORIES:Club Competition Week
END:VEVENT
BEGIN:VEVENT
DTSTART;TZID=Pacific/Auckland:20250726T090000
DTEND;TZID=Pacific/Auckland:20250726T103000
DTSTAMP:20260422T090628
CREATED:20241229T202748Z
LAST-MODIFIED:20241229T202748Z
UID:22732-1753520400-1753525800@www.nelsonhockey.org.nz
SUMMARY:NHA U13's Trials
DESCRIPTION:
URL:https://www.nelsonhockey.org.nz/event/nha-u13s-trials/
LOCATION:NELSON HOCKEY\, SAXTON FIELDS\, Nelson\, Tasman/Nelson\, 7011\, New Zealand
CATEGORIES:U13-U15 Development Programme
ATTACH;FMTTYPE=image/jpeg:https://www.nelsonhockey.org.nz/wp-content/uploads/2022/12/Nelson-Hockey_NHA-Representative_Blog-Post-Banner_Nov22.jpg
GEO:-41.3280994;173.2181794
X-APPLE-STRUCTURED-LOCATION;VALUE=URI;X-ADDRESS=NELSON HOCKEY SAXTON FIELDS Nelson Tasman/Nelson 7011 New Zealand;X-APPLE-RADIUS=500;X-TITLE=SAXTON FIELDS:geo:173.2181794,-41.3280994
END:VEVENT
BEGIN:VEVENT
DTSTART;TZID=Pacific/Auckland:20250726T103000
DTEND;TZID=Pacific/Auckland:20250726T120000
DTSTAMP:20260422T090628
CREATED:20241229T202947Z
LAST-MODIFIED:20241229T202947Z
UID:22734-1753525800-1753531200@www.nelsonhockey.org.nz
SUMMARY:NHA U15's Trials
DESCRIPTION:
URL:https://www.nelsonhockey.org.nz/event/nha-u15s-trials/2025-07-26/
LOCATION:NELSON HOCKEY\, SAXTON FIELDS\, Nelson\, Tasman/Nelson\, 7011\, New Zealand
CATEGORIES:U13-U15 Development Programme
ATTACH;FMTTYPE=image/jpeg:https://www.nelsonhockey.org.nz/wp-content/uploads/2022/12/Nelson-Hockey_NHA-Representative_Blog-Post-Banner_Nov22.jpg
GEO:-41.3280994;173.2181794
X-APPLE-STRUCTURED-LOCATION;VALUE=URI;X-ADDRESS=NELSON HOCKEY SAXTON FIELDS Nelson Tasman/Nelson 7011 New Zealand;X-APPLE-RADIUS=500;X-TITLE=SAXTON FIELDS:geo:173.2181794,-41.3280994
END:VEVENT
END:VCALENDAR