BEGIN:VCALENDAR
VERSION:2.0
PRODID:-//Nelson Hockey Association (1993) Inc - ECPv6.15.16//NONSGML v1.0//EN
CALSCALE:GREGORIAN
METHOD:PUBLISH
X-WR-CALNAME:Nelson Hockey Association (1993) Inc
X-ORIGINAL-URL:https://www.nelsonhockey.org.nz
X-WR-CALDESC:Events for Nelson Hockey Association (1993) Inc
REFRESH-INTERVAL;VALUE=DURATION:PT1H
X-Robots-Tag:noindex
X-PUBLISHED-TTL:PT1H
BEGIN:VTIMEZONE
TZID:Pacific/Auckland
BEGIN:STANDARD
TZOFFSETFROM:+1300
TZOFFSETTO:+1200
TZNAME:NZST
DTSTART:20250405T140000
END:STANDARD
BEGIN:DAYLIGHT
TZOFFSETFROM:+1200
TZOFFSETTO:+1300
TZNAME:NZDT
DTSTART:20250927T140000
END:DAYLIGHT
BEGIN:STANDARD
TZOFFSETFROM:+1300
TZOFFSETTO:+1200
TZNAME:NZST
DTSTART:20260404T140000
END:STANDARD
BEGIN:DAYLIGHT
TZOFFSETFROM:+1200
TZOFFSETTO:+1300
TZNAME:NZDT
DTSTART:20260926T140000
END:DAYLIGHT
BEGIN:STANDARD
TZOFFSETFROM:+1300
TZOFFSETTO:+1200
TZNAME:NZST
DTSTART:20270403T140000
END:STANDARD
BEGIN:DAYLIGHT
TZOFFSETFROM:+1200
TZOFFSETTO:+1300
TZNAME:NZDT
DTSTART:20270925T140000
END:DAYLIGHT
END:VTIMEZONE
BEGIN:VEVENT
DTSTART;TZID=Pacific/Auckland:20260524T130000
DTEND;TZID=Pacific/Auckland:20260524T140000
DTSTAMP:20260425T224749
CREATED:20260423T003255Z
LAST-MODIFIED:20260423T003255Z
UID:25969-1779627600-1779631200@www.nelsonhockey.org.nz
SUMMARY:🏒 Tasman P2 Mens vs Nelson College
DESCRIPTION:
URL:https://www.nelsonhockey.org.nz/event/%f0%9f%8f%92-tasman-p2-mens-vs-nelson-college/
CATEGORIES:Club Competition Week
END:VEVENT
BEGIN:VEVENT
DTSTART;TZID=Pacific/Auckland:20260524T143000
DTEND;TZID=Pacific/Auckland:20260524T153000
DTSTAMP:20260425T224749
CREATED:20260423T005121Z
LAST-MODIFIED:20260423T005121Z
UID:26111-1779633000-1779636600@www.nelsonhockey.org.nz
SUMMARY:🏒 Senior/Open Women NCG 1st XI Hine Tū vs Federal Senior Women
DESCRIPTION:
URL:https://www.nelsonhockey.org.nz/event/%f0%9f%8f%92-senior-open-women-ncg-1st-xi-hine-tu-vs-federal-senior-women/
CATEGORIES:Club Competition Week
END:VEVENT
BEGIN:VEVENT
DTSTART;TZID=Pacific/Auckland:20260524T144500
DTEND;TZID=Pacific/Auckland:20260524T154500
DTSTAMP:20260425T224749
CREATED:20260423T003255Z
LAST-MODIFIED:20260423T003255Z
UID:25968-1779633900-1779637500@www.nelsonhockey.org.nz
SUMMARY:🏒 Waimai United P2 Men vs Federal Senior Men
DESCRIPTION:
URL:https://www.nelsonhockey.org.nz/event/%f0%9f%8f%92-waimai-united-p2-men-vs-federal-senior-men/
CATEGORIES:Club Competition Week
END:VEVENT
BEGIN:VEVENT
DTSTART;TZID=Pacific/Auckland:20260525T163000
DTEND;TZID=Pacific/Auckland:20260525T173000
DTSTAMP:20260425T224749
CREATED:20260423T010614Z
LAST-MODIFIED:20260423T010614Z
UID:26200-1779726600-1779730200@www.nelsonhockey.org.nz
SUMMARY:🏒 Garin Senior Girls vs Waimea College Tasman
DESCRIPTION:
URL:https://www.nelsonhockey.org.nz/event/%f0%9f%8f%92-garin-senior-girls-vs-waimea-college-tasman/
CATEGORIES:Club Competition Week
END:VEVENT
BEGIN:VEVENT
DTSTART;TZID=Pacific/Auckland:20260527T180000
DTEND;TZID=Pacific/Auckland:20260527T190000
DTSTAMP:20260425T224749
CREATED:20260328T084316Z
LAST-MODIFIED:20260328T084316Z
UID:25384-1779904800-1779908400@www.nelsonhockey.org.nz
SUMMARY:NHA GK Training
DESCRIPTION:
URL:https://www.nelsonhockey.org.nz/event/nha-gk-training-15/2026-05-27/
LOCATION:NELSON HOCKEY\, SAXTON FIELDS\, Nelson\, Tasman/Nelson\, 7011\, New Zealand
CATEGORIES:GK TRAINING PROGRAM
ATTACH;FMTTYPE=image/jpeg:https://www.nelsonhockey.org.nz/wp-content/uploads/2025/10/2026-NHA-GK-Training-Program.jpg
GEO:-41.3280994;173.2181794
X-APPLE-STRUCTURED-LOCATION;VALUE=URI;X-ADDRESS=NELSON HOCKEY SAXTON FIELDS Nelson Tasman/Nelson 7011 New Zealand;X-APPLE-RADIUS=500;X-TITLE=SAXTON FIELDS:geo:173.2181794,-41.3280994
END:VEVENT
BEGIN:VEVENT
DTSTART;TZID=Pacific/Auckland:20260527T190000
DTEND;TZID=Pacific/Auckland:20260527T210000
DTSTAMP:20260425T224749
CREATED:20260329T012526Z
LAST-MODIFIED:20260329T012526Z
UID:26308-1779908400-1779915600@www.nelsonhockey.org.nz
SUMMARY:NELSON SR.M&W Training
DESCRIPTION:
URL:https://www.nelsonhockey.org.nz/event/nelson-sr-mw-training/2026-05-27/
LOCATION:NELSON HOCKEY\, SAXTON FIELDS\, Nelson\, Tasman/Nelson\, 7011\, New Zealand
CATEGORIES:SENIORS
ATTACH;FMTTYPE=image/jpeg:https://www.nelsonhockey.org.nz/wp-content/uploads/2025/04/Nelson-Hockey_NHA-Representative_Blog-Post-Banner_Nov22.jpg
GEO:-41.3280994;173.2181794
X-APPLE-STRUCTURED-LOCATION;VALUE=URI;X-ADDRESS=NELSON HOCKEY SAXTON FIELDS Nelson Tasman/Nelson 7011 New Zealand;X-APPLE-RADIUS=500;X-TITLE=SAXTON FIELDS:geo:173.2181794,-41.3280994
END:VEVENT
BEGIN:VEVENT
DTSTART;TZID=Pacific/Auckland:20260527T193000
DTEND;TZID=Pacific/Auckland:20260527T203000
DTSTAMP:20260425T224749
CREATED:20260423T003255Z
LAST-MODIFIED:20260423T003255Z
UID:25963-1779910200-1779913800@www.nelsonhockey.org.nz
SUMMARY:🏒 Stoke P1 Women vs Federal Premier Women
DESCRIPTION:
URL:https://www.nelsonhockey.org.nz/event/%f0%9f%8f%92-stoke-p1-women-vs-federal-premier-women/
CATEGORIES:Club Competition Week
END:VEVENT
BEGIN:VEVENT
DTSTART;TZID=Pacific/Auckland:20260527T193000
DTEND;TZID=Pacific/Auckland:20260527T203000
DTSTAMP:20260425T224749
CREATED:20260423T003256Z
LAST-MODIFIED:20260423T003256Z
UID:25962-1779910200-1779913800@www.nelsonhockey.org.nz
SUMMARY:🏒 Waimai United P1 Women vs Tasman Black Women's P1
DESCRIPTION:
URL:https://www.nelsonhockey.org.nz/event/%f0%9f%8f%92-waimai-united-p1-women-vs-tasman-black-womens-p1/
CATEGORIES:Club Competition Week
END:VEVENT
BEGIN:VEVENT
DTSTART;TZID=Pacific/Auckland:20260528T160000
DTEND;TZID=Pacific/Auckland:20260528T200000
DTSTAMP:20260425T224749
CREATED:20260328T084750Z
LAST-MODIFIED:20260328T084750Z
UID:25404-1779984000-1779998400@www.nelsonhockey.org.nz
SUMMARY:Player Development Program II -(U13/U16 & U18)
DESCRIPTION:
URL:https://www.nelsonhockey.org.nz/event/player-development-program-ii-u13-u16-u18/2026-05-28/
LOCATION:NELSON HOCKEY\, SAXTON FIELDS\, Nelson\, Tasman/Nelson\, 7011\, New Zealand
CATEGORIES:U13-U15 Development Programme
ATTACH;FMTTYPE=image/jpeg:https://www.nelsonhockey.org.nz/wp-content/uploads/2026/03/2026-NHA-U14-U16-DEVELOPMENT-PROGRAM-II.jpg
GEO:-41.3280994;173.2181794
X-APPLE-STRUCTURED-LOCATION;VALUE=URI;X-ADDRESS=NELSON HOCKEY SAXTON FIELDS Nelson Tasman/Nelson 7011 New Zealand;X-APPLE-RADIUS=500;X-TITLE=SAXTON FIELDS:geo:173.2181794,-41.3280994
END:VEVENT
BEGIN:VEVENT
DTSTART;TZID=Pacific/Auckland:20260529T163000
DTEND;TZID=Pacific/Auckland:20260529T173000
DTSTAMP:20260425T224749
CREATED:20260423T005515Z
LAST-MODIFIED:20260423T005515Z
UID:26177-1780072200-1780075800@www.nelsonhockey.org.nz
SUMMARY:🏒 Garin Boys vs NC Navy
DESCRIPTION:
URL:https://www.nelsonhockey.org.nz/event/%f0%9f%8f%92-garin-boys-vs-nc-navy-2/
CATEGORIES:Club Competition Week
END:VEVENT
BEGIN:VEVENT
DTSTART;TZID=Pacific/Auckland:20260529T175500
DTEND;TZID=Pacific/Auckland:20260529T185500
DTSTAMP:20260425T224749
CREATED:20260423T005515Z
LAST-MODIFIED:20260423T005515Z
UID:26178-1780077300-1780080900@www.nelsonhockey.org.nz
SUMMARY:🏒 Waimai United Secondary vs NC Sky
DESCRIPTION:
URL:https://www.nelsonhockey.org.nz/event/%f0%9f%8f%92-waimai-united-secondary-vs-nc-sky-2/
CATEGORIES:Club Competition Week
END:VEVENT
BEGIN:VEVENT
DTSTART;TZID=Pacific/Auckland:20260529T175500
DTEND;TZID=Pacific/Auckland:20260529T185500
DTSTAMP:20260425T224749
CREATED:20260423T010614Z
LAST-MODIFIED:20260423T010614Z
UID:26199-1780077300-1780080900@www.nelsonhockey.org.nz
SUMMARY:🏒 Tasman Titans vs NCG Piki Mai
DESCRIPTION:
URL:https://www.nelsonhockey.org.nz/event/%f0%9f%8f%92-tasman-titans-vs-ncg-piki-mai/
CATEGORIES:Club Competition Week
END:VEVENT
BEGIN:VEVENT
DTSTART;TZID=Pacific/Auckland:20260529T192000
DTEND;TZID=Pacific/Auckland:20260529T202000
DTSTAMP:20260425T224749
CREATED:20260423T010613Z
LAST-MODIFIED:20260423T010613Z
UID:26201-1780082400-1780086000@www.nelsonhockey.org.nz
SUMMARY:🏒 Waimai United Mixed vs NCG Whiti Te Rā
DESCRIPTION:
URL:https://www.nelsonhockey.org.nz/event/%f0%9f%8f%92-waimai-united-mixed-vs-ncg-whiti-te-ra/
CATEGORIES:Club Competition Week
END:VEVENT
BEGIN:VEVENT
DTSTART;TZID=Pacific/Auckland:20260529T192000
DTEND;TZID=Pacific/Auckland:20260529T202000
DTSTAMP:20260425T224749
CREATED:20260423T010613Z
LAST-MODIFIED:20260423T010613Z
UID:26202-1780082400-1780086000@www.nelsonhockey.org.nz
SUMMARY:🏒 Stoke Mixed Secondary vs NCG Tirohia Mārama
DESCRIPTION:
URL:https://www.nelsonhockey.org.nz/event/%f0%9f%8f%92-stoke-mixed-secondary-vs-ncg-tirohia-marama/
CATEGORIES:Club Competition Week
END:VEVENT
BEGIN:VEVENT
DTSTART;TZID=Pacific/Auckland:20260530T133000
DTEND;TZID=Pacific/Auckland:20260530T143000
DTSTAMP:20260425T224749
CREATED:20260423T003429Z
LAST-MODIFIED:20260423T003429Z
UID:25923-1780147800-1780151400@www.nelsonhockey.org.nz
SUMMARY:🏒 Tasman White vs Waimai United P1 Men
DESCRIPTION:
URL:https://www.nelsonhockey.org.nz/event/%f0%9f%8f%92-tasman-white-vs-waimai-united-p1-men/
CATEGORIES:Club Competition Week
END:VEVENT
BEGIN:VEVENT
DTSTART;TZID=Pacific/Auckland:20260530T134500
DTEND;TZID=Pacific/Auckland:20260530T144500
DTSTAMP:20260425T224749
CREATED:20260423T003256Z
LAST-MODIFIED:20260423T003256Z
UID:25960-1780148700-1780152300@www.nelsonhockey.org.nz
SUMMARY:🏒 Tasman Black Women's P1 vs Federal Premier Women
DESCRIPTION:
URL:https://www.nelsonhockey.org.nz/event/%f0%9f%8f%92-tasman-black-womens-p1-vs-federal-premier-women-2/
CATEGORIES:Club Competition Week
END:VEVENT
BEGIN:VEVENT
DTSTART;TZID=Pacific/Auckland:20260530T151500
DTEND;TZID=Pacific/Auckland:20260530T161500
DTSTAMP:20260425T224749
CREATED:20260423T003345Z
LAST-MODIFIED:20260423T003345Z
UID:25934-1780154100-1780157700@www.nelsonhockey.org.nz
SUMMARY:🏒 Tasman Black vs Stoke Premier Men
DESCRIPTION:
URL:https://www.nelsonhockey.org.nz/event/%f0%9f%8f%92-tasman-black-vs-stoke-premier-men/
CATEGORIES:Club Competition Week
END:VEVENT
BEGIN:VEVENT
DTSTART;TZID=Pacific/Auckland:20260530T153000
DTEND;TZID=Pacific/Auckland:20260530T163000
DTSTAMP:20260425T224749
CREATED:20260423T003343Z
LAST-MODIFIED:20260423T003343Z
UID:25949-1780155000-1780158600@www.nelsonhockey.org.nz
SUMMARY:🏒 Stoke P1 Women vs Waimai United P1 Women
DESCRIPTION:
URL:https://www.nelsonhockey.org.nz/event/%f0%9f%8f%92-stoke-p1-women-vs-waimai-united-p1-women-2/
CATEGORIES:Club Competition Week
END:VEVENT
BEGIN:VEVENT
DTSTART;TZID=Pacific/Auckland:20260531T110000
DTEND;TZID=Pacific/Auckland:20260531T120000
DTSTAMP:20260425T224749
CREATED:20260423T003255Z
LAST-MODIFIED:20260423T003255Z
UID:25967-1780225200-1780228800@www.nelsonhockey.org.nz
SUMMARY:🏒 Nelson College vs Federal Senior Men
DESCRIPTION:
URL:https://www.nelsonhockey.org.nz/event/%f0%9f%8f%92-nelson-college-vs-federal-senior-men/
CATEGORIES:Club Competition Week
END:VEVENT
BEGIN:VEVENT
DTSTART;TZID=Pacific/Auckland:20260531T111500
DTEND;TZID=Pacific/Auckland:20260531T121500
DTSTAMP:20260425T224749
CREATED:20260423T005123Z
LAST-MODIFIED:20260423T005123Z
UID:26097-1780226100-1780229700@www.nelsonhockey.org.nz
SUMMARY:🏒 Waimai United P2 Women vs Tasman Women's P2
DESCRIPTION:
URL:https://www.nelsonhockey.org.nz/event/%f0%9f%8f%92-waimai-united-p2-women-vs-tasman-womens-p2/
CATEGORIES:Club Competition Week
END:VEVENT
BEGIN:VEVENT
DTSTART;TZID=Pacific/Auckland:20260531T124500
DTEND;TZID=Pacific/Auckland:20260531T134500
DTSTAMP:20260425T224749
CREATED:20260423T003835Z
LAST-MODIFIED:20260423T003835Z
UID:26038-1780231500-1780235100@www.nelsonhockey.org.nz
SUMMARY:🏒 Stoke Gold P2 Men vs Waimai United P2 Men
DESCRIPTION:
URL:https://www.nelsonhockey.org.nz/event/%f0%9f%8f%92-stoke-gold-p2-men-vs-waimai-united-p2-men/
CATEGORIES:Club Competition Week
END:VEVENT
BEGIN:VEVENT
DTSTART;TZID=Pacific/Auckland:20260531T130000
DTEND;TZID=Pacific/Auckland:20260531T140000
DTSTAMP:20260425T224749
CREATED:20260423T005122Z
LAST-MODIFIED:20260423T005122Z
UID:26099-1780232400-1780236000@www.nelsonhockey.org.nz
SUMMARY:🏒 Federal Senior Women vs Endeavours
DESCRIPTION:
URL:https://www.nelsonhockey.org.nz/event/%f0%9f%8f%92-federal-senior-women-vs-endeavours/
CATEGORIES:Club Competition Week
END:VEVENT
BEGIN:VEVENT
DTSTART;TZID=Pacific/Auckland:20260531T143000
DTEND;TZID=Pacific/Auckland:20260531T153000
DTSTAMP:20260425T224749
CREATED:20260423T003836Z
LAST-MODIFIED:20260423T003836Z
UID:26037-1780237800-1780241400@www.nelsonhockey.org.nz
SUMMARY:🏒 Tasman P2 Mens vs Federal Coffin Dodgers
DESCRIPTION:
URL:https://www.nelsonhockey.org.nz/event/%f0%9f%8f%92-tasman-p2-mens-vs-federal-coffin-dodgers/
CATEGORIES:Club Competition Week
END:VEVENT
BEGIN:VEVENT
DTSTART;TZID=Pacific/Auckland:20260531T144500
DTEND;TZID=Pacific/Auckland:20260531T154500
DTSTAMP:20260425T224749
CREATED:20260423T005122Z
LAST-MODIFIED:20260423T005122Z
UID:26098-1780238700-1780242300@www.nelsonhockey.org.nz
SUMMARY:🏒 Senior/Open Women NCG 1st XI Hine Tū vs Rewa Hockey
DESCRIPTION:
URL:https://www.nelsonhockey.org.nz/event/%f0%9f%8f%92-senior-open-women-ncg-1st-xi-hine-tu-vs-rewa-hockey/
CATEGORIES:Club Competition Week
END:VEVENT
BEGIN:VEVENT
DTSTART;VALUE=DATE:20260601
DTEND;VALUE=DATE:20260602
DTSTAMP:20260425T224749
CREATED:20260425T022713Z
LAST-MODIFIED:20260425T022906Z
UID:26317-1780272000-1780358399@www.nelsonhockey.org.nz
SUMMARY:King's Birthday
DESCRIPTION:
URL:https://www.nelsonhockey.org.nz/event/kings-birthday-4/
LOCATION:NELSON HOCKEY\, SAXTON FIELDS\, Nelson\, Tasman/Nelson\, 7011\, New Zealand
CATEGORIES:PUBLIC HOLIDAY
ATTACH;FMTTYPE=image/jpeg:https://www.nelsonhockey.org.nz/wp-content/uploads/2023/06/2023-Kings-Birthday-Wkd-of-O-logo.jpg
GEO:-41.3280994;173.2181794
X-APPLE-STRUCTURED-LOCATION;VALUE=URI;X-ADDRESS=NELSON HOCKEY SAXTON FIELDS Nelson Tasman/Nelson 7011 New Zealand;X-APPLE-RADIUS=500;X-TITLE=SAXTON FIELDS:geo:173.2181794,-41.3280994
END:VEVENT
BEGIN:VEVENT
DTSTART;TZID=Pacific/Auckland:20260603T180000
DTEND;TZID=Pacific/Auckland:20260603T190000
DTSTAMP:20260425T224749
CREATED:20260328T084316Z
LAST-MODIFIED:20260328T084316Z
UID:25385-1780509600-1780513200@www.nelsonhockey.org.nz
SUMMARY:NHA GK Training
DESCRIPTION:
URL:https://www.nelsonhockey.org.nz/event/nha-gk-training-15/2026-06-03/
LOCATION:NELSON HOCKEY\, SAXTON FIELDS\, Nelson\, Tasman/Nelson\, 7011\, New Zealand
CATEGORIES:GK TRAINING PROGRAM
ATTACH;FMTTYPE=image/jpeg:https://www.nelsonhockey.org.nz/wp-content/uploads/2025/10/2026-NHA-GK-Training-Program.jpg
GEO:-41.3280994;173.2181794
X-APPLE-STRUCTURED-LOCATION;VALUE=URI;X-ADDRESS=NELSON HOCKEY SAXTON FIELDS Nelson Tasman/Nelson 7011 New Zealand;X-APPLE-RADIUS=500;X-TITLE=SAXTON FIELDS:geo:173.2181794,-41.3280994
END:VEVENT
BEGIN:VEVENT
DTSTART;TZID=Pacific/Auckland:20260603T190000
DTEND;TZID=Pacific/Auckland:20260603T210000
DTSTAMP:20260425T224749
CREATED:20260329T012526Z
LAST-MODIFIED:20260329T012526Z
UID:26309-1780513200-1780520400@www.nelsonhockey.org.nz
SUMMARY:NELSON SR.M&W Training
DESCRIPTION:
URL:https://www.nelsonhockey.org.nz/event/nelson-sr-mw-training/2026-06-03/
LOCATION:NELSON HOCKEY\, SAXTON FIELDS\, Nelson\, Tasman/Nelson\, 7011\, New Zealand
CATEGORIES:SENIORS
ATTACH;FMTTYPE=image/jpeg:https://www.nelsonhockey.org.nz/wp-content/uploads/2025/04/Nelson-Hockey_NHA-Representative_Blog-Post-Banner_Nov22.jpg
GEO:-41.3280994;173.2181794
X-APPLE-STRUCTURED-LOCATION;VALUE=URI;X-ADDRESS=NELSON HOCKEY SAXTON FIELDS Nelson Tasman/Nelson 7011 New Zealand;X-APPLE-RADIUS=500;X-TITLE=SAXTON FIELDS:geo:173.2181794,-41.3280994
END:VEVENT
BEGIN:VEVENT
DTSTART;TZID=Pacific/Auckland:20260605T163000
DTEND;TZID=Pacific/Auckland:20260605T173000
DTSTAMP:20260425T224749
CREATED:20260423T005515Z
LAST-MODIFIED:20260423T005515Z
UID:26176-1780677000-1780680600@www.nelsonhockey.org.nz
SUMMARY:🏒 NC Sky vs Garin Boys
DESCRIPTION:
URL:https://www.nelsonhockey.org.nz/event/%f0%9f%8f%92-nc-sky-vs-garin-boys-2/
CATEGORIES:Club Competition Week
END:VEVENT
BEGIN:VEVENT
DTSTART;TZID=Pacific/Auckland:20260605T163000
DTEND;TZID=Pacific/Auckland:20260605T173000
DTSTAMP:20260425T224749
CREATED:20260423T010614Z
LAST-MODIFIED:20260423T010614Z
UID:26198-1780677000-1780680600@www.nelsonhockey.org.nz
SUMMARY:🏒 Garin Junior Girls vs Tasman Titans
DESCRIPTION:
URL:https://www.nelsonhockey.org.nz/event/%f0%9f%8f%92-garin-junior-girls-vs-tasman-titans/
CATEGORIES:Club Competition Week
END:VEVENT
BEGIN:VEVENT
DTSTART;TZID=Pacific/Auckland:20260605T175500
DTEND;TZID=Pacific/Auckland:20260605T185500
DTSTAMP:20260425T224749
CREATED:20260423T005515Z
LAST-MODIFIED:20260423T005515Z
UID:26175-1780682100-1780685700@www.nelsonhockey.org.nz
SUMMARY:🏒 Waimai United Secondary vs NC Navy
DESCRIPTION:
URL:https://www.nelsonhockey.org.nz/event/%f0%9f%8f%92-waimai-united-secondary-vs-nc-navy-2/
CATEGORIES:Club Competition Week
END:VEVENT
END:VCALENDAR