BEGIN:VCALENDAR
VERSION:2.0
PRODID:-//Nelson Hockey Association (1993) Inc - ECPv6.15.16//NONSGML v1.0//EN
CALSCALE:GREGORIAN
METHOD:PUBLISH
X-WR-CALNAME:Nelson Hockey Association (1993) Inc
X-ORIGINAL-URL:https://www.nelsonhockey.org.nz
X-WR-CALDESC:Events for Nelson Hockey Association (1993) Inc
REFRESH-INTERVAL;VALUE=DURATION:PT1H
X-Robots-Tag:noindex
X-PUBLISHED-TTL:PT1H
BEGIN:VTIMEZONE
TZID:Pacific/Auckland
BEGIN:STANDARD
TZOFFSETFROM:+1300
TZOFFSETTO:+1200
TZNAME:NZST
DTSTART:20250405T140000
END:STANDARD
BEGIN:DAYLIGHT
TZOFFSETFROM:+1200
TZOFFSETTO:+1300
TZNAME:NZDT
DTSTART:20250927T140000
END:DAYLIGHT
BEGIN:STANDARD
TZOFFSETFROM:+1300
TZOFFSETTO:+1200
TZNAME:NZST
DTSTART:20260404T140000
END:STANDARD
BEGIN:DAYLIGHT
TZOFFSETFROM:+1200
TZOFFSETTO:+1300
TZNAME:NZDT
DTSTART:20260926T140000
END:DAYLIGHT
BEGIN:STANDARD
TZOFFSETFROM:+1300
TZOFFSETTO:+1200
TZNAME:NZST
DTSTART:20270403T140000
END:STANDARD
BEGIN:DAYLIGHT
TZOFFSETFROM:+1200
TZOFFSETTO:+1300
TZNAME:NZDT
DTSTART:20270925T140000
END:DAYLIGHT
END:VTIMEZONE
BEGIN:VEVENT
DTSTART;TZID=Pacific/Auckland:20260531T124500
DTEND;TZID=Pacific/Auckland:20260531T134500
DTSTAMP:20260426T090235
CREATED:20260423T003835Z
LAST-MODIFIED:20260423T003835Z
UID:26038-1780231500-1780235100@www.nelsonhockey.org.nz
SUMMARY:🏒 Stoke Gold P2 Men vs Waimai United P2 Men
DESCRIPTION:
URL:https://www.nelsonhockey.org.nz/event/%f0%9f%8f%92-stoke-gold-p2-men-vs-waimai-united-p2-men/
CATEGORIES:Club Competition Week
END:VEVENT
BEGIN:VEVENT
DTSTART;TZID=Pacific/Auckland:20260531T130000
DTEND;TZID=Pacific/Auckland:20260531T140000
DTSTAMP:20260426T090235
CREATED:20260423T005122Z
LAST-MODIFIED:20260423T005122Z
UID:26099-1780232400-1780236000@www.nelsonhockey.org.nz
SUMMARY:🏒 Federal Senior Women vs Endeavours
DESCRIPTION:
URL:https://www.nelsonhockey.org.nz/event/%f0%9f%8f%92-federal-senior-women-vs-endeavours/
CATEGORIES:Club Competition Week
END:VEVENT
BEGIN:VEVENT
DTSTART;TZID=Pacific/Auckland:20260531T143000
DTEND;TZID=Pacific/Auckland:20260531T153000
DTSTAMP:20260426T090235
CREATED:20260423T003836Z
LAST-MODIFIED:20260423T003836Z
UID:26037-1780237800-1780241400@www.nelsonhockey.org.nz
SUMMARY:🏒 Tasman P2 Mens vs Federal Coffin Dodgers
DESCRIPTION:
URL:https://www.nelsonhockey.org.nz/event/%f0%9f%8f%92-tasman-p2-mens-vs-federal-coffin-dodgers/
CATEGORIES:Club Competition Week
END:VEVENT
BEGIN:VEVENT
DTSTART;TZID=Pacific/Auckland:20260531T144500
DTEND;TZID=Pacific/Auckland:20260531T154500
DTSTAMP:20260426T090235
CREATED:20260423T005122Z
LAST-MODIFIED:20260423T005122Z
UID:26098-1780238700-1780242300@www.nelsonhockey.org.nz
SUMMARY:🏒 Senior/Open Women NCG 1st XI Hine Tū vs Rewa Hockey
DESCRIPTION:
URL:https://www.nelsonhockey.org.nz/event/%f0%9f%8f%92-senior-open-women-ncg-1st-xi-hine-tu-vs-rewa-hockey/
CATEGORIES:Club Competition Week
END:VEVENT
BEGIN:VEVENT
DTSTART;VALUE=DATE:20260601
DTEND;VALUE=DATE:20260602
DTSTAMP:20260426T090235
CREATED:20260425T022713Z
LAST-MODIFIED:20260425T022906Z
UID:26317-1780272000-1780358399@www.nelsonhockey.org.nz
SUMMARY:King's Birthday
DESCRIPTION:
URL:https://www.nelsonhockey.org.nz/event/kings-birthday-4/
LOCATION:NELSON HOCKEY\, SAXTON FIELDS\, Nelson\, Tasman/Nelson\, 7011\, New Zealand
CATEGORIES:PUBLIC HOLIDAY
ATTACH;FMTTYPE=image/jpeg:https://www.nelsonhockey.org.nz/wp-content/uploads/2023/06/2023-Kings-Birthday-Wkd-of-O-logo.jpg
GEO:-41.3280994;173.2181794
X-APPLE-STRUCTURED-LOCATION;VALUE=URI;X-ADDRESS=NELSON HOCKEY SAXTON FIELDS Nelson Tasman/Nelson 7011 New Zealand;X-APPLE-RADIUS=500;X-TITLE=SAXTON FIELDS:geo:173.2181794,-41.3280994
END:VEVENT
BEGIN:VEVENT
DTSTART;TZID=Pacific/Auckland:20260603T180000
DTEND;TZID=Pacific/Auckland:20260603T190000
DTSTAMP:20260426T090235
CREATED:20260328T084316Z
LAST-MODIFIED:20260328T084316Z
UID:25385-1780509600-1780513200@www.nelsonhockey.org.nz
SUMMARY:NHA GK Training
DESCRIPTION:
URL:https://www.nelsonhockey.org.nz/event/nha-gk-training-15/2026-06-03/
LOCATION:NELSON HOCKEY\, SAXTON FIELDS\, Nelson\, Tasman/Nelson\, 7011\, New Zealand
CATEGORIES:GK TRAINING PROGRAM
ATTACH;FMTTYPE=image/jpeg:https://www.nelsonhockey.org.nz/wp-content/uploads/2025/10/2026-NHA-GK-Training-Program.jpg
GEO:-41.3280994;173.2181794
X-APPLE-STRUCTURED-LOCATION;VALUE=URI;X-ADDRESS=NELSON HOCKEY SAXTON FIELDS Nelson Tasman/Nelson 7011 New Zealand;X-APPLE-RADIUS=500;X-TITLE=SAXTON FIELDS:geo:173.2181794,-41.3280994
END:VEVENT
BEGIN:VEVENT
DTSTART;TZID=Pacific/Auckland:20260603T190000
DTEND;TZID=Pacific/Auckland:20260603T210000
DTSTAMP:20260426T090235
CREATED:20260329T012526Z
LAST-MODIFIED:20260329T012526Z
UID:26309-1780513200-1780520400@www.nelsonhockey.org.nz
SUMMARY:NELSON SR.M&W Training
DESCRIPTION:
URL:https://www.nelsonhockey.org.nz/event/nelson-sr-mw-training/2026-06-03/
LOCATION:NELSON HOCKEY\, SAXTON FIELDS\, Nelson\, Tasman/Nelson\, 7011\, New Zealand
CATEGORIES:SENIORS
ATTACH;FMTTYPE=image/jpeg:https://www.nelsonhockey.org.nz/wp-content/uploads/2025/04/Nelson-Hockey_NHA-Representative_Blog-Post-Banner_Nov22.jpg
GEO:-41.3280994;173.2181794
X-APPLE-STRUCTURED-LOCATION;VALUE=URI;X-ADDRESS=NELSON HOCKEY SAXTON FIELDS Nelson Tasman/Nelson 7011 New Zealand;X-APPLE-RADIUS=500;X-TITLE=SAXTON FIELDS:geo:173.2181794,-41.3280994
END:VEVENT
BEGIN:VEVENT
DTSTART;TZID=Pacific/Auckland:20260605T163000
DTEND;TZID=Pacific/Auckland:20260605T173000
DTSTAMP:20260426T090235
CREATED:20260423T005515Z
LAST-MODIFIED:20260423T005515Z
UID:26176-1780677000-1780680600@www.nelsonhockey.org.nz
SUMMARY:🏒 NC Sky vs Garin Boys
DESCRIPTION:
URL:https://www.nelsonhockey.org.nz/event/%f0%9f%8f%92-nc-sky-vs-garin-boys-2/
CATEGORIES:Club Competition Week
END:VEVENT
BEGIN:VEVENT
DTSTART;TZID=Pacific/Auckland:20260605T163000
DTEND;TZID=Pacific/Auckland:20260605T173000
DTSTAMP:20260426T090235
CREATED:20260423T010614Z
LAST-MODIFIED:20260423T010614Z
UID:26198-1780677000-1780680600@www.nelsonhockey.org.nz
SUMMARY:🏒 Garin Junior Girls vs Tasman Titans
DESCRIPTION:
URL:https://www.nelsonhockey.org.nz/event/%f0%9f%8f%92-garin-junior-girls-vs-tasman-titans/
CATEGORIES:Club Competition Week
END:VEVENT
BEGIN:VEVENT
DTSTART;TZID=Pacific/Auckland:20260605T175500
DTEND;TZID=Pacific/Auckland:20260605T185500
DTSTAMP:20260426T090235
CREATED:20260423T005515Z
LAST-MODIFIED:20260423T005515Z
UID:26175-1780682100-1780685700@www.nelsonhockey.org.nz
SUMMARY:🏒 Waimai United Secondary vs NC Navy
DESCRIPTION:
URL:https://www.nelsonhockey.org.nz/event/%f0%9f%8f%92-waimai-united-secondary-vs-nc-navy-2/
CATEGORIES:Club Competition Week
END:VEVENT
BEGIN:VEVENT
DTSTART;TZID=Pacific/Auckland:20260605T175500
DTEND;TZID=Pacific/Auckland:20260605T185500
DTSTAMP:20260426T090235
CREATED:20260423T012009Z
LAST-MODIFIED:20260423T012009Z
UID:26255-1780682100-1780685700@www.nelsonhockey.org.nz
SUMMARY:🏒 Waimea College Tasman vs Stoke Mixed Secondary
DESCRIPTION:
URL:https://www.nelsonhockey.org.nz/event/%f0%9f%8f%92-waimea-college-tasman-vs-stoke-mixed-secondary/
CATEGORIES:Club Competition Week
END:VEVENT
BEGIN:VEVENT
DTSTART;TZID=Pacific/Auckland:20260605T192000
DTEND;TZID=Pacific/Auckland:20260605T202000
DTSTAMP:20260426T090235
CREATED:20260423T010643Z
LAST-MODIFIED:20260423T010643Z
UID:26197-1780687200-1780690800@www.nelsonhockey.org.nz
SUMMARY:🏒 NCG Piki Mai vs Waimai United Mixed
DESCRIPTION:
URL:https://www.nelsonhockey.org.nz/event/%f0%9f%8f%92-ncg-piki-mai-vs-waimai-united-mixed/
CATEGORIES:Club Competition Week
END:VEVENT
BEGIN:VEVENT
DTSTART;TZID=Pacific/Auckland:20260605T192000
DTEND;TZID=Pacific/Auckland:20260605T202000
DTSTAMP:20260426T090235
CREATED:20260423T012008Z
LAST-MODIFIED:20260423T012008Z
UID:26256-1780687200-1780690800@www.nelsonhockey.org.nz
SUMMARY:🏒 NCG Tirohia Mārama vs NCG Whiti Te Rā
DESCRIPTION:
URL:https://www.nelsonhockey.org.nz/event/%f0%9f%8f%92-ncg-tirohia-marama-vs-ncg-whiti-te-ra/
CATEGORIES:Club Competition Week
END:VEVENT
BEGIN:VEVENT
DTSTART;TZID=Pacific/Auckland:20260606T133000
DTEND;TZID=Pacific/Auckland:20260606T143000
DTSTAMP:20260426T090235
CREATED:20260423T003343Z
LAST-MODIFIED:20260423T003343Z
UID:25607-1780752600-1780756200@www.nelsonhockey.org.nz
SUMMARY:🏒 Waimai United P1 Women vs Tasman Black Women's P1
DESCRIPTION:
URL:https://www.nelsonhockey.org.nz/event/__trashed-249/
CATEGORIES:Club Competition Week
END:VEVENT
BEGIN:VEVENT
DTSTART;TZID=Pacific/Auckland:20260606T134500
DTEND;TZID=Pacific/Auckland:20260606T144500
DTSTAMP:20260426T090235
CREATED:20260423T003345Z
LAST-MODIFIED:20260423T003345Z
UID:25559-1780753500-1780757100@www.nelsonhockey.org.nz
SUMMARY:🏒 Federal Premier Men vs Tasman Black
DESCRIPTION:
URL:https://www.nelsonhockey.org.nz/event/__trashed-41/
CATEGORIES:Club Competition Week
END:VEVENT
BEGIN:VEVENT
DTSTART;TZID=Pacific/Auckland:20260606T151500
DTEND;TZID=Pacific/Auckland:20260606T161500
DTSTAMP:20260426T090235
CREATED:20260423T003343Z
LAST-MODIFIED:20260423T003343Z
UID:25606-1780758900-1780762500@www.nelsonhockey.org.nz
SUMMARY:🏒 Stoke P1 Women vs Federal Premier Women
DESCRIPTION:
URL:https://www.nelsonhockey.org.nz/event/__trashed-25/
CATEGORIES:Club Competition Week
END:VEVENT
BEGIN:VEVENT
DTSTART;TZID=Pacific/Auckland:20260606T153000
DTEND;TZID=Pacific/Auckland:20260606T163000
DTSTAMP:20260426T090235
CREATED:20260423T003345Z
LAST-MODIFIED:20260423T003345Z
UID:25558-1780759800-1780763400@www.nelsonhockey.org.nz
SUMMARY:🏒 Waimai United P1 Men vs Stoke Premier Men
DESCRIPTION:
URL:https://www.nelsonhockey.org.nz/event/__trashed-38/
CATEGORIES:Club Competition Week
END:VEVENT
BEGIN:VEVENT
DTSTART;TZID=Pacific/Auckland:20260607T093000
DTEND;TZID=Pacific/Auckland:20260607T103000
DTSTAMP:20260426T090235
CREATED:20260423T004058Z
LAST-MODIFIED:20260423T004058Z
UID:26056-1780824600-1780828200@www.nelsonhockey.org.nz
SUMMARY:🏒 Tasman P2 Mens vs Waimai United P2 Men
DESCRIPTION:
URL:https://www.nelsonhockey.org.nz/event/%f0%9f%8f%92-tasman-p2-mens-vs-waimai-united-p2-men/
CATEGORIES:Club Competition Week
END:VEVENT
BEGIN:VEVENT
DTSTART;TZID=Pacific/Auckland:20260607T110000
DTEND;TZID=Pacific/Auckland:20260607T120000
DTSTAMP:20260426T090235
CREATED:20260423T005123Z
LAST-MODIFIED:20260423T005123Z
UID:26095-1780830000-1780833600@www.nelsonhockey.org.nz
SUMMARY:🏒 Stoke Gold vs Federal Senior Women
DESCRIPTION:
URL:https://www.nelsonhockey.org.nz/event/%f0%9f%8f%92-stoke-gold-vs-federal-senior-women/
CATEGORIES:Club Competition Week
END:VEVENT
BEGIN:VEVENT
DTSTART;TZID=Pacific/Auckland:20260607T110000
DTEND;TZID=Pacific/Auckland:20260607T123000
DTSTAMP:20260426T090235
CREATED:20260425T023153Z
LAST-MODIFIED:20260425T023153Z
UID:26319-1780830000-1780835400@www.nelsonhockey.org.nz
SUMMARY:NHA SR.M B V WCHA SR.M B
DESCRIPTION:
URL:https://www.nelsonhockey.org.nz/event/nha-sr-m-b-v-wcha-sr-m-b/
LOCATION:NELSON HOCKEY\, SAXTON FIELDS\, Nelson\, Tasman/Nelson\, 7011\, New Zealand
CATEGORIES:Rep Tournaments
GEO:-41.3280994;173.2181794
X-APPLE-STRUCTURED-LOCATION;VALUE=URI;X-ADDRESS=NELSON HOCKEY SAXTON FIELDS Nelson Tasman/Nelson 7011 New Zealand;X-APPLE-RADIUS=500;X-TITLE=SAXTON FIELDS:geo:173.2181794,-41.3280994
END:VEVENT
BEGIN:VEVENT
DTSTART;TZID=Pacific/Auckland:20260607T123000
DTEND;TZID=Pacific/Auckland:20260607T133000
DTSTAMP:20260426T090235
CREATED:20260423T003836Z
LAST-MODIFIED:20260423T003836Z
UID:26035-1780835400-1780839000@www.nelsonhockey.org.nz
SUMMARY:🏒 Federal Coffin Dodgers vs Nelson College
DESCRIPTION:
URL:https://www.nelsonhockey.org.nz/event/%f0%9f%8f%92-federal-coffin-dodgers-vs-nelson-college/
CATEGORIES:Club Competition Week
END:VEVENT
BEGIN:VEVENT
DTSTART;TZID=Pacific/Auckland:20260607T123000
DTEND;TZID=Pacific/Auckland:20260607T140000
DTSTAMP:20260426T090235
CREATED:20260425T023310Z
LAST-MODIFIED:20260425T023310Z
UID:26321-1780835400-1780840800@www.nelsonhockey.org.nz
SUMMARY:NHA SR.W A v WCHA SR. W A
DESCRIPTION:
URL:https://www.nelsonhockey.org.nz/event/nha-sr-w-a-v-wcha-sr-w-a/
LOCATION:NELSON HOCKEY\, SAXTON FIELDS\, Nelson\, Tasman/Nelson\, 7011\, New Zealand
CATEGORIES:Rep Tournaments
ATTACH;FMTTYPE=image/jpeg:https://www.nelsonhockey.org.nz/wp-content/uploads/2025/04/WCHA.jpg
GEO:-41.3280994;173.2181794
X-APPLE-STRUCTURED-LOCATION;VALUE=URI;X-ADDRESS=NELSON HOCKEY SAXTON FIELDS Nelson Tasman/Nelson 7011 New Zealand;X-APPLE-RADIUS=500;X-TITLE=SAXTON FIELDS:geo:173.2181794,-41.3280994
END:VEVENT
BEGIN:VEVENT
DTSTART;TZID=Pacific/Auckland:20260607T143000
DTEND;TZID=Pacific/Auckland:20260607T153000
DTSTAMP:20260426T090235
CREATED:20260423T005123Z
LAST-MODIFIED:20260423T005123Z
UID:26093-1780842600-1780846200@www.nelsonhockey.org.nz
SUMMARY:🏒 Tasman Women's P2 vs Senior/Open Women NCG 1st XI Hine Tū
DESCRIPTION:
URL:https://www.nelsonhockey.org.nz/event/%f0%9f%8f%92-tasman-womens-p2-vs-senior-open-women-ncg-1st-xi-hine-tu/
CATEGORIES:Club Competition Week
END:VEVENT
BEGIN:VEVENT
DTSTART;TZID=Pacific/Auckland:20260607T143000
DTEND;TZID=Pacific/Auckland:20260607T160000
DTSTAMP:20260426T090235
CREATED:20260425T023505Z
LAST-MODIFIED:20260425T023505Z
UID:26324-1780842600-1780848000@www.nelsonhockey.org.nz
SUMMARY:NHA SR.M A v WCHA SR.M A
DESCRIPTION:
URL:https://www.nelsonhockey.org.nz/event/nha-sr-m-a-v-wcha-sr-m-a/
LOCATION:NELSON HOCKEY\, SAXTON FIELDS\, Nelson\, Tasman/Nelson\, 7011\, New Zealand
CATEGORIES:Rep Tournaments
ATTACH;FMTTYPE=image/jpeg:https://www.nelsonhockey.org.nz/wp-content/uploads/2025/04/WCHA.jpg
GEO:-41.3280994;173.2181794
X-APPLE-STRUCTURED-LOCATION;VALUE=URI;X-ADDRESS=NELSON HOCKEY SAXTON FIELDS Nelson Tasman/Nelson 7011 New Zealand;X-APPLE-RADIUS=500;X-TITLE=SAXTON FIELDS:geo:173.2181794,-41.3280994
END:VEVENT
BEGIN:VEVENT
DTSTART;TZID=Pacific/Auckland:20260607T153000
DTEND;TZID=Pacific/Auckland:20260607T163000
DTSTAMP:20260426T090235
CREATED:20260423T003835Z
LAST-MODIFIED:20260423T003835Z
UID:26036-1780846200-1780849800@www.nelsonhockey.org.nz
SUMMARY:🏒 Stoke Gold P2 Men vs Federal Senior Men
DESCRIPTION:
URL:https://www.nelsonhockey.org.nz/event/%f0%9f%8f%92-stoke-gold-p2-men-vs-federal-senior-men/
CATEGORIES:Club Competition Week
END:VEVENT
BEGIN:VEVENT
DTSTART;TZID=Pacific/Auckland:20260607T160000
DTEND;TZID=Pacific/Auckland:20260607T170000
DTSTAMP:20260426T090235
CREATED:20260423T005123Z
LAST-MODIFIED:20260423T005123Z
UID:26096-1780848000-1780851600@www.nelsonhockey.org.nz
SUMMARY:🏒 Endeavours vs Rewa Hockey
DESCRIPTION:
URL:https://www.nelsonhockey.org.nz/event/%f0%9f%8f%92-endeavours-vs-rewa-hockey/
CATEGORIES:Club Competition Week
END:VEVENT
BEGIN:VEVENT
DTSTART;TZID=Pacific/Auckland:20260610T180000
DTEND;TZID=Pacific/Auckland:20260610T190000
DTSTAMP:20260426T090235
CREATED:20260328T084316Z
LAST-MODIFIED:20260328T084316Z
UID:25386-1781114400-1781118000@www.nelsonhockey.org.nz
SUMMARY:NHA GK Training
DESCRIPTION:
URL:https://www.nelsonhockey.org.nz/event/nha-gk-training-15/2026-06-10/
LOCATION:NELSON HOCKEY\, SAXTON FIELDS\, Nelson\, Tasman/Nelson\, 7011\, New Zealand
CATEGORIES:GK TRAINING PROGRAM
ATTACH;FMTTYPE=image/jpeg:https://www.nelsonhockey.org.nz/wp-content/uploads/2025/10/2026-NHA-GK-Training-Program.jpg
GEO:-41.3280994;173.2181794
X-APPLE-STRUCTURED-LOCATION;VALUE=URI;X-ADDRESS=NELSON HOCKEY SAXTON FIELDS Nelson Tasman/Nelson 7011 New Zealand;X-APPLE-RADIUS=500;X-TITLE=SAXTON FIELDS:geo:173.2181794,-41.3280994
END:VEVENT
BEGIN:VEVENT
DTSTART;TZID=Pacific/Auckland:20260610T190000
DTEND;TZID=Pacific/Auckland:20260610T210000
DTSTAMP:20260426T090235
CREATED:20260329T012526Z
LAST-MODIFIED:20260329T012526Z
UID:26310-1781118000-1781125200@www.nelsonhockey.org.nz
SUMMARY:NELSON SR.M&W Training
DESCRIPTION:
URL:https://www.nelsonhockey.org.nz/event/nelson-sr-mw-training/2026-06-10/
LOCATION:NELSON HOCKEY\, SAXTON FIELDS\, Nelson\, Tasman/Nelson\, 7011\, New Zealand
CATEGORIES:SENIORS
ATTACH;FMTTYPE=image/jpeg:https://www.nelsonhockey.org.nz/wp-content/uploads/2025/04/Nelson-Hockey_NHA-Representative_Blog-Post-Banner_Nov22.jpg
GEO:-41.3280994;173.2181794
X-APPLE-STRUCTURED-LOCATION;VALUE=URI;X-ADDRESS=NELSON HOCKEY SAXTON FIELDS Nelson Tasman/Nelson 7011 New Zealand;X-APPLE-RADIUS=500;X-TITLE=SAXTON FIELDS:geo:173.2181794,-41.3280994
END:VEVENT
BEGIN:VEVENT
DTSTART;TZID=Pacific/Auckland:20260612T163000
DTEND;TZID=Pacific/Auckland:20260612T173000
DTSTAMP:20260426T090235
CREATED:20260423T005515Z
LAST-MODIFIED:20260423T005515Z
UID:26174-1781281800-1781285400@www.nelsonhockey.org.nz
SUMMARY:🏒 NC Navy vs NC Sky
DESCRIPTION:
URL:https://www.nelsonhockey.org.nz/event/%f0%9f%8f%92-nc-navy-vs-nc-sky/
CATEGORIES:Club Competition Week
END:VEVENT
BEGIN:VEVENT
DTSTART;TZID=Pacific/Auckland:20260612T163000
DTEND;TZID=Pacific/Auckland:20260612T173000
DTSTAMP:20260426T090235
CREATED:20260423T012009Z
LAST-MODIFIED:20260423T012009Z
UID:26252-1781281800-1781285400@www.nelsonhockey.org.nz
SUMMARY:🏒 Stoke Mixed Secondary vs Garin Senior Girls
DESCRIPTION:
URL:https://www.nelsonhockey.org.nz/event/%f0%9f%8f%92-stoke-mixed-secondary-vs-garin-senior-girls/
CATEGORIES:Club Competition Week
END:VEVENT
END:VCALENDAR