BEGIN:VCALENDAR
VERSION:2.0
PRODID:-//Nelson Hockey Association (1993) Inc - ECPv6.15.16//NONSGML v1.0//EN
CALSCALE:GREGORIAN
METHOD:PUBLISH
X-WR-CALNAME:Nelson Hockey Association (1993) Inc
X-ORIGINAL-URL:https://www.nelsonhockey.org.nz
X-WR-CALDESC:Events for Nelson Hockey Association (1993) Inc
REFRESH-INTERVAL;VALUE=DURATION:PT1H
X-Robots-Tag:noindex
X-PUBLISHED-TTL:PT1H
BEGIN:VTIMEZONE
TZID:Pacific/Auckland
BEGIN:STANDARD
TZOFFSETFROM:+1300
TZOFFSETTO:+1200
TZNAME:NZST
DTSTART:20250405T140000
END:STANDARD
BEGIN:DAYLIGHT
TZOFFSETFROM:+1200
TZOFFSETTO:+1300
TZNAME:NZDT
DTSTART:20250927T140000
END:DAYLIGHT
BEGIN:STANDARD
TZOFFSETFROM:+1300
TZOFFSETTO:+1200
TZNAME:NZST
DTSTART:20260404T140000
END:STANDARD
BEGIN:DAYLIGHT
TZOFFSETFROM:+1200
TZOFFSETTO:+1300
TZNAME:NZDT
DTSTART:20260926T140000
END:DAYLIGHT
BEGIN:STANDARD
TZOFFSETFROM:+1300
TZOFFSETTO:+1200
TZNAME:NZST
DTSTART:20270403T140000
END:STANDARD
BEGIN:DAYLIGHT
TZOFFSETFROM:+1200
TZOFFSETTO:+1300
TZNAME:NZDT
DTSTART:20270925T140000
END:DAYLIGHT
END:VTIMEZONE
BEGIN:VEVENT
DTSTART;TZID=Pacific/Auckland:20260509T133000
DTEND;TZID=Pacific/Auckland:20260509T143000
DTSTAMP:20260423T124955
CREATED:20260423T003257Z
LAST-MODIFIED:20260423T003257Z
UID:25954-1778333400-1778337000@www.nelsonhockey.org.nz
SUMMARY:🏒 Waimai United P1 Women vs Stoke P1 Women
DESCRIPTION:
URL:https://www.nelsonhockey.org.nz/event/%f0%9f%8f%92-waimai-united-p1-women-vs-stoke-p1-women/
CATEGORIES:Club Competition Week
END:VEVENT
BEGIN:VEVENT
DTSTART;TZID=Pacific/Auckland:20260509T134500
DTEND;TZID=Pacific/Auckland:20260509T144500
DTSTAMP:20260423T124955
CREATED:20260423T003431Z
LAST-MODIFIED:20260423T003431Z
UID:25918-1778334300-1778337900@www.nelsonhockey.org.nz
SUMMARY:🏒 Tasman White vs Stoke Premier Men
DESCRIPTION:
URL:https://www.nelsonhockey.org.nz/event/%f0%9f%8f%92-tasman-white-vs-stoke-premier-men-2/
CATEGORIES:Club Competition Week
END:VEVENT
BEGIN:VEVENT
DTSTART;TZID=Pacific/Auckland:20260509T151500
DTEND;TZID=Pacific/Auckland:20260509T161500
DTSTAMP:20260423T124955
CREATED:20260423T003342Z
LAST-MODIFIED:20260423T003342Z
UID:25952-1778339700-1778343300@www.nelsonhockey.org.nz
SUMMARY:🏒 Federal Premier Women vs Tasman Black Women's P1
DESCRIPTION:
URL:https://www.nelsonhockey.org.nz/event/%f0%9f%8f%92-federal-premier-women-vs-tasman-black-womens-p1/
CATEGORIES:Club Competition Week
END:VEVENT
BEGIN:VEVENT
DTSTART;TZID=Pacific/Auckland:20260509T153000
DTEND;TZID=Pacific/Auckland:20260509T163000
DTSTAMP:20260423T124955
CREATED:20260423T003430Z
LAST-MODIFIED:20260423T003430Z
UID:25545-1778340600-1778344200@www.nelsonhockey.org.nz
SUMMARY:🏒 Federal Premier Men vs Waimai United P1 Men
DESCRIPTION:
URL:https://www.nelsonhockey.org.nz/event/%f0%9f%8f%92-federal-premier-men-vs-waimai-united-p1-men/
CATEGORIES:Club Competition Week
END:VEVENT
BEGIN:VEVENT
DTSTART;TZID=Pacific/Auckland:20260510T090000
DTEND;TZID=Pacific/Auckland:20260510T170000
DTSTAMP:20260423T124955
CREATED:20260329T012000Z
LAST-MODIFIED:20260329T012000Z
UID:25430-1778403600-1778432400@www.nelsonhockey.org.nz
SUMMARY:U18M&W Stirling & Dodson Cups
DESCRIPTION:
URL:https://www.nelsonhockey.org.nz/event/u18mw-stirling-dodson-cups/2026-05-10/
LOCATION:Marlborough Hockey\, Blenheim\, New Zealand
CATEGORIES:Nelson U18 Boys-Girls Trials
ATTACH;FMTTYPE=image/jpeg:https://www.nelsonhockey.org.nz/wp-content/uploads/2025/04/Nelson-Hockey_NHA-Representative_Blog-Post-Banner_Nov22.jpg
GEO:-41.5134425;173.9612498
END:VEVENT
BEGIN:VEVENT
DTSTART;TZID=Pacific/Auckland:20260510T111500
DTEND;TZID=Pacific/Auckland:20260510T121500
DTSTAMP:20260423T124955
CREATED:20260423T003254Z
LAST-MODIFIED:20260423T003254Z
UID:25972-1778411700-1778415300@www.nelsonhockey.org.nz
SUMMARY:🏒 Federal Coffin Dodgers vs Waimai United P2 Men
DESCRIPTION:
URL:https://www.nelsonhockey.org.nz/event/%f0%9f%8f%92-federal-coffin-dodgers-vs-waimai-united-p2-men/
CATEGORIES:Club Competition Week
END:VEVENT
BEGIN:VEVENT
DTSTART;TZID=Pacific/Auckland:20260510T130000
DTEND;TZID=Pacific/Auckland:20260510T140000
DTSTAMP:20260423T124955
CREATED:20260423T003254Z
LAST-MODIFIED:20260423T003254Z
UID:25971-1778418000-1778421600@www.nelsonhockey.org.nz
SUMMARY:🏒 Tasman P2 Mens vs Federal Senior Men
DESCRIPTION:
URL:https://www.nelsonhockey.org.nz/event/%f0%9f%8f%92-tasman-p2-mens-vs-federal-senior-men-2/
CATEGORIES:Club Competition Week
END:VEVENT
BEGIN:VEVENT
DTSTART;TZID=Pacific/Auckland:20260510T144500
DTEND;TZID=Pacific/Auckland:20260510T154500
DTSTAMP:20260423T124955
CREATED:20260423T002901Z
LAST-MODIFIED:20260423T002901Z
UID:25974-1778424300-1778427900@www.nelsonhockey.org.nz
SUMMARY:🏒 Stoke Gold P2 Men vs Nelson College
DESCRIPTION:
URL:https://www.nelsonhockey.org.nz/event/%f0%9f%8f%92-stoke-gold-p2-men-vs-nelson-college/
CATEGORIES:Club Competition Week
END:VEVENT
BEGIN:VEVENT
DTSTART;TZID=Pacific/Auckland:20260513T180000
DTEND;TZID=Pacific/Auckland:20260513T190000
DTSTAMP:20260423T124955
CREATED:20260328T084316Z
LAST-MODIFIED:20260328T084316Z
UID:25382-1778695200-1778698800@www.nelsonhockey.org.nz
SUMMARY:NHA GK Training
DESCRIPTION:
URL:https://www.nelsonhockey.org.nz/event/nha-gk-training-15/2026-05-13/
LOCATION:NELSON HOCKEY\, SAXTON FIELDS\, Nelson\, Tasman/Nelson\, 7011\, New Zealand
CATEGORIES:GK TRAINING PROGRAM
ATTACH;FMTTYPE=image/jpeg:https://www.nelsonhockey.org.nz/wp-content/uploads/2025/10/2026-NHA-GK-Training-Program.jpg
GEO:-41.3280994;173.2181794
X-APPLE-STRUCTURED-LOCATION;VALUE=URI;X-ADDRESS=NELSON HOCKEY SAXTON FIELDS Nelson Tasman/Nelson 7011 New Zealand;X-APPLE-RADIUS=500;X-TITLE=SAXTON FIELDS:geo:173.2181794,-41.3280994
END:VEVENT
BEGIN:VEVENT
DTSTART;TZID=Pacific/Auckland:20260513T190000
DTEND;TZID=Pacific/Auckland:20260513T210000
DTSTAMP:20260423T124955
CREATED:20260329T011626Z
LAST-MODIFIED:20260329T011626Z
UID:25426-1778698800-1778706000@www.nelsonhockey.org.nz
SUMMARY:NELSON SR.M&W Trials
DESCRIPTION:
URL:https://www.nelsonhockey.org.nz/event/nelson-sr-mw-trials/2026-05-13/
LOCATION:NELSON HOCKEY\, SAXTON FIELDS\, Nelson\, Tasman/Nelson\, 7011\, New Zealand
CATEGORIES:SENIORS
ATTACH;FMTTYPE=image/jpeg:https://www.nelsonhockey.org.nz/wp-content/uploads/2025/04/Nelson-Hockey_NHA-Representative_Blog-Post-Banner_Nov22.jpg
GEO:-41.3280994;173.2181794
X-APPLE-STRUCTURED-LOCATION;VALUE=URI;X-ADDRESS=NELSON HOCKEY SAXTON FIELDS Nelson Tasman/Nelson 7011 New Zealand;X-APPLE-RADIUS=500;X-TITLE=SAXTON FIELDS:geo:173.2181794,-41.3280994
END:VEVENT
BEGIN:VEVENT
DTSTART;VALUE=DATE:20260514
DTEND;VALUE=DATE:20260515
DTSTAMP:20260423T124955
CREATED:20260329T012127Z
LAST-MODIFIED:20260329T012127Z
UID:25431-1778716800-1778803199@www.nelsonhockey.org.nz
SUMMARY:NELSON SR.M&W Team Announcement
DESCRIPTION:
URL:https://www.nelsonhockey.org.nz/event/nelson-sr-mw-team-announcement/
LOCATION:NELSON HOCKEY\, SAXTON FIELDS\, Nelson\, Tasman/Nelson\, 7011\, New Zealand
CATEGORIES:SENIORS
ATTACH;FMTTYPE=image/jpeg:https://www.nelsonhockey.org.nz/wp-content/uploads/2025/05/Nelson-Hockey_NHA-Representative_Blog-Post-Banner_Nov22.jpg
GEO:-41.3280994;173.2181794
X-APPLE-STRUCTURED-LOCATION;VALUE=URI;X-ADDRESS=NELSON HOCKEY SAXTON FIELDS Nelson Tasman/Nelson 7011 New Zealand;X-APPLE-RADIUS=500;X-TITLE=SAXTON FIELDS:geo:173.2181794,-41.3280994
END:VEVENT
BEGIN:VEVENT
DTSTART;TZID=Pacific/Auckland:20260514T160000
DTEND;TZID=Pacific/Auckland:20260514T200000
DTSTAMP:20260423T124955
CREATED:20260328T084750Z
LAST-MODIFIED:20260328T084750Z
UID:25402-1778774400-1778788800@www.nelsonhockey.org.nz
SUMMARY:Player Development Program II -(U13/U16 & U18)
DESCRIPTION:
URL:https://www.nelsonhockey.org.nz/event/player-development-program-ii-u13-u16-u18/2026-05-14/
LOCATION:NELSON HOCKEY\, SAXTON FIELDS\, Nelson\, Tasman/Nelson\, 7011\, New Zealand
CATEGORIES:U13-U15 Development Programme
ATTACH;FMTTYPE=image/jpeg:https://www.nelsonhockey.org.nz/wp-content/uploads/2026/03/2026-NHA-U14-U16-DEVELOPMENT-PROGRAM-II.jpg
GEO:-41.3280994;173.2181794
X-APPLE-STRUCTURED-LOCATION;VALUE=URI;X-ADDRESS=NELSON HOCKEY SAXTON FIELDS Nelson Tasman/Nelson 7011 New Zealand;X-APPLE-RADIUS=500;X-TITLE=SAXTON FIELDS:geo:173.2181794,-41.3280994
END:VEVENT
BEGIN:VEVENT
DTSTART;VALUE=DATE:20260515
DTEND;VALUE=DATE:20260516
DTSTAMP:20260423T124955
CREATED:20260329T012302Z
LAST-MODIFIED:20260329T012302Z
UID:25433-1778803200-1778889599@www.nelsonhockey.org.nz
SUMMARY:HNZ Umpires Workshop
DESCRIPTION:
URL:https://www.nelsonhockey.org.nz/event/hnz-umpires-workshop/2026-05-15/
LOCATION:NELSON HOCKEY\, SAXTON FIELDS\, Nelson\, Tasman/Nelson\, 7011\, New Zealand
CATEGORIES:Umpire Course
ATTACH;FMTTYPE=image/jpeg:https://www.nelsonhockey.org.nz/wp-content/uploads/2025/05/C-French.-HNZ-002.jpg
GEO:-41.3280994;173.2181794
X-APPLE-STRUCTURED-LOCATION;VALUE=URI;X-ADDRESS=NELSON HOCKEY SAXTON FIELDS Nelson Tasman/Nelson 7011 New Zealand;X-APPLE-RADIUS=500;X-TITLE=SAXTON FIELDS:geo:173.2181794,-41.3280994
END:VEVENT
BEGIN:VEVENT
DTSTART;VALUE=DATE:20260516
DTEND;VALUE=DATE:20260517
DTSTAMP:20260423T124955
CREATED:20260329T012302Z
LAST-MODIFIED:20260329T012302Z
UID:25434-1778889600-1778975999@www.nelsonhockey.org.nz
SUMMARY:HNZ Umpires Workshop
DESCRIPTION:
URL:https://www.nelsonhockey.org.nz/event/hnz-umpires-workshop/2026-05-16/
LOCATION:NELSON HOCKEY\, SAXTON FIELDS\, Nelson\, Tasman/Nelson\, 7011\, New Zealand
CATEGORIES:Umpire Course
ATTACH;FMTTYPE=image/jpeg:https://www.nelsonhockey.org.nz/wp-content/uploads/2025/05/C-French.-HNZ-002.jpg
GEO:-41.3280994;173.2181794
X-APPLE-STRUCTURED-LOCATION;VALUE=URI;X-ADDRESS=NELSON HOCKEY SAXTON FIELDS Nelson Tasman/Nelson 7011 New Zealand;X-APPLE-RADIUS=500;X-TITLE=SAXTON FIELDS:geo:173.2181794,-41.3280994
END:VEVENT
BEGIN:VEVENT
DTSTART;TZID=Pacific/Auckland:20260516T133000
DTEND;TZID=Pacific/Auckland:20260516T143000
DTSTAMP:20260423T124955
CREATED:20260423T003431Z
LAST-MODIFIED:20260423T003431Z
UID:25920-1778938200-1778941800@www.nelsonhockey.org.nz
SUMMARY:🏒 Waimai United P1 Men vs Tasman Black
DESCRIPTION:
URL:https://www.nelsonhockey.org.nz/event/%f0%9f%8f%92-waimai-united-p1-men-vs-tasman-black/
CATEGORIES:Club Competition Week
END:VEVENT
BEGIN:VEVENT
DTSTART;TZID=Pacific/Auckland:20260516T134500
DTEND;TZID=Pacific/Auckland:20260516T144500
DTSTAMP:20260423T124955
CREATED:20260423T003257Z
LAST-MODIFIED:20260423T003257Z
UID:25951-1778939100-1778942700@www.nelsonhockey.org.nz
SUMMARY:🏒 Federal Premier Women vs Stoke P1 Women
DESCRIPTION:
URL:https://www.nelsonhockey.org.nz/event/%f0%9f%8f%92-federal-premier-women-vs-stoke-p1-women/
CATEGORIES:Club Competition Week
END:VEVENT
BEGIN:VEVENT
DTSTART;TZID=Pacific/Auckland:20260516T151500
DTEND;TZID=Pacific/Auckland:20260516T161500
DTSTAMP:20260423T124955
CREATED:20260423T003430Z
LAST-MODIFIED:20260423T003430Z
UID:25921-1778944500-1778948100@www.nelsonhockey.org.nz
SUMMARY:🏒 Federal Premier Men vs Tasman White
DESCRIPTION:
URL:https://www.nelsonhockey.org.nz/event/%f0%9f%8f%92-federal-premier-men-vs-tasman-white/
CATEGORIES:Club Competition Week
END:VEVENT
BEGIN:VEVENT
DTSTART;TZID=Pacific/Auckland:20260516T153000
DTEND;TZID=Pacific/Auckland:20260516T163000
DTSTAMP:20260423T124955
CREATED:20260423T003256Z
LAST-MODIFIED:20260423T003256Z
UID:25953-1778945400-1778949000@www.nelsonhockey.org.nz
SUMMARY:🏒 Tasman Black Women's P1 vs Waimai United P1 Women
DESCRIPTION:
URL:https://www.nelsonhockey.org.nz/event/%f0%9f%8f%92-tasman-black-womens-p1-vs-waimai-united-p1-women/
CATEGORIES:Club Competition Week
END:VEVENT
BEGIN:VEVENT
DTSTART;VALUE=DATE:20260517
DTEND;VALUE=DATE:20260518
DTSTAMP:20260423T124955
CREATED:20260329T012302Z
LAST-MODIFIED:20260329T012302Z
UID:25435-1778976000-1779062399@www.nelsonhockey.org.nz
SUMMARY:HNZ Umpires Workshop
DESCRIPTION:
URL:https://www.nelsonhockey.org.nz/event/hnz-umpires-workshop/2026-05-17/
LOCATION:NELSON HOCKEY\, SAXTON FIELDS\, Nelson\, Tasman/Nelson\, 7011\, New Zealand
CATEGORIES:Umpire Course
ATTACH;FMTTYPE=image/jpeg:https://www.nelsonhockey.org.nz/wp-content/uploads/2025/05/C-French.-HNZ-002.jpg
GEO:-41.3280994;173.2181794
X-APPLE-STRUCTURED-LOCATION;VALUE=URI;X-ADDRESS=NELSON HOCKEY SAXTON FIELDS Nelson Tasman/Nelson 7011 New Zealand;X-APPLE-RADIUS=500;X-TITLE=SAXTON FIELDS:geo:173.2181794,-41.3280994
END:VEVENT
BEGIN:VEVENT
DTSTART;TZID=Pacific/Auckland:20260517T110000
DTEND;TZID=Pacific/Auckland:20260517T120000
DTSTAMP:20260423T124955
CREATED:20260423T003835Z
LAST-MODIFIED:20260423T003835Z
UID:26040-1779015600-1779019200@www.nelsonhockey.org.nz
SUMMARY:🏒 Stoke Gold P2 Men vs Tasman P2 Mens
DESCRIPTION:
URL:https://www.nelsonhockey.org.nz/event/%f0%9f%8f%92-stoke-gold-p2-men-vs-tasman-p2-mens/
CATEGORIES:Club Competition Week
END:VEVENT
BEGIN:VEVENT
DTSTART;TZID=Pacific/Auckland:20260517T124500
DTEND;TZID=Pacific/Auckland:20260517T134500
DTSTAMP:20260423T124955
CREATED:20260423T003836Z
LAST-MODIFIED:20260423T003836Z
UID:26034-1779021900-1779025500@www.nelsonhockey.org.nz
SUMMARY:🏒 Federal Senior Men vs Federal Coffin Dodgers
DESCRIPTION:
URL:https://www.nelsonhockey.org.nz/event/%f0%9f%8f%92-federal-senior-men-vs-federal-coffin-dodgers/
CATEGORIES:Club Competition Week
END:VEVENT
BEGIN:VEVENT
DTSTART;TZID=Pacific/Auckland:20260517T143000
DTEND;TZID=Pacific/Auckland:20260517T153000
DTSTAMP:20260423T124955
CREATED:20260423T003254Z
LAST-MODIFIED:20260423T003254Z
UID:25970-1779028200-1779031800@www.nelsonhockey.org.nz
SUMMARY:🏒 Nelson College vs Waimai United P2 Men
DESCRIPTION:
URL:https://www.nelsonhockey.org.nz/event/%f0%9f%8f%92-nelson-college-vs-waimai-united-p2-men/
CATEGORIES:Club Competition Week
END:VEVENT
BEGIN:VEVENT
DTSTART;TZID=Pacific/Auckland:20260520T180000
DTEND;TZID=Pacific/Auckland:20260520T190000
DTSTAMP:20260423T124955
CREATED:20260328T084316Z
LAST-MODIFIED:20260328T084316Z
UID:25383-1779300000-1779303600@www.nelsonhockey.org.nz
SUMMARY:NHA GK Training
DESCRIPTION:
URL:https://www.nelsonhockey.org.nz/event/nha-gk-training-15/2026-05-20/
LOCATION:NELSON HOCKEY\, SAXTON FIELDS\, Nelson\, Tasman/Nelson\, 7011\, New Zealand
CATEGORIES:GK TRAINING PROGRAM
ATTACH;FMTTYPE=image/jpeg:https://www.nelsonhockey.org.nz/wp-content/uploads/2025/10/2026-NHA-GK-Training-Program.jpg
GEO:-41.3280994;173.2181794
X-APPLE-STRUCTURED-LOCATION;VALUE=URI;X-ADDRESS=NELSON HOCKEY SAXTON FIELDS Nelson Tasman/Nelson 7011 New Zealand;X-APPLE-RADIUS=500;X-TITLE=SAXTON FIELDS:geo:173.2181794,-41.3280994
END:VEVENT
BEGIN:VEVENT
DTSTART;TZID=Pacific/Auckland:20260520T193000
DTEND;TZID=Pacific/Auckland:20260520T203000
DTSTAMP:20260423T124955
CREATED:20260423T003344Z
LAST-MODIFIED:20260423T003344Z
UID:25938-1779305400-1779309000@www.nelsonhockey.org.nz
SUMMARY:🏒 Federal Premier Men vs Waimai United P1 Men
DESCRIPTION:
URL:https://www.nelsonhockey.org.nz/event/%f0%9f%8f%92-federal-premier-men-vs-waimai-united-p1-men-2/
CATEGORIES:Club Competition Week
END:VEVENT
BEGIN:VEVENT
DTSTART;TZID=Pacific/Auckland:20260520T193000
DTEND;TZID=Pacific/Auckland:20260520T203000
DTSTAMP:20260423T124955
CREATED:20260423T003428Z
LAST-MODIFIED:20260423T003428Z
UID:25935-1779305400-1779309000@www.nelsonhockey.org.nz
SUMMARY:🏒 Tasman White vs Stoke Premier Men
DESCRIPTION:
URL:https://www.nelsonhockey.org.nz/event/%f0%9f%8f%92-tasman-white-vs-stoke-premier-men/
CATEGORIES:Club Competition Week
END:VEVENT
BEGIN:VEVENT
DTSTART;TZID=Pacific/Auckland:20260521T160000
DTEND;TZID=Pacific/Auckland:20260521T200000
DTSTAMP:20260423T124955
CREATED:20260328T084750Z
LAST-MODIFIED:20260328T084750Z
UID:25403-1779379200-1779393600@www.nelsonhockey.org.nz
SUMMARY:Player Development Program II -(U13/U16 & U18)
DESCRIPTION:
URL:https://www.nelsonhockey.org.nz/event/player-development-program-ii-u13-u16-u18/2026-05-21/
LOCATION:NELSON HOCKEY\, SAXTON FIELDS\, Nelson\, Tasman/Nelson\, 7011\, New Zealand
CATEGORIES:U13-U15 Development Programme
ATTACH;FMTTYPE=image/jpeg:https://www.nelsonhockey.org.nz/wp-content/uploads/2026/03/2026-NHA-U14-U16-DEVELOPMENT-PROGRAM-II.jpg
GEO:-41.3280994;173.2181794
X-APPLE-STRUCTURED-LOCATION;VALUE=URI;X-ADDRESS=NELSON HOCKEY SAXTON FIELDS Nelson Tasman/Nelson 7011 New Zealand;X-APPLE-RADIUS=500;X-TITLE=SAXTON FIELDS:geo:173.2181794,-41.3280994
END:VEVENT
BEGIN:VEVENT
DTSTART;TZID=Pacific/Auckland:20260521T190000
DTEND;TZID=Pacific/Auckland:20260521T210000
DTSTAMP:20260423T124955
CREATED:20260329T012526Z
LAST-MODIFIED:20260329T012526Z
UID:25437-1779390000-1779397200@www.nelsonhockey.org.nz
SUMMARY:NELSON SR.M&W Training
DESCRIPTION:
URL:https://www.nelsonhockey.org.nz/event/nelson-sr-mw-training/2026-05-21/
LOCATION:NELSON HOCKEY\, SAXTON FIELDS\, Nelson\, Tasman/Nelson\, 7011\, New Zealand
CATEGORIES:SENIORS
ATTACH;FMTTYPE=image/jpeg:https://www.nelsonhockey.org.nz/wp-content/uploads/2025/04/Nelson-Hockey_NHA-Representative_Blog-Post-Banner_Nov22.jpg
GEO:-41.3280994;173.2181794
X-APPLE-STRUCTURED-LOCATION;VALUE=URI;X-ADDRESS=NELSON HOCKEY SAXTON FIELDS Nelson Tasman/Nelson 7011 New Zealand;X-APPLE-RADIUS=500;X-TITLE=SAXTON FIELDS:geo:173.2181794,-41.3280994
END:VEVENT
BEGIN:VEVENT
DTSTART;TZID=Pacific/Auckland:20260523T133000
DTEND;TZID=Pacific/Auckland:20260523T143000
DTSTAMP:20260423T124955
CREATED:20260423T003257Z
LAST-MODIFIED:20260423T003257Z
UID:25950-1779543000-1779546600@www.nelsonhockey.org.nz
SUMMARY:🏒 Tasman Black Women's P1 vs Stoke P1 Women
DESCRIPTION:
URL:https://www.nelsonhockey.org.nz/event/%f0%9f%8f%92-tasman-black-womens-p1-vs-stoke-p1-women/
CATEGORIES:Club Competition Week
END:VEVENT
BEGIN:VEVENT
DTSTART;TZID=Pacific/Auckland:20260523T134500
DTEND;TZID=Pacific/Auckland:20260523T144500
DTSTAMP:20260423T124955
CREATED:20260423T003429Z
LAST-MODIFIED:20260423T003429Z
UID:25924-1779543900-1779547500@www.nelsonhockey.org.nz
SUMMARY:🏒 Stoke Premier Men vs Federal Premier Men
DESCRIPTION:
URL:https://www.nelsonhockey.org.nz/event/%f0%9f%8f%92-stoke-premier-men-vs-federal-premier-men/
CATEGORIES:Club Competition Week
END:VEVENT
BEGIN:VEVENT
DTSTART;TZID=Pacific/Auckland:20260523T151500
DTEND;TZID=Pacific/Auckland:20260523T161500
DTSTAMP:20260423T124955
CREATED:20260423T003256Z
LAST-MODIFIED:20260423T003256Z
UID:25961-1779549300-1779552900@www.nelsonhockey.org.nz
SUMMARY:🏒 Waimai United P1 Women vs Federal Premier Women
DESCRIPTION:
URL:https://www.nelsonhockey.org.nz/event/%f0%9f%8f%92-waimai-united-p1-women-vs-federal-premier-women/
CATEGORIES:Club Competition Week
END:VEVENT
END:VCALENDAR