BEGIN:VCALENDAR
VERSION:2.0
PRODID:-//Nelson Hockey Association (1993) Inc - ECPv6.15.16//NONSGML v1.0//EN
CALSCALE:GREGORIAN
METHOD:PUBLISH
X-WR-CALNAME:Nelson Hockey Association (1993) Inc
X-ORIGINAL-URL:https://www.nelsonhockey.org.nz
X-WR-CALDESC:Events for Nelson Hockey Association (1993) Inc
REFRESH-INTERVAL;VALUE=DURATION:PT1H
X-Robots-Tag:noindex
X-PUBLISHED-TTL:PT1H
BEGIN:VTIMEZONE
TZID:Pacific/Auckland
BEGIN:STANDARD
TZOFFSETFROM:+1300
TZOFFSETTO:+1200
TZNAME:NZST
DTSTART:20250405T140000
END:STANDARD
BEGIN:DAYLIGHT
TZOFFSETFROM:+1200
TZOFFSETTO:+1300
TZNAME:NZDT
DTSTART:20250927T140000
END:DAYLIGHT
BEGIN:STANDARD
TZOFFSETFROM:+1300
TZOFFSETTO:+1200
TZNAME:NZST
DTSTART:20260404T140000
END:STANDARD
BEGIN:DAYLIGHT
TZOFFSETFROM:+1200
TZOFFSETTO:+1300
TZNAME:NZDT
DTSTART:20260926T140000
END:DAYLIGHT
BEGIN:STANDARD
TZOFFSETFROM:+1300
TZOFFSETTO:+1200
TZNAME:NZST
DTSTART:20270403T140000
END:STANDARD
BEGIN:DAYLIGHT
TZOFFSETFROM:+1200
TZOFFSETTO:+1300
TZNAME:NZDT
DTSTART:20270925T140000
END:DAYLIGHT
END:VTIMEZONE
BEGIN:VEVENT
DTSTART;TZID=Pacific/Auckland:20260619T175500
DTEND;TZID=Pacific/Auckland:20260619T185500
DTSTAMP:20260426T122903
CREATED:20260423T012010Z
LAST-MODIFIED:20260423T012010Z
UID:26248-1781891700-1781895300@www.nelsonhockey.org.nz
SUMMARY:🏒 Garin Senior Girls vs NCG Whiti Te Rā
DESCRIPTION:
URL:https://www.nelsonhockey.org.nz/event/%f0%9f%8f%92-garin-senior-girls-vs-ncg-whiti-te-ra/
LOCATION:Tasman/Nelson
CATEGORIES:Club Competition Week
END:VEVENT
BEGIN:VEVENT
DTSTART;TZID=Pacific/Auckland:20260619T192000
DTEND;TZID=Pacific/Auckland:20260619T202000
DTSTAMP:20260426T122903
CREATED:20260423T012009Z
LAST-MODIFIED:20260423T012009Z
UID:26249-1781896800-1781900400@www.nelsonhockey.org.nz
SUMMARY:🏒 Garin Junior Girls vs NCG Tirohia Mārama
DESCRIPTION:
URL:https://www.nelsonhockey.org.nz/event/%f0%9f%8f%92-garin-junior-girls-vs-ncg-tirohia-marama/
LOCATION:Tasman/Nelson
CATEGORIES:Club Competition Week
END:VEVENT
BEGIN:VEVENT
DTSTART;TZID=Pacific/Auckland:20260619T192000
DTEND;TZID=Pacific/Auckland:20260619T202000
DTSTAMP:20260426T122903
CREATED:20260423T012036Z
LAST-MODIFIED:20260423T012036Z
UID:26247-1781896800-1781900400@www.nelsonhockey.org.nz
SUMMARY:🏒 Waimea College Tasman vs NCG Piki Mai
DESCRIPTION:
URL:https://www.nelsonhockey.org.nz/event/%f0%9f%8f%92-waimea-college-tasman-vs-ncg-piki-mai/
LOCATION:Tasman/Nelson
CATEGORIES:Club Competition Week
END:VEVENT
BEGIN:VEVENT
DTSTART;TZID=Pacific/Auckland:20260620T133000
DTEND;TZID=Pacific/Auckland:20260620T143000
DTSTAMP:20260426T122903
CREATED:20260423T003343Z
LAST-MODIFIED:20260423T003343Z
UID:25946-1781962200-1781965800@www.nelsonhockey.org.nz
SUMMARY:🏒 Waimai United P1 Women vs Stoke P1 Women
DESCRIPTION:
URL:https://www.nelsonhockey.org.nz/event/%f0%9f%8f%92-waimai-united-p1-women-vs-stoke-p1-women-2/
LOCATION:Tasman/Nelson
CATEGORIES:Club Competition Week
END:VEVENT
BEGIN:VEVENT
DTSTART;TZID=Pacific/Auckland:20260620T134500
DTEND;TZID=Pacific/Auckland:20260620T144500
DTSTAMP:20260426T122903
CREATED:20260423T003428Z
LAST-MODIFIED:20260423T003428Z
UID:25930-1781963100-1781966700@www.nelsonhockey.org.nz
SUMMARY:🏒 Tasman Black vs Waimai United P1 Men
DESCRIPTION:
URL:https://www.nelsonhockey.org.nz/event/%f0%9f%8f%92-tasman-black-vs-waimai-united-p1-men/
LOCATION:Tasman/Nelson
CATEGORIES:Club Competition Week
END:VEVENT
BEGIN:VEVENT
DTSTART;TZID=Pacific/Auckland:20260620T151500
DTEND;TZID=Pacific/Auckland:20260620T161500
DTSTAMP:20260426T122903
CREATED:20260423T003343Z
LAST-MODIFIED:20260423T003343Z
UID:25945-1781968500-1781972100@www.nelsonhockey.org.nz
SUMMARY:🏒 Federal Premier Women vs Tasman Black Women's P1
DESCRIPTION:
URL:https://www.nelsonhockey.org.nz/event/%f0%9f%8f%92-federal-premier-women-vs-tasman-black-womens-p1-2/
LOCATION:Tasman/Nelson
CATEGORIES:Club Competition Week
END:VEVENT
BEGIN:VEVENT
DTSTART;TZID=Pacific/Auckland:20260620T153000
DTEND;TZID=Pacific/Auckland:20260620T163000
DTSTAMP:20260426T122903
CREATED:20260423T003428Z
LAST-MODIFIED:20260423T003428Z
UID:25931-1781969400-1781973000@www.nelsonhockey.org.nz
SUMMARY:🏒 Tasman White vs Federal Premier Men
DESCRIPTION:
URL:https://www.nelsonhockey.org.nz/event/%f0%9f%8f%92-tasman-white-vs-federal-premier-men/
LOCATION:Tasman/Nelson
CATEGORIES:Club Competition Week
END:VEVENT
BEGIN:VEVENT
DTSTART;TZID=Pacific/Auckland:20260621T110000
DTEND;TZID=Pacific/Auckland:20260621T120000
DTSTAMP:20260426T122903
CREATED:20260423T004805Z
LAST-MODIFIED:20260423T004805Z
UID:26080-1782039600-1782043200@www.nelsonhockey.org.nz
SUMMARY:🏒 Stoke Gold vs Tasman Women's P2
DESCRIPTION:
URL:https://www.nelsonhockey.org.nz/event/%f0%9f%8f%92-stoke-gold-vs-tasman-womens-p2/
LOCATION:Tasman/Nelson
CATEGORIES:Club Competition Week
END:VEVENT
BEGIN:VEVENT
DTSTART;TZID=Pacific/Auckland:20260621T111500
DTEND;TZID=Pacific/Auckland:20260621T121500
DTSTAMP:20260426T122903
CREATED:20260423T004504Z
LAST-MODIFIED:20260423T004504Z
UID:26066-1782040500-1782044100@www.nelsonhockey.org.nz
SUMMARY:🏒 Tasman P2 Mens vs Stoke Gold P2 Men
DESCRIPTION:
URL:https://www.nelsonhockey.org.nz/event/%f0%9f%8f%92-tasman-p2-mens-vs-stoke-gold-p2-men/
LOCATION:Tasman/Nelson
CATEGORIES:Club Competition Week
END:VEVENT
BEGIN:VEVENT
DTSTART;TZID=Pacific/Auckland:20260621T124500
DTEND;TZID=Pacific/Auckland:20260621T134500
DTSTAMP:20260426T122903
CREATED:20260423T004805Z
LAST-MODIFIED:20260423T004805Z
UID:26078-1782045900-1782049500@www.nelsonhockey.org.nz
SUMMARY:🏒 Federal Senior Women vs Rewa Hockey
DESCRIPTION:
URL:https://www.nelsonhockey.org.nz/event/%f0%9f%8f%92-federal-senior-women-vs-rewa-hockey/
LOCATION:Tasman/Nelson
CATEGORIES:Club Competition Week
END:VEVENT
BEGIN:VEVENT
DTSTART;TZID=Pacific/Auckland:20260621T130000
DTEND;TZID=Pacific/Auckland:20260621T140000
DTSTAMP:20260426T122903
CREATED:20260423T003835Z
LAST-MODIFIED:20260423T003835Z
UID:26042-1782046800-1782050400@www.nelsonhockey.org.nz
SUMMARY:🏒 Federal Coffin Dodgers vs Federal Senior Men
DESCRIPTION:
URL:https://www.nelsonhockey.org.nz/event/%f0%9f%8f%92-federal-coffin-dodgers-vs-federal-senior-men/
LOCATION:Tasman/Nelson
CATEGORIES:Club Competition Week
END:VEVENT
BEGIN:VEVENT
DTSTART;TZID=Pacific/Auckland:20260621T143000
DTEND;TZID=Pacific/Auckland:20260621T153000
DTSTAMP:20260426T122903
CREATED:20260423T004804Z
LAST-MODIFIED:20260423T004804Z
UID:26079-1782052200-1782055800@www.nelsonhockey.org.nz
SUMMARY:🏒 Waimai United P2 Women vs Endeavours
DESCRIPTION:
URL:https://www.nelsonhockey.org.nz/event/%f0%9f%8f%92-waimai-united-p2-women-vs-endeavours/
LOCATION:Tasman/Nelson
CATEGORIES:Club Competition Week
END:VEVENT
BEGIN:VEVENT
DTSTART;TZID=Pacific/Auckland:20260621T144500
DTEND;TZID=Pacific/Auckland:20260621T154500
DTSTAMP:20260426T122903
CREATED:20260423T004502Z
LAST-MODIFIED:20260423T004502Z
UID:26067-1782053100-1782056700@www.nelsonhockey.org.nz
SUMMARY:🏒 Waimai United P2 Men vs Nelson College
DESCRIPTION:
URL:https://www.nelsonhockey.org.nz/event/%f0%9f%8f%92-waimai-united-p2-men-vs-nelson-college/
LOCATION:Tasman/Nelson
CATEGORIES:Club Competition Week
END:VEVENT
BEGIN:VEVENT
DTSTART;TZID=Pacific/Auckland:20260624T180000
DTEND;TZID=Pacific/Auckland:20260624T190000
DTSTAMP:20260426T122903
CREATED:20260328T084316Z
LAST-MODIFIED:20260328T084316Z
UID:25388-1782324000-1782327600@www.nelsonhockey.org.nz
SUMMARY:NHA GK Training
DESCRIPTION:
URL:https://www.nelsonhockey.org.nz/event/nha-gk-training-15/2026-06-24/
LOCATION:NELSON HOCKEY\, SAXTON FIELDS\, Nelson\, Tasman/Nelson\, 7011\, New Zealand
CATEGORIES:GK TRAINING PROGRAM
ATTACH;FMTTYPE=image/jpeg:https://www.nelsonhockey.org.nz/wp-content/uploads/2025/10/2026-NHA-GK-Training-Program.jpg
GEO:-41.3280994;173.2181794
X-APPLE-STRUCTURED-LOCATION;VALUE=URI;X-ADDRESS=NELSON HOCKEY SAXTON FIELDS Nelson Tasman/Nelson 7011 New Zealand;X-APPLE-RADIUS=500;X-TITLE=SAXTON FIELDS:geo:173.2181794,-41.3280994
END:VEVENT
BEGIN:VEVENT
DTSTART;TZID=Pacific/Auckland:20260624T190000
DTEND;TZID=Pacific/Auckland:20260624T210000
DTSTAMP:20260426T122903
CREATED:20260329T012526Z
LAST-MODIFIED:20260329T012526Z
UID:26312-1782327600-1782334800@www.nelsonhockey.org.nz
SUMMARY:NELSON SR.M&W Training
DESCRIPTION:
URL:https://www.nelsonhockey.org.nz/event/nelson-sr-mw-training/2026-06-24/
LOCATION:NELSON HOCKEY\, SAXTON FIELDS\, Nelson\, Tasman/Nelson\, 7011\, New Zealand
CATEGORIES:SENIORS
ATTACH;FMTTYPE=image/jpeg:https://www.nelsonhockey.org.nz/wp-content/uploads/2025/04/Nelson-Hockey_NHA-Representative_Blog-Post-Banner_Nov22.jpg
GEO:-41.3280994;173.2181794
X-APPLE-STRUCTURED-LOCATION;VALUE=URI;X-ADDRESS=NELSON HOCKEY SAXTON FIELDS Nelson Tasman/Nelson 7011 New Zealand;X-APPLE-RADIUS=500;X-TITLE=SAXTON FIELDS:geo:173.2181794,-41.3280994
END:VEVENT
BEGIN:VEVENT
DTSTART;TZID=Pacific/Auckland:20260626T163000
DTEND;TZID=Pacific/Auckland:20260626T173000
DTSTAMP:20260426T122903
CREATED:20260423T005052Z
LAST-MODIFIED:20260423T005052Z
UID:26129-1782491400-1782495000@www.nelsonhockey.org.nz
SUMMARY:🏒 NC Navy vs Waimai United Secondary
DESCRIPTION:
URL:https://www.nelsonhockey.org.nz/event/%f0%9f%8f%92-nc-navy-vs-waimai-united-secondary/
LOCATION:Tasman/Nelson
CATEGORIES:Club Competition Week
END:VEVENT
BEGIN:VEVENT
DTSTART;TZID=Pacific/Auckland:20260626T163000
DTEND;TZID=Pacific/Auckland:20260626T173000
DTSTAMP:20260426T122903
CREATED:20260423T012037Z
LAST-MODIFIED:20260423T012037Z
UID:26245-1782491400-1782495000@www.nelsonhockey.org.nz
SUMMARY:🏒 NCG Whiti Te Rā vs Stoke Mixed Secondary
DESCRIPTION:
URL:https://www.nelsonhockey.org.nz/event/%f0%9f%8f%92-ncg-whiti-te-ra-vs-stoke-mixed-secondary/
LOCATION:Tasman/Nelson
CATEGORIES:Club Competition Week
END:VEVENT
BEGIN:VEVENT
DTSTART;TZID=Pacific/Auckland:20260626T175500
DTEND;TZID=Pacific/Auckland:20260626T185500
DTSTAMP:20260426T122903
CREATED:20260423T005052Z
LAST-MODIFIED:20260423T005052Z
UID:26131-1782496500-1782500100@www.nelsonhockey.org.nz
SUMMARY:🏒 Garin Boys vs NC Sky
DESCRIPTION:
URL:https://www.nelsonhockey.org.nz/event/%f0%9f%8f%92-garin-boys-vs-nc-sky/
LOCATION:Tasman/Nelson
CATEGORIES:Club Competition Week
END:VEVENT
BEGIN:VEVENT
DTSTART;TZID=Pacific/Auckland:20260626T175500
DTEND;TZID=Pacific/Auckland:20260626T185500
DTSTAMP:20260426T122903
CREATED:20260423T012005Z
LAST-MODIFIED:20260423T012005Z
UID:26262-1782496500-1782500100@www.nelsonhockey.org.nz
SUMMARY:🏒 NCG Tirohia Mārama vs Tasman Titans
DESCRIPTION:
URL:https://www.nelsonhockey.org.nz/event/%f0%9f%8f%92-ncg-tirohia-marama-vs-tasman-titans/
LOCATION:Tasman/Nelson
CATEGORIES:Club Competition Week
END:VEVENT
BEGIN:VEVENT
DTSTART;TZID=Pacific/Auckland:20260626T192000
DTEND;TZID=Pacific/Auckland:20260626T202000
DTSTAMP:20260426T122903
CREATED:20260423T012036Z
LAST-MODIFIED:20260423T012036Z
UID:26244-1782501600-1782505200@www.nelsonhockey.org.nz
SUMMARY:🏒 NCG Piki Mai vs Garin Senior Girls
DESCRIPTION:
URL:https://www.nelsonhockey.org.nz/event/%f0%9f%8f%92-ncg-piki-mai-vs-garin-senior-girls/
LOCATION:Tasman/Nelson
CATEGORIES:Club Competition Week
END:VEVENT
BEGIN:VEVENT
DTSTART;TZID=Pacific/Auckland:20260626T192000
DTEND;TZID=Pacific/Auckland:20260626T202000
DTSTAMP:20260426T122903
CREATED:20260423T012036Z
LAST-MODIFIED:20260423T012036Z
UID:26246-1782501600-1782505200@www.nelsonhockey.org.nz
SUMMARY:🏒 Waimea College Tasman vs Garin Junior Girls
DESCRIPTION:
URL:https://www.nelsonhockey.org.nz/event/%f0%9f%8f%92-waimea-college-tasman-vs-garin-junior-girls/
LOCATION:Tasman/Nelson
CATEGORIES:Club Competition Week
END:VEVENT
BEGIN:VEVENT
DTSTART;TZID=Pacific/Auckland:20260627T133000
DTEND;TZID=Pacific/Auckland:20260627T143000
DTSTAMP:20260426T122903
CREATED:20260423T003428Z
LAST-MODIFIED:20260423T003428Z
UID:25929-1782567000-1782570600@www.nelsonhockey.org.nz
SUMMARY:🏒 Federal Premier Men vs Stoke Premier Men
DESCRIPTION:
URL:https://www.nelsonhockey.org.nz/event/%f0%9f%8f%92-federal-premier-men-vs-stoke-premier-men/
LOCATION:Tasman/Nelson
CATEGORIES:Club Competition Week
END:VEVENT
BEGIN:VEVENT
DTSTART;TZID=Pacific/Auckland:20260627T134500
DTEND;TZID=Pacific/Auckland:20260627T144500
DTSTAMP:20260426T122903
CREATED:20260423T003344Z
LAST-MODIFIED:20260423T003344Z
UID:25943-1782567900-1782571500@www.nelsonhockey.org.nz
SUMMARY:🏒 Federal Premier Women vs Stoke P1 Women
DESCRIPTION:
URL:https://www.nelsonhockey.org.nz/event/%f0%9f%8f%92-federal-premier-women-vs-stoke-p1-women-2/
LOCATION:Tasman/Nelson
CATEGORIES:Club Competition Week
END:VEVENT
BEGIN:VEVENT
DTSTART;TZID=Pacific/Auckland:20260627T151500
DTEND;TZID=Pacific/Auckland:20260627T161500
DTSTAMP:20260426T122903
CREATED:20260423T003429Z
LAST-MODIFIED:20260423T003429Z
UID:25925-1782573300-1782576900@www.nelsonhockey.org.nz
SUMMARY:🏒 Tasman White vs Tasman Black
DESCRIPTION:
URL:https://www.nelsonhockey.org.nz/event/%f0%9f%8f%92-tasman-white-vs-tasman-black/
LOCATION:Tasman/Nelson
CATEGORIES:Club Competition Week
END:VEVENT
BEGIN:VEVENT
DTSTART;TZID=Pacific/Auckland:20260627T153000
DTEND;TZID=Pacific/Auckland:20260627T163000
DTSTAMP:20260426T122903
CREATED:20260423T003343Z
LAST-MODIFIED:20260423T003343Z
UID:25942-1782574200-1782577800@www.nelsonhockey.org.nz
SUMMARY:🏒 Tasman Black Women's P1 vs Waimai United P1 Women
DESCRIPTION:
URL:https://www.nelsonhockey.org.nz/event/%f0%9f%8f%92-tasman-black-womens-p1-vs-waimai-united-p1-women-2/
LOCATION:Tasman/Nelson
CATEGORIES:Club Competition Week
END:VEVENT
BEGIN:VEVENT
DTSTART;TZID=Pacific/Auckland:20260628T110000
DTEND;TZID=Pacific/Auckland:20260628T120000
DTSTAMP:20260426T122903
CREATED:20260423T004504Z
LAST-MODIFIED:20260423T004504Z
UID:26065-1782644400-1782648000@www.nelsonhockey.org.nz
SUMMARY:🏒 Stoke Gold P2 Men vs Federal Coffin Dodgers
DESCRIPTION:
URL:https://www.nelsonhockey.org.nz/event/%f0%9f%8f%92-stoke-gold-p2-men-vs-federal-coffin-dodgers/
LOCATION:Tasman/Nelson
CATEGORIES:Club Competition Week
END:VEVENT
BEGIN:VEVENT
DTSTART;TZID=Pacific/Auckland:20260628T111500
DTEND;TZID=Pacific/Auckland:20260628T121500
DTSTAMP:20260426T122903
CREATED:20260423T005054Z
LAST-MODIFIED:20260423T005054Z
UID:26115-1782645300-1782648900@www.nelsonhockey.org.nz
SUMMARY:🏒 Endeavours vs Senior/Open Women NCG 1st XI Hine Tū
DESCRIPTION:
URL:https://www.nelsonhockey.org.nz/event/%f0%9f%8f%92-endeavours-vs-senior-open-women-ncg-1st-xi-hine-tu/
LOCATION:Tasman/Nelson
CATEGORIES:Club Competition Week
END:VEVENT
BEGIN:VEVENT
DTSTART;TZID=Pacific/Auckland:20260628T124500
DTEND;TZID=Pacific/Auckland:20260628T134500
DTSTAMP:20260426T122903
CREATED:20260423T004805Z
LAST-MODIFIED:20260423T004805Z
UID:26073-1782650700-1782654300@www.nelsonhockey.org.nz
SUMMARY:🏒 Nelson College vs Tasman P2 Mens
DESCRIPTION:
URL:https://www.nelsonhockey.org.nz/event/%f0%9f%8f%92-nelson-college-vs-tasman-p2-mens/
LOCATION:Tasman/Nelson
CATEGORIES:Club Competition Week
END:VEVENT
BEGIN:VEVENT
DTSTART;TZID=Pacific/Auckland:20260628T130000
DTEND;TZID=Pacific/Auckland:20260628T140000
DTSTAMP:20260426T122903
CREATED:20260423T004805Z
LAST-MODIFIED:20260423T004805Z
UID:26077-1782651600-1782655200@www.nelsonhockey.org.nz
SUMMARY:🏒 Tasman Women's P2 vs Federal Senior Women
DESCRIPTION:
URL:https://www.nelsonhockey.org.nz/event/%f0%9f%8f%92-tasman-womens-p2-vs-federal-senior-women/
LOCATION:Tasman/Nelson
CATEGORIES:Club Competition Week
END:VEVENT
BEGIN:VEVENT
DTSTART;TZID=Pacific/Auckland:20260628T143000
DTEND;TZID=Pacific/Auckland:20260628T153000
DTSTAMP:20260426T122903
CREATED:20260423T004504Z
LAST-MODIFIED:20260423T004504Z
UID:26064-1782657000-1782660600@www.nelsonhockey.org.nz
SUMMARY:🏒 Federal Senior Men vs Waimai United P2 Men
DESCRIPTION:
URL:https://www.nelsonhockey.org.nz/event/%f0%9f%8f%92-federal-senior-men-vs-waimai-united-p2-men/
LOCATION:Tasman/Nelson
CATEGORIES:Club Competition Week
END:VEVENT
END:VCALENDAR