BEGIN:VCALENDAR
VERSION:2.0
PRODID:-//Nelson Hockey Association (1993) Inc - ECPv6.15.16//NONSGML v1.0//EN
CALSCALE:GREGORIAN
METHOD:PUBLISH
X-WR-CALNAME:Nelson Hockey Association (1993) Inc
X-ORIGINAL-URL:https://www.nelsonhockey.org.nz
X-WR-CALDESC:Events for Nelson Hockey Association (1993) Inc
REFRESH-INTERVAL;VALUE=DURATION:PT1H
X-Robots-Tag:noindex
X-PUBLISHED-TTL:PT1H
BEGIN:VTIMEZONE
TZID:Pacific/Auckland
BEGIN:STANDARD
TZOFFSETFROM:+1300
TZOFFSETTO:+1200
TZNAME:NZST
DTSTART:20250405T140000
END:STANDARD
BEGIN:DAYLIGHT
TZOFFSETFROM:+1200
TZOFFSETTO:+1300
TZNAME:NZDT
DTSTART:20250927T140000
END:DAYLIGHT
BEGIN:STANDARD
TZOFFSETFROM:+1300
TZOFFSETTO:+1200
TZNAME:NZST
DTSTART:20260404T140000
END:STANDARD
BEGIN:DAYLIGHT
TZOFFSETFROM:+1200
TZOFFSETTO:+1300
TZNAME:NZDT
DTSTART:20260926T140000
END:DAYLIGHT
BEGIN:STANDARD
TZOFFSETFROM:+1300
TZOFFSETTO:+1200
TZNAME:NZST
DTSTART:20270403T140000
END:STANDARD
BEGIN:DAYLIGHT
TZOFFSETFROM:+1200
TZOFFSETTO:+1300
TZNAME:NZDT
DTSTART:20270925T140000
END:DAYLIGHT
END:VTIMEZONE
BEGIN:VEVENT
DTSTART;TZID=Pacific/Auckland:20260528T160000
DTEND;TZID=Pacific/Auckland:20260528T200000
DTSTAMP:20260420T014134
CREATED:20260328T084750Z
LAST-MODIFIED:20260328T084750Z
UID:25404-1779984000-1779998400@www.nelsonhockey.org.nz
SUMMARY:Player Development Program II -(U13/U16 & U18)
DESCRIPTION:
URL:https://www.nelsonhockey.org.nz/event/player-development-program-ii-u13-u16-u18/2026-05-28/
LOCATION:NELSON HOCKEY\, SAXTON FIELDS\, Nelson\, Tasman/Nelson\, 7011\, New Zealand
CATEGORIES:U13-U15 Development Programme
ATTACH;FMTTYPE=image/jpeg:https://www.nelsonhockey.org.nz/wp-content/uploads/2026/03/2026-NHA-U14-U16-DEVELOPMENT-PROGRAM-II.jpg
GEO:-41.3280994;173.2181794
X-APPLE-STRUCTURED-LOCATION;VALUE=URI;X-ADDRESS=NELSON HOCKEY SAXTON FIELDS Nelson Tasman/Nelson 7011 New Zealand;X-APPLE-RADIUS=500;X-TITLE=SAXTON FIELDS:geo:173.2181794,-41.3280994
END:VEVENT
BEGIN:VEVENT
DTSTART;TZID=Pacific/Auckland:20260528T190000
DTEND;TZID=Pacific/Auckland:20260528T210000
DTSTAMP:20260420T014134
CREATED:20260329T012526Z
LAST-MODIFIED:20260329T012526Z
UID:25438-1779994800-1780002000@www.nelsonhockey.org.nz
SUMMARY:NELSON SR.M&W Training
DESCRIPTION:
URL:https://www.nelsonhockey.org.nz/event/nelson-sr-mw-training/2026-05-28/
LOCATION:NELSON HOCKEY\, SAXTON FIELDS\, Nelson\, Tasman/Nelson\, 7011\, New Zealand
CATEGORIES:SENIORS
ATTACH;FMTTYPE=image/jpeg:https://www.nelsonhockey.org.nz/wp-content/uploads/2025/04/Nelson-Hockey_NHA-Representative_Blog-Post-Banner_Nov22.jpg
GEO:-41.3280994;173.2181794
X-APPLE-STRUCTURED-LOCATION;VALUE=URI;X-ADDRESS=NELSON HOCKEY SAXTON FIELDS Nelson Tasman/Nelson 7011 New Zealand;X-APPLE-RADIUS=500;X-TITLE=SAXTON FIELDS:geo:173.2181794,-41.3280994
END:VEVENT
BEGIN:VEVENT
DTSTART;TZID=Pacific/Auckland:20260603T180000
DTEND;TZID=Pacific/Auckland:20260603T190000
DTSTAMP:20260420T014134
CREATED:20260328T084316Z
LAST-MODIFIED:20260328T084316Z
UID:25385-1780509600-1780513200@www.nelsonhockey.org.nz
SUMMARY:NHA GK Training
DESCRIPTION:
URL:https://www.nelsonhockey.org.nz/event/nha-gk-training-15/2026-06-03/
LOCATION:NELSON HOCKEY\, SAXTON FIELDS\, Nelson\, Tasman/Nelson\, 7011\, New Zealand
CATEGORIES:GK TRAINING PROGRAM
ATTACH;FMTTYPE=image/jpeg:https://www.nelsonhockey.org.nz/wp-content/uploads/2025/10/2026-NHA-GK-Training-Program.jpg
GEO:-41.3280994;173.2181794
X-APPLE-STRUCTURED-LOCATION;VALUE=URI;X-ADDRESS=NELSON HOCKEY SAXTON FIELDS Nelson Tasman/Nelson 7011 New Zealand;X-APPLE-RADIUS=500;X-TITLE=SAXTON FIELDS:geo:173.2181794,-41.3280994
END:VEVENT
BEGIN:VEVENT
DTSTART;TZID=Pacific/Auckland:20260604T190000
DTEND;TZID=Pacific/Auckland:20260604T210000
DTSTAMP:20260420T014134
CREATED:20260329T012526Z
LAST-MODIFIED:20260329T012526Z
UID:25439-1780599600-1780606800@www.nelsonhockey.org.nz
SUMMARY:NELSON SR.M&W Training
DESCRIPTION:
URL:https://www.nelsonhockey.org.nz/event/nelson-sr-mw-training/2026-06-04/
LOCATION:NELSON HOCKEY\, SAXTON FIELDS\, Nelson\, Tasman/Nelson\, 7011\, New Zealand
CATEGORIES:SENIORS
ATTACH;FMTTYPE=image/jpeg:https://www.nelsonhockey.org.nz/wp-content/uploads/2025/04/Nelson-Hockey_NHA-Representative_Blog-Post-Banner_Nov22.jpg
GEO:-41.3280994;173.2181794
X-APPLE-STRUCTURED-LOCATION;VALUE=URI;X-ADDRESS=NELSON HOCKEY SAXTON FIELDS Nelson Tasman/Nelson 7011 New Zealand;X-APPLE-RADIUS=500;X-TITLE=SAXTON FIELDS:geo:173.2181794,-41.3280994
END:VEVENT
BEGIN:VEVENT
DTSTART;TZID=Pacific/Auckland:20260610T180000
DTEND;TZID=Pacific/Auckland:20260610T190000
DTSTAMP:20260420T014134
CREATED:20260328T084316Z
LAST-MODIFIED:20260328T084316Z
UID:25386-1781114400-1781118000@www.nelsonhockey.org.nz
SUMMARY:NHA GK Training
DESCRIPTION:
URL:https://www.nelsonhockey.org.nz/event/nha-gk-training-15/2026-06-10/
LOCATION:NELSON HOCKEY\, SAXTON FIELDS\, Nelson\, Tasman/Nelson\, 7011\, New Zealand
CATEGORIES:GK TRAINING PROGRAM
ATTACH;FMTTYPE=image/jpeg:https://www.nelsonhockey.org.nz/wp-content/uploads/2025/10/2026-NHA-GK-Training-Program.jpg
GEO:-41.3280994;173.2181794
X-APPLE-STRUCTURED-LOCATION;VALUE=URI;X-ADDRESS=NELSON HOCKEY SAXTON FIELDS Nelson Tasman/Nelson 7011 New Zealand;X-APPLE-RADIUS=500;X-TITLE=SAXTON FIELDS:geo:173.2181794,-41.3280994
END:VEVENT
BEGIN:VEVENT
DTSTART;TZID=Pacific/Auckland:20260611T190000
DTEND;TZID=Pacific/Auckland:20260611T210000
DTSTAMP:20260420T014134
CREATED:20260329T012526Z
LAST-MODIFIED:20260329T012526Z
UID:25440-1781204400-1781211600@www.nelsonhockey.org.nz
SUMMARY:NELSON SR.M&W Training
DESCRIPTION:
URL:https://www.nelsonhockey.org.nz/event/nelson-sr-mw-training/2026-06-11/
LOCATION:NELSON HOCKEY\, SAXTON FIELDS\, Nelson\, Tasman/Nelson\, 7011\, New Zealand
CATEGORIES:SENIORS
ATTACH;FMTTYPE=image/jpeg:https://www.nelsonhockey.org.nz/wp-content/uploads/2025/04/Nelson-Hockey_NHA-Representative_Blog-Post-Banner_Nov22.jpg
GEO:-41.3280994;173.2181794
X-APPLE-STRUCTURED-LOCATION;VALUE=URI;X-ADDRESS=NELSON HOCKEY SAXTON FIELDS Nelson Tasman/Nelson 7011 New Zealand;X-APPLE-RADIUS=500;X-TITLE=SAXTON FIELDS:geo:173.2181794,-41.3280994
END:VEVENT
BEGIN:VEVENT
DTSTART;TZID=Pacific/Auckland:20260617T180000
DTEND;TZID=Pacific/Auckland:20260617T190000
DTSTAMP:20260420T014134
CREATED:20260328T084316Z
LAST-MODIFIED:20260328T084316Z
UID:25387-1781719200-1781722800@www.nelsonhockey.org.nz
SUMMARY:NHA GK Training
DESCRIPTION:
URL:https://www.nelsonhockey.org.nz/event/nha-gk-training-15/2026-06-17/
LOCATION:NELSON HOCKEY\, SAXTON FIELDS\, Nelson\, Tasman/Nelson\, 7011\, New Zealand
CATEGORIES:GK TRAINING PROGRAM
ATTACH;FMTTYPE=image/jpeg:https://www.nelsonhockey.org.nz/wp-content/uploads/2025/10/2026-NHA-GK-Training-Program.jpg
GEO:-41.3280994;173.2181794
X-APPLE-STRUCTURED-LOCATION;VALUE=URI;X-ADDRESS=NELSON HOCKEY SAXTON FIELDS Nelson Tasman/Nelson 7011 New Zealand;X-APPLE-RADIUS=500;X-TITLE=SAXTON FIELDS:geo:173.2181794,-41.3280994
END:VEVENT
BEGIN:VEVENT
DTSTART;TZID=Pacific/Auckland:20260618T190000
DTEND;TZID=Pacific/Auckland:20260618T210000
DTSTAMP:20260420T014134
CREATED:20260329T012526Z
LAST-MODIFIED:20260329T012526Z
UID:25441-1781809200-1781816400@www.nelsonhockey.org.nz
SUMMARY:NELSON SR.M&W Training
DESCRIPTION:
URL:https://www.nelsonhockey.org.nz/event/nelson-sr-mw-training/2026-06-18/
LOCATION:NELSON HOCKEY\, SAXTON FIELDS\, Nelson\, Tasman/Nelson\, 7011\, New Zealand
CATEGORIES:SENIORS
ATTACH;FMTTYPE=image/jpeg:https://www.nelsonhockey.org.nz/wp-content/uploads/2025/04/Nelson-Hockey_NHA-Representative_Blog-Post-Banner_Nov22.jpg
GEO:-41.3280994;173.2181794
X-APPLE-STRUCTURED-LOCATION;VALUE=URI;X-ADDRESS=NELSON HOCKEY SAXTON FIELDS Nelson Tasman/Nelson 7011 New Zealand;X-APPLE-RADIUS=500;X-TITLE=SAXTON FIELDS:geo:173.2181794,-41.3280994
END:VEVENT
BEGIN:VEVENT
DTSTART;TZID=Pacific/Auckland:20260624T180000
DTEND;TZID=Pacific/Auckland:20260624T190000
DTSTAMP:20260420T014134
CREATED:20260328T084316Z
LAST-MODIFIED:20260328T084316Z
UID:25388-1782324000-1782327600@www.nelsonhockey.org.nz
SUMMARY:NHA GK Training
DESCRIPTION:
URL:https://www.nelsonhockey.org.nz/event/nha-gk-training-15/2026-06-24/
LOCATION:NELSON HOCKEY\, SAXTON FIELDS\, Nelson\, Tasman/Nelson\, 7011\, New Zealand
CATEGORIES:GK TRAINING PROGRAM
ATTACH;FMTTYPE=image/jpeg:https://www.nelsonhockey.org.nz/wp-content/uploads/2025/10/2026-NHA-GK-Training-Program.jpg
GEO:-41.3280994;173.2181794
X-APPLE-STRUCTURED-LOCATION;VALUE=URI;X-ADDRESS=NELSON HOCKEY SAXTON FIELDS Nelson Tasman/Nelson 7011 New Zealand;X-APPLE-RADIUS=500;X-TITLE=SAXTON FIELDS:geo:173.2181794,-41.3280994
END:VEVENT
BEGIN:VEVENT
DTSTART;TZID=Pacific/Auckland:20260625T190000
DTEND;TZID=Pacific/Auckland:20260625T210000
DTSTAMP:20260420T014134
CREATED:20260329T012526Z
LAST-MODIFIED:20260329T012526Z
UID:25442-1782414000-1782421200@www.nelsonhockey.org.nz
SUMMARY:NELSON SR.M&W Training
DESCRIPTION:
URL:https://www.nelsonhockey.org.nz/event/nelson-sr-mw-training/2026-06-25/
LOCATION:NELSON HOCKEY\, SAXTON FIELDS\, Nelson\, Tasman/Nelson\, 7011\, New Zealand
CATEGORIES:SENIORS
ATTACH;FMTTYPE=image/jpeg:https://www.nelsonhockey.org.nz/wp-content/uploads/2025/04/Nelson-Hockey_NHA-Representative_Blog-Post-Banner_Nov22.jpg
GEO:-41.3280994;173.2181794
X-APPLE-STRUCTURED-LOCATION;VALUE=URI;X-ADDRESS=NELSON HOCKEY SAXTON FIELDS Nelson Tasman/Nelson 7011 New Zealand;X-APPLE-RADIUS=500;X-TITLE=SAXTON FIELDS:geo:173.2181794,-41.3280994
END:VEVENT
BEGIN:VEVENT
DTSTART;TZID=Pacific/Auckland:20260701T180000
DTEND;TZID=Pacific/Auckland:20260701T190000
DTSTAMP:20260420T014134
CREATED:20260328T084316Z
LAST-MODIFIED:20260328T084316Z
UID:25389-1782928800-1782932400@www.nelsonhockey.org.nz
SUMMARY:NHA GK Training
DESCRIPTION:
URL:https://www.nelsonhockey.org.nz/event/nha-gk-training-15/2026-07-01/
LOCATION:NELSON HOCKEY\, SAXTON FIELDS\, Nelson\, Tasman/Nelson\, 7011\, New Zealand
CATEGORIES:GK TRAINING PROGRAM
ATTACH;FMTTYPE=image/jpeg:https://www.nelsonhockey.org.nz/wp-content/uploads/2025/10/2026-NHA-GK-Training-Program.jpg
GEO:-41.3280994;173.2181794
X-APPLE-STRUCTURED-LOCATION;VALUE=URI;X-ADDRESS=NELSON HOCKEY SAXTON FIELDS Nelson Tasman/Nelson 7011 New Zealand;X-APPLE-RADIUS=500;X-TITLE=SAXTON FIELDS:geo:173.2181794,-41.3280994
END:VEVENT
BEGIN:VEVENT
DTSTART;TZID=Pacific/Auckland:20260702T190000
DTEND;TZID=Pacific/Auckland:20260702T210000
DTSTAMP:20260420T014134
CREATED:20260329T012526Z
LAST-MODIFIED:20260329T012526Z
UID:25443-1783018800-1783026000@www.nelsonhockey.org.nz
SUMMARY:NELSON SR.M&W Training
DESCRIPTION:
URL:https://www.nelsonhockey.org.nz/event/nelson-sr-mw-training/2026-07-02/
LOCATION:NELSON HOCKEY\, SAXTON FIELDS\, Nelson\, Tasman/Nelson\, 7011\, New Zealand
CATEGORIES:SENIORS
ATTACH;FMTTYPE=image/jpeg:https://www.nelsonhockey.org.nz/wp-content/uploads/2025/04/Nelson-Hockey_NHA-Representative_Blog-Post-Banner_Nov22.jpg
GEO:-41.3280994;173.2181794
X-APPLE-STRUCTURED-LOCATION;VALUE=URI;X-ADDRESS=NELSON HOCKEY SAXTON FIELDS Nelson Tasman/Nelson 7011 New Zealand;X-APPLE-RADIUS=500;X-TITLE=SAXTON FIELDS:geo:173.2181794,-41.3280994
END:VEVENT
BEGIN:VEVENT
DTSTART;TZID=Pacific/Auckland:20260708T180000
DTEND;TZID=Pacific/Auckland:20260708T190000
DTSTAMP:20260420T014134
CREATED:20260328T084316Z
LAST-MODIFIED:20260328T084316Z
UID:25390-1783533600-1783537200@www.nelsonhockey.org.nz
SUMMARY:NHA GK Training
DESCRIPTION:
URL:https://www.nelsonhockey.org.nz/event/nha-gk-training-15/2026-07-08/
LOCATION:NELSON HOCKEY\, SAXTON FIELDS\, Nelson\, Tasman/Nelson\, 7011\, New Zealand
CATEGORIES:GK TRAINING PROGRAM
ATTACH;FMTTYPE=image/jpeg:https://www.nelsonhockey.org.nz/wp-content/uploads/2025/10/2026-NHA-GK-Training-Program.jpg
GEO:-41.3280994;173.2181794
X-APPLE-STRUCTURED-LOCATION;VALUE=URI;X-ADDRESS=NELSON HOCKEY SAXTON FIELDS Nelson Tasman/Nelson 7011 New Zealand;X-APPLE-RADIUS=500;X-TITLE=SAXTON FIELDS:geo:173.2181794,-41.3280994
END:VEVENT
BEGIN:VEVENT
DTSTART;TZID=Pacific/Auckland:20260709T190000
DTEND;TZID=Pacific/Auckland:20260709T210000
DTSTAMP:20260420T014134
CREATED:20260329T012526Z
LAST-MODIFIED:20260329T012526Z
UID:25444-1783623600-1783630800@www.nelsonhockey.org.nz
SUMMARY:NELSON SR.M&W Training
DESCRIPTION:
URL:https://www.nelsonhockey.org.nz/event/nelson-sr-mw-training/2026-07-09/
LOCATION:NELSON HOCKEY\, SAXTON FIELDS\, Nelson\, Tasman/Nelson\, 7011\, New Zealand
CATEGORIES:SENIORS
ATTACH;FMTTYPE=image/jpeg:https://www.nelsonhockey.org.nz/wp-content/uploads/2025/04/Nelson-Hockey_NHA-Representative_Blog-Post-Banner_Nov22.jpg
GEO:-41.3280994;173.2181794
X-APPLE-STRUCTURED-LOCATION;VALUE=URI;X-ADDRESS=NELSON HOCKEY SAXTON FIELDS Nelson Tasman/Nelson 7011 New Zealand;X-APPLE-RADIUS=500;X-TITLE=SAXTON FIELDS:geo:173.2181794,-41.3280994
END:VEVENT
BEGIN:VEVENT
DTSTART;TZID=Pacific/Auckland:20260715T180000
DTEND;TZID=Pacific/Auckland:20260715T190000
DTSTAMP:20260420T014134
CREATED:20260328T084316Z
LAST-MODIFIED:20260328T084316Z
UID:25392-1784138400-1784142000@www.nelsonhockey.org.nz
SUMMARY:NHA GK Training
DESCRIPTION:
URL:https://www.nelsonhockey.org.nz/event/nha-gk-training-15/2026-07-15/
LOCATION:NELSON HOCKEY\, SAXTON FIELDS\, Nelson\, Tasman/Nelson\, 7011\, New Zealand
CATEGORIES:GK TRAINING PROGRAM
ATTACH;FMTTYPE=image/jpeg:https://www.nelsonhockey.org.nz/wp-content/uploads/2025/10/2026-NHA-GK-Training-Program.jpg
GEO:-41.3280994;173.2181794
X-APPLE-STRUCTURED-LOCATION;VALUE=URI;X-ADDRESS=NELSON HOCKEY SAXTON FIELDS Nelson Tasman/Nelson 7011 New Zealand;X-APPLE-RADIUS=500;X-TITLE=SAXTON FIELDS:geo:173.2181794,-41.3280994
END:VEVENT
BEGIN:VEVENT
DTSTART;TZID=Pacific/Auckland:20260716T190000
DTEND;TZID=Pacific/Auckland:20260716T210000
DTSTAMP:20260420T014134
CREATED:20260329T012526Z
LAST-MODIFIED:20260329T012526Z
UID:25445-1784228400-1784235600@www.nelsonhockey.org.nz
SUMMARY:NELSON SR.M&W Training
DESCRIPTION:
URL:https://www.nelsonhockey.org.nz/event/nelson-sr-mw-training/2026-07-16/
LOCATION:NELSON HOCKEY\, SAXTON FIELDS\, Nelson\, Tasman/Nelson\, 7011\, New Zealand
CATEGORIES:SENIORS
ATTACH;FMTTYPE=image/jpeg:https://www.nelsonhockey.org.nz/wp-content/uploads/2025/04/Nelson-Hockey_NHA-Representative_Blog-Post-Banner_Nov22.jpg
GEO:-41.3280994;173.2181794
X-APPLE-STRUCTURED-LOCATION;VALUE=URI;X-ADDRESS=NELSON HOCKEY SAXTON FIELDS Nelson Tasman/Nelson 7011 New Zealand;X-APPLE-RADIUS=500;X-TITLE=SAXTON FIELDS:geo:173.2181794,-41.3280994
END:VEVENT
BEGIN:VEVENT
DTSTART;TZID=Pacific/Auckland:20260722T180000
DTEND;TZID=Pacific/Auckland:20260722T190000
DTSTAMP:20260420T014134
CREATED:20260328T084316Z
LAST-MODIFIED:20260328T084316Z
UID:25393-1784743200-1784746800@www.nelsonhockey.org.nz
SUMMARY:NHA GK Training
DESCRIPTION:
URL:https://www.nelsonhockey.org.nz/event/nha-gk-training-15/2026-07-22/
LOCATION:NELSON HOCKEY\, SAXTON FIELDS\, Nelson\, Tasman/Nelson\, 7011\, New Zealand
CATEGORIES:GK TRAINING PROGRAM
ATTACH;FMTTYPE=image/jpeg:https://www.nelsonhockey.org.nz/wp-content/uploads/2025/10/2026-NHA-GK-Training-Program.jpg
GEO:-41.3280994;173.2181794
X-APPLE-STRUCTURED-LOCATION;VALUE=URI;X-ADDRESS=NELSON HOCKEY SAXTON FIELDS Nelson Tasman/Nelson 7011 New Zealand;X-APPLE-RADIUS=500;X-TITLE=SAXTON FIELDS:geo:173.2181794,-41.3280994
END:VEVENT
BEGIN:VEVENT
DTSTART;TZID=Pacific/Auckland:20260723T190000
DTEND;TZID=Pacific/Auckland:20260723T210000
DTSTAMP:20260420T014134
CREATED:20260329T012526Z
LAST-MODIFIED:20260329T012526Z
UID:25446-1784833200-1784840400@www.nelsonhockey.org.nz
SUMMARY:NELSON SR.M&W Training
DESCRIPTION:
URL:https://www.nelsonhockey.org.nz/event/nelson-sr-mw-training/2026-07-23/
LOCATION:NELSON HOCKEY\, SAXTON FIELDS\, Nelson\, Tasman/Nelson\, 7011\, New Zealand
CATEGORIES:SENIORS
ATTACH;FMTTYPE=image/jpeg:https://www.nelsonhockey.org.nz/wp-content/uploads/2025/04/Nelson-Hockey_NHA-Representative_Blog-Post-Banner_Nov22.jpg
GEO:-41.3280994;173.2181794
X-APPLE-STRUCTURED-LOCATION;VALUE=URI;X-ADDRESS=NELSON HOCKEY SAXTON FIELDS Nelson Tasman/Nelson 7011 New Zealand;X-APPLE-RADIUS=500;X-TITLE=SAXTON FIELDS:geo:173.2181794,-41.3280994
END:VEVENT
BEGIN:VEVENT
DTSTART;TZID=Pacific/Auckland:20260729T180000
DTEND;TZID=Pacific/Auckland:20260729T190000
DTSTAMP:20260420T014134
CREATED:20260328T084316Z
LAST-MODIFIED:20260328T084316Z
UID:25394-1785348000-1785351600@www.nelsonhockey.org.nz
SUMMARY:NHA GK Training
DESCRIPTION:
URL:https://www.nelsonhockey.org.nz/event/nha-gk-training-15/2026-07-29/
LOCATION:NELSON HOCKEY\, SAXTON FIELDS\, Nelson\, Tasman/Nelson\, 7011\, New Zealand
CATEGORIES:GK TRAINING PROGRAM
ATTACH;FMTTYPE=image/jpeg:https://www.nelsonhockey.org.nz/wp-content/uploads/2025/10/2026-NHA-GK-Training-Program.jpg
GEO:-41.3280994;173.2181794
X-APPLE-STRUCTURED-LOCATION;VALUE=URI;X-ADDRESS=NELSON HOCKEY SAXTON FIELDS Nelson Tasman/Nelson 7011 New Zealand;X-APPLE-RADIUS=500;X-TITLE=SAXTON FIELDS:geo:173.2181794,-41.3280994
END:VEVENT
BEGIN:VEVENT
DTSTART;TZID=Pacific/Auckland:20260805T180000
DTEND;TZID=Pacific/Auckland:20260805T190000
DTSTAMP:20260420T014134
CREATED:20260328T084316Z
LAST-MODIFIED:20260328T084316Z
UID:25395-1785952800-1785956400@www.nelsonhockey.org.nz
SUMMARY:NHA GK Training
DESCRIPTION:
URL:https://www.nelsonhockey.org.nz/event/nha-gk-training-15/2026-08-05/
LOCATION:NELSON HOCKEY\, SAXTON FIELDS\, Nelson\, Tasman/Nelson\, 7011\, New Zealand
CATEGORIES:GK TRAINING PROGRAM
ATTACH;FMTTYPE=image/jpeg:https://www.nelsonhockey.org.nz/wp-content/uploads/2025/10/2026-NHA-GK-Training-Program.jpg
GEO:-41.3280994;173.2181794
X-APPLE-STRUCTURED-LOCATION;VALUE=URI;X-ADDRESS=NELSON HOCKEY SAXTON FIELDS Nelson Tasman/Nelson 7011 New Zealand;X-APPLE-RADIUS=500;X-TITLE=SAXTON FIELDS:geo:173.2181794,-41.3280994
END:VEVENT
BEGIN:VEVENT
DTSTART;TZID=Pacific/Auckland:20260812T180000
DTEND;TZID=Pacific/Auckland:20260812T190000
DTSTAMP:20260420T014134
CREATED:20260328T084316Z
LAST-MODIFIED:20260328T084316Z
UID:25396-1786557600-1786561200@www.nelsonhockey.org.nz
SUMMARY:NHA GK Training
DESCRIPTION:
URL:https://www.nelsonhockey.org.nz/event/nha-gk-training-15/2026-08-12/
LOCATION:NELSON HOCKEY\, SAXTON FIELDS\, Nelson\, Tasman/Nelson\, 7011\, New Zealand
CATEGORIES:GK TRAINING PROGRAM
ATTACH;FMTTYPE=image/jpeg:https://www.nelsonhockey.org.nz/wp-content/uploads/2025/10/2026-NHA-GK-Training-Program.jpg
GEO:-41.3280994;173.2181794
X-APPLE-STRUCTURED-LOCATION;VALUE=URI;X-ADDRESS=NELSON HOCKEY SAXTON FIELDS Nelson Tasman/Nelson 7011 New Zealand;X-APPLE-RADIUS=500;X-TITLE=SAXTON FIELDS:geo:173.2181794,-41.3280994
END:VEVENT
END:VCALENDAR