BEGIN:VCALENDAR
VERSION:2.0
PRODID:-//Nelson Hockey Association (1993) Inc - ECPv6.15.16//NONSGML v1.0//EN
CALSCALE:GREGORIAN
METHOD:PUBLISH
X-WR-CALNAME:Nelson Hockey Association (1993) Inc
X-ORIGINAL-URL:https://www.nelsonhockey.org.nz
X-WR-CALDESC:Events for Nelson Hockey Association (1993) Inc
REFRESH-INTERVAL;VALUE=DURATION:PT1H
X-Robots-Tag:noindex
X-PUBLISHED-TTL:PT1H
BEGIN:VTIMEZONE
TZID:Pacific/Auckland
BEGIN:STANDARD
TZOFFSETFROM:+1300
TZOFFSETTO:+1200
TZNAME:NZST
DTSTART:20250405T140000
END:STANDARD
BEGIN:DAYLIGHT
TZOFFSETFROM:+1200
TZOFFSETTO:+1300
TZNAME:NZDT
DTSTART:20250927T140000
END:DAYLIGHT
BEGIN:STANDARD
TZOFFSETFROM:+1300
TZOFFSETTO:+1200
TZNAME:NZST
DTSTART:20260404T140000
END:STANDARD
BEGIN:DAYLIGHT
TZOFFSETFROM:+1200
TZOFFSETTO:+1300
TZNAME:NZDT
DTSTART:20260926T140000
END:DAYLIGHT
BEGIN:STANDARD
TZOFFSETFROM:+1300
TZOFFSETTO:+1200
TZNAME:NZST
DTSTART:20270403T140000
END:STANDARD
BEGIN:DAYLIGHT
TZOFFSETFROM:+1200
TZOFFSETTO:+1300
TZNAME:NZDT
DTSTART:20270925T140000
END:DAYLIGHT
END:VTIMEZONE
BEGIN:VEVENT
DTSTART;TZID=Pacific/Auckland:20260729T180000
DTEND;TZID=Pacific/Auckland:20260729T190000
DTSTAMP:20260424T060410
CREATED:20260328T084316Z
LAST-MODIFIED:20260328T084316Z
UID:25394-1785348000-1785351600@www.nelsonhockey.org.nz
SUMMARY:NHA GK Training
DESCRIPTION:
URL:https://www.nelsonhockey.org.nz/event/nha-gk-training-15/2026-07-29/
LOCATION:NELSON HOCKEY\, SAXTON FIELDS\, Nelson\, Tasman/Nelson\, 7011\, New Zealand
CATEGORIES:GK TRAINING PROGRAM
ATTACH;FMTTYPE=image/jpeg:https://www.nelsonhockey.org.nz/wp-content/uploads/2025/10/2026-NHA-GK-Training-Program.jpg
GEO:-41.3280994;173.2181794
X-APPLE-STRUCTURED-LOCATION;VALUE=URI;X-ADDRESS=NELSON HOCKEY SAXTON FIELDS Nelson Tasman/Nelson 7011 New Zealand;X-APPLE-RADIUS=500;X-TITLE=SAXTON FIELDS:geo:173.2181794,-41.3280994
END:VEVENT
BEGIN:VEVENT
DTSTART;TZID=Pacific/Auckland:20260731T163000
DTEND;TZID=Pacific/Auckland:20260731T173000
DTSTAMP:20260424T060410
CREATED:20260423T005052Z
LAST-MODIFIED:20260423T005052Z
UID:26123-1785515400-1785519000@www.nelsonhockey.org.nz
SUMMARY:🏒 NC Sky vs Garin Boys
DESCRIPTION:
URL:https://www.nelsonhockey.org.nz/event/%f0%9f%8f%92-nc-sky-vs-garin-boys/
CATEGORIES:Club Competition Week
END:VEVENT
BEGIN:VEVENT
DTSTART;TZID=Pacific/Auckland:20260731T163000
DTEND;TZID=Pacific/Auckland:20260731T173000
DTSTAMP:20260424T060410
CREATED:20260423T012002Z
LAST-MODIFIED:20260423T012002Z
UID:26263-1785515400-1785519000@www.nelsonhockey.org.nz
SUMMARY:🏒 NCG Tirohia Mārama vs Waimea College Tasman
DESCRIPTION:
URL:https://www.nelsonhockey.org.nz/event/%f0%9f%8f%92-ncg-tirohia-marama-vs-waimea-college-tasman/
CATEGORIES:Club Competition Week
END:VEVENT
BEGIN:VEVENT
DTSTART;TZID=Pacific/Auckland:20260731T175500
DTEND;TZID=Pacific/Auckland:20260731T185500
DTSTAMP:20260424T060410
CREATED:20260423T005052Z
LAST-MODIFIED:20260423T005052Z
UID:26124-1785520500-1785524100@www.nelsonhockey.org.nz
SUMMARY:🏒 Waimai United Secondary vs NC Navy
DESCRIPTION:
URL:https://www.nelsonhockey.org.nz/event/%f0%9f%8f%92-waimai-united-secondary-vs-nc-navy/
CATEGORIES:Club Competition Week
END:VEVENT
BEGIN:VEVENT
DTSTART;TZID=Pacific/Auckland:20260731T175500
DTEND;TZID=Pacific/Auckland:20260731T185500
DTSTAMP:20260424T060410
CREATED:20260423T012001Z
LAST-MODIFIED:20260423T012001Z
UID:26264-1785520500-1785524100@www.nelsonhockey.org.nz
SUMMARY:🏒 NCG Whiti Te Rā vs Garin Junior Girls
DESCRIPTION:
URL:https://www.nelsonhockey.org.nz/event/%f0%9f%8f%92-ncg-whiti-te-ra-vs-garin-junior-girls/
CATEGORIES:Club Competition Week
END:VEVENT
BEGIN:VEVENT
DTSTART;TZID=Pacific/Auckland:20260731T192000
DTEND;TZID=Pacific/Auckland:20260731T202000
DTSTAMP:20260424T060410
CREATED:20260423T012001Z
LAST-MODIFIED:20260423T012001Z
UID:26265-1785525600-1785529200@www.nelsonhockey.org.nz
SUMMARY:🏒 Stoke Mixed Secondary vs Tasman Titans
DESCRIPTION:
URL:https://www.nelsonhockey.org.nz/event/%f0%9f%8f%92-stoke-mixed-secondary-vs-tasman-titans/
CATEGORIES:Club Competition Week
END:VEVENT
BEGIN:VEVENT
DTSTART;TZID=Pacific/Auckland:20260805T180000
DTEND;TZID=Pacific/Auckland:20260805T190000
DTSTAMP:20260424T060410
CREATED:20260328T084316Z
LAST-MODIFIED:20260328T084316Z
UID:25395-1785952800-1785956400@www.nelsonhockey.org.nz
SUMMARY:NHA GK Training
DESCRIPTION:
URL:https://www.nelsonhockey.org.nz/event/nha-gk-training-15/2026-08-05/
LOCATION:NELSON HOCKEY\, SAXTON FIELDS\, Nelson\, Tasman/Nelson\, 7011\, New Zealand
CATEGORIES:GK TRAINING PROGRAM
ATTACH;FMTTYPE=image/jpeg:https://www.nelsonhockey.org.nz/wp-content/uploads/2025/10/2026-NHA-GK-Training-Program.jpg
GEO:-41.3280994;173.2181794
X-APPLE-STRUCTURED-LOCATION;VALUE=URI;X-ADDRESS=NELSON HOCKEY SAXTON FIELDS Nelson Tasman/Nelson 7011 New Zealand;X-APPLE-RADIUS=500;X-TITLE=SAXTON FIELDS:geo:173.2181794,-41.3280994
END:VEVENT
BEGIN:VEVENT
DTSTART;TZID=Pacific/Auckland:20260812T180000
DTEND;TZID=Pacific/Auckland:20260812T190000
DTSTAMP:20260424T060410
CREATED:20260328T084316Z
LAST-MODIFIED:20260328T084316Z
UID:25396-1786557600-1786561200@www.nelsonhockey.org.nz
SUMMARY:NHA GK Training
DESCRIPTION:
URL:https://www.nelsonhockey.org.nz/event/nha-gk-training-15/2026-08-12/
LOCATION:NELSON HOCKEY\, SAXTON FIELDS\, Nelson\, Tasman/Nelson\, 7011\, New Zealand
CATEGORIES:GK TRAINING PROGRAM
ATTACH;FMTTYPE=image/jpeg:https://www.nelsonhockey.org.nz/wp-content/uploads/2025/10/2026-NHA-GK-Training-Program.jpg
GEO:-41.3280994;173.2181794
X-APPLE-STRUCTURED-LOCATION;VALUE=URI;X-ADDRESS=NELSON HOCKEY SAXTON FIELDS Nelson Tasman/Nelson 7011 New Zealand;X-APPLE-RADIUS=500;X-TITLE=SAXTON FIELDS:geo:173.2181794,-41.3280994
END:VEVENT
END:VCALENDAR