BEGIN:VCALENDAR
VERSION:2.0
PRODID:-//Nelson Hockey Association (1993) Inc - ECPv6.15.16//NONSGML v1.0//EN
CALSCALE:GREGORIAN
METHOD:PUBLISH
X-WR-CALNAME:Nelson Hockey Association (1993) Inc
X-ORIGINAL-URL:https://www.nelsonhockey.org.nz
X-WR-CALDESC:Events for Nelson Hockey Association (1993) Inc
REFRESH-INTERVAL;VALUE=DURATION:PT1H
X-Robots-Tag:noindex
X-PUBLISHED-TTL:PT1H
BEGIN:VTIMEZONE
TZID:Pacific/Auckland
BEGIN:STANDARD
TZOFFSETFROM:+1300
TZOFFSETTO:+1200
TZNAME:NZST
DTSTART:20230401T140000
END:STANDARD
BEGIN:DAYLIGHT
TZOFFSETFROM:+1200
TZOFFSETTO:+1300
TZNAME:NZDT
DTSTART:20230923T140000
END:DAYLIGHT
BEGIN:STANDARD
TZOFFSETFROM:+1300
TZOFFSETTO:+1200
TZNAME:NZST
DTSTART:20240406T140000
END:STANDARD
BEGIN:DAYLIGHT
TZOFFSETFROM:+1200
TZOFFSETTO:+1300
TZNAME:NZDT
DTSTART:20240928T140000
END:DAYLIGHT
BEGIN:STANDARD
TZOFFSETFROM:+1300
TZOFFSETTO:+1200
TZNAME:NZST
DTSTART:20250405T140000
END:STANDARD
BEGIN:DAYLIGHT
TZOFFSETFROM:+1200
TZOFFSETTO:+1300
TZNAME:NZDT
DTSTART:20250927T140000
END:DAYLIGHT
END:VTIMEZONE
BEGIN:VEVENT
DTSTART;VALUE=DATE:20240429
DTEND;VALUE=DATE:20240706
DTSTAMP:20260426T040415
CREATED:20231127T212851Z
LAST-MODIFIED:20231127T212851Z
UID:20112-1714348800-1720223999@www.nelsonhockey.org.nz
SUMMARY:Term 2
DESCRIPTION:
URL:https://www.nelsonhockey.org.nz/event/term-2/
LOCATION:Tasman/Nelson
CATEGORIES:Term 2
ATTACH;FMTTYPE=image/jpeg:https://www.nelsonhockey.org.nz/wp-content/uploads/2023/11/Back-to-school.jpg
END:VEVENT
BEGIN:VEVENT
DTSTART;VALUE=DATE:20240601
DTEND;VALUE=DATE:20240604
DTSTAMP:20260426T040415
CREATED:20231128T200515Z
LAST-MODIFIED:20231128T200515Z
UID:20163-1717200000-1717459199@www.nelsonhockey.org.nz
SUMMARY:U18 M&W Mini Tournament
DESCRIPTION:
URL:https://www.nelsonhockey.org.nz/event/u18-mw-mini-tournament/
LOCATION:CANTERBURY HOCKEY ASSOCIATION\, Address: 240 Wooldridge Road\, Harewood\, Christchurch\, Christchurch\, Canterbury\, 8543\, New Zealand
CATEGORIES:Rep Tournaments
ATTACH;FMTTYPE=image/jpeg:https://www.nelsonhockey.org.nz/wp-content/uploads/2018/12/canterbury-hockey.jpg
END:VEVENT
BEGIN:VEVENT
DTSTART;VALUE=DATE:20240603
DTEND;VALUE=DATE:20240604
DTSTAMP:20260426T040415
CREATED:20231128T200703Z
LAST-MODIFIED:20231128T200703Z
UID:20165-1717372800-1717459199@www.nelsonhockey.org.nz
SUMMARY:Kings Birthday
DESCRIPTION:
URL:https://www.nelsonhockey.org.nz/event/kings-birthday-2/
LOCATION:Tasman/Nelson
CATEGORIES:PUBLIC HOLIDAY
ATTACH;FMTTYPE=image/png:https://www.nelsonhockey.org.nz/wp-content/uploads/2023/11/kings-birthday.png
END:VEVENT
BEGIN:VEVENT
DTSTART;VALUE=DATE:20240605
DTEND;VALUE=DATE:20240606
DTSTAMP:20260426T040415
CREATED:20231128T201132Z
LAST-MODIFIED:20231128T201132Z
UID:20170-1717545600-1717631999@www.nelsonhockey.org.nz
SUMMARY:NHA Sr.M&W Training
DESCRIPTION:
URL:https://www.nelsonhockey.org.nz/event/nha-sr-mw-training/
LOCATION:NELSON HOCKEY\, SAXTON FIELDS\, Nelson\, Tasman/Nelson\, 7011\, New Zealand
CATEGORIES:NELSON SR.MEN & WOMEN
ATTACH;FMTTYPE=image/jpeg:https://www.nelsonhockey.org.nz/wp-content/uploads/2023/07/Nelson-Hockey_NHA-Representative_Facebook-Banner_Nov22.jpg
GEO:-41.3280994;173.2181794
X-APPLE-STRUCTURED-LOCATION;VALUE=URI;X-ADDRESS=NELSON HOCKEY SAXTON FIELDS Nelson Tasman/Nelson 7011 New Zealand;X-APPLE-RADIUS=500;X-TITLE=SAXTON FIELDS:geo:173.2181794,-41.3280994
END:VEVENT
BEGIN:VEVENT
DTSTART;TZID=Pacific/Auckland:20240605T183000
DTEND;TZID=Pacific/Auckland:20240605T193000
DTSTAMP:20260426T040415
CREATED:20231127T222455Z
LAST-MODIFIED:20240527T062552Z
UID:21250-1717612200-1717615800@www.nelsonhockey.org.nz
SUMMARY:Gk Training Program
DESCRIPTION:
URL:https://www.nelsonhockey.org.nz/event/gk-training-program/2024-06-05/
LOCATION:NELSON HOCKEY\, SAXTON FIELDS\, Nelson\, Tasman/Nelson\, 7011\, New Zealand
CATEGORIES:GK Training
ATTACH;FMTTYPE=image/jpeg:https://www.nelsonhockey.org.nz/wp-content/uploads/2024/05/2024-NHA-GK-Training-Program-1.jpg
GEO:-41.3280994;173.2181794
X-APPLE-STRUCTURED-LOCATION;VALUE=URI;X-ADDRESS=NELSON HOCKEY SAXTON FIELDS Nelson Tasman/Nelson 7011 New Zealand;X-APPLE-RADIUS=500;X-TITLE=SAXTON FIELDS:geo:173.2181794,-41.3280994
END:VEVENT
BEGIN:VEVENT
DTSTART;TZID=Pacific/Auckland:20240606T154500
DTEND;TZID=Pacific/Auckland:20240606T183000
DTSTAMP:20260426T040415
CREATED:20231127T225446Z
LAST-MODIFIED:20231127T225446Z
UID:20155-1717688700-1717698600@www.nelsonhockey.org.nz
SUMMARY:Junior Program II
DESCRIPTION:
URL:https://www.nelsonhockey.org.nz/event/junior-program-ii-6/2024-06-06/
LOCATION:NELSON HOCKEY\, SAXTON FIELDS\, Nelson\, Tasman/Nelson\, 7011\, New Zealand
CATEGORIES:Junior Programme
ATTACH;FMTTYPE=image/jpeg:https://www.nelsonhockey.org.nz/wp-content/uploads/2023/10/2024-NHA-Junior-Programme-II.jpg
GEO:-41.3280994;173.2181794
X-APPLE-STRUCTURED-LOCATION;VALUE=URI;X-ADDRESS=NELSON HOCKEY SAXTON FIELDS Nelson Tasman/Nelson 7011 New Zealand;X-APPLE-RADIUS=500;X-TITLE=SAXTON FIELDS:geo:173.2181794,-41.3280994
END:VEVENT
BEGIN:VEVENT
DTSTART;VALUE=DATE:20240608
DTEND;VALUE=DATE:20240610
DTSTAMP:20260426T040415
CREATED:20231128T200910Z
LAST-MODIFIED:20240529T221000Z
UID:20168-1717804800-1717977599@www.nelsonhockey.org.nz
SUMMARY:2024 ToTS Tournament
DESCRIPTION:
URL:https://www.nelsonhockey.org.nz/event/2024-tots-tournament/
LOCATION:NELSON HOCKEY\, SAXTON FIELDS\, Nelson\, Tasman/Nelson\, 7011\, New Zealand
CATEGORIES:Events
ATTACH;FMTTYPE=image/jpeg:https://www.nelsonhockey.org.nz/wp-content/uploads/2023/11/2024-ToTS-Tournament-Flyer-1.jpg
GEO:-41.3280994;173.2181794
X-APPLE-STRUCTURED-LOCATION;VALUE=URI;X-ADDRESS=NELSON HOCKEY SAXTON FIELDS Nelson Tasman/Nelson 7011 New Zealand;X-APPLE-RADIUS=500;X-TITLE=SAXTON FIELDS:geo:173.2181794,-41.3280994
END:VEVENT
BEGIN:VEVENT
DTSTART;VALUE=DATE:20240609
DTEND;VALUE=DATE:20240610
DTSTAMP:20260426T040415
CREATED:20231127T224010Z
LAST-MODIFIED:20231127T224010Z
UID:20146-1717891200-1717977599@www.nelsonhockey.org.nz
SUMMARY:TD U18 Training Camp
DESCRIPTION:
URL:https://www.nelsonhockey.org.nz/event/td-u18-training-camp/2024-06-09/
LOCATION:NELSON HOCKEY\, SAXTON FIELDS\, Nelson\, Tasman/Nelson\, 7011\, New Zealand
CATEGORIES:Hockey Clinics-Training Camps
ATTACH;FMTTYPE=image/png:https://www.nelsonhockey.org.nz/wp-content/uploads/2022/12/Tasman-Districts.png
GEO:-41.3280994;173.2181794
X-APPLE-STRUCTURED-LOCATION;VALUE=URI;X-ADDRESS=NELSON HOCKEY SAXTON FIELDS Nelson Tasman/Nelson 7011 New Zealand;X-APPLE-RADIUS=500;X-TITLE=SAXTON FIELDS:geo:173.2181794,-41.3280994
END:VEVENT
END:VCALENDAR