BEGIN:VCALENDAR
VERSION:2.0
PRODID:-//Nelson Hockey Association (1993) Inc - ECPv6.15.16//NONSGML v1.0//EN
CALSCALE:GREGORIAN
METHOD:PUBLISH
X-WR-CALNAME:Nelson Hockey Association (1993) Inc
X-ORIGINAL-URL:https://www.nelsonhockey.org.nz
X-WR-CALDESC:Events for Nelson Hockey Association (1993) Inc
REFRESH-INTERVAL;VALUE=DURATION:PT1H
X-Robots-Tag:noindex
X-PUBLISHED-TTL:PT1H
BEGIN:VTIMEZONE
TZID:Pacific/Auckland
BEGIN:STANDARD
TZOFFSETFROM:+1300
TZOFFSETTO:+1200
TZNAME:NZST
DTSTART:20230401T140000
END:STANDARD
BEGIN:DAYLIGHT
TZOFFSETFROM:+1200
TZOFFSETTO:+1300
TZNAME:NZDT
DTSTART:20230923T140000
END:DAYLIGHT
BEGIN:STANDARD
TZOFFSETFROM:+1300
TZOFFSETTO:+1200
TZNAME:NZST
DTSTART:20240406T140000
END:STANDARD
BEGIN:DAYLIGHT
TZOFFSETFROM:+1200
TZOFFSETTO:+1300
TZNAME:NZDT
DTSTART:20240928T140000
END:DAYLIGHT
BEGIN:STANDARD
TZOFFSETFROM:+1300
TZOFFSETTO:+1200
TZNAME:NZST
DTSTART:20250405T140000
END:STANDARD
BEGIN:DAYLIGHT
TZOFFSETFROM:+1200
TZOFFSETTO:+1300
TZNAME:NZDT
DTSTART:20250927T140000
END:DAYLIGHT
END:VTIMEZONE
BEGIN:VEVENT
DTSTART;VALUE=DATE:20240429
DTEND;VALUE=DATE:20240706
DTSTAMP:20260425T042431
CREATED:20231127T212851Z
LAST-MODIFIED:20231127T212851Z
UID:20112-1714348800-1720223999@www.nelsonhockey.org.nz
SUMMARY:Term 2
DESCRIPTION:
URL:https://www.nelsonhockey.org.nz/event/term-2/
CATEGORIES:Term 2
ATTACH;FMTTYPE=image/jpeg:https://www.nelsonhockey.org.nz/wp-content/uploads/2023/11/Back-to-school.jpg
END:VEVENT
BEGIN:VEVENT
DTSTART;VALUE=DATE:20240611
DTEND;VALUE=DATE:20240612
DTSTAMP:20260425T042431
CREATED:20231128T201452Z
LAST-MODIFIED:20231128T201452Z
UID:20179-1718064000-1718150399@www.nelsonhockey.org.nz
SUMMARY:NHA Club Mid-Season Meeting
DESCRIPTION:
URL:https://www.nelsonhockey.org.nz/event/nha-club-mid-season-meeting/
LOCATION:NELSON HOCKEY\, SAXTON FIELDS\, Nelson\, Tasman/Nelson\, 7011\, New Zealand
CATEGORIES:Club Competition Week
ATTACH;FMTTYPE=image/png:https://www.nelsonhockey.org.nz/wp-content/uploads/2018/04/Nelson-Hockey-New-Logo_60high.png
GEO:-41.3280994;173.2181794
X-APPLE-STRUCTURED-LOCATION;VALUE=URI;X-ADDRESS=NELSON HOCKEY SAXTON FIELDS Nelson Tasman/Nelson 7011 New Zealand;X-APPLE-RADIUS=500;X-TITLE=SAXTON FIELDS:geo:173.2181794,-41.3280994
END:VEVENT
BEGIN:VEVENT
DTSTART;VALUE=DATE:20240612
DTEND;VALUE=DATE:20240613
DTSTAMP:20260425T042431
CREATED:20231128T201132Z
LAST-MODIFIED:20231128T201132Z
UID:20171-1718150400-1718236799@www.nelsonhockey.org.nz
SUMMARY:NHA Sr.M&W Training
DESCRIPTION:
URL:https://www.nelsonhockey.org.nz/event/nha-sr-mw-training/2024-06-12/
LOCATION:NELSON HOCKEY\, SAXTON FIELDS\, Nelson\, Tasman/Nelson\, 7011\, New Zealand
CATEGORIES:NELSON SR.MEN & WOMEN
ATTACH;FMTTYPE=image/jpeg:https://www.nelsonhockey.org.nz/wp-content/uploads/2023/07/Nelson-Hockey_NHA-Representative_Facebook-Banner_Nov22.jpg
GEO:-41.3280994;173.2181794
X-APPLE-STRUCTURED-LOCATION;VALUE=URI;X-ADDRESS=NELSON HOCKEY SAXTON FIELDS Nelson Tasman/Nelson 7011 New Zealand;X-APPLE-RADIUS=500;X-TITLE=SAXTON FIELDS:geo:173.2181794,-41.3280994
END:VEVENT
BEGIN:VEVENT
DTSTART;TZID=Pacific/Auckland:20240612T183000
DTEND;TZID=Pacific/Auckland:20240612T193000
DTSTAMP:20260425T042431
CREATED:20231127T222455Z
LAST-MODIFIED:20240527T062553Z
UID:21251-1718217000-1718220600@www.nelsonhockey.org.nz
SUMMARY:Gk Training Program
DESCRIPTION:
URL:https://www.nelsonhockey.org.nz/event/gk-training-program/2024-06-12/
LOCATION:NELSON HOCKEY\, SAXTON FIELDS\, Nelson\, Tasman/Nelson\, 7011\, New Zealand
CATEGORIES:GK Training
ATTACH;FMTTYPE=image/jpeg:https://www.nelsonhockey.org.nz/wp-content/uploads/2024/05/2024-NHA-GK-Training-Program-1.jpg
GEO:-41.3280994;173.2181794
X-APPLE-STRUCTURED-LOCATION;VALUE=URI;X-ADDRESS=NELSON HOCKEY SAXTON FIELDS Nelson Tasman/Nelson 7011 New Zealand;X-APPLE-RADIUS=500;X-TITLE=SAXTON FIELDS:geo:173.2181794,-41.3280994
END:VEVENT
BEGIN:VEVENT
DTSTART;TZID=Pacific/Auckland:20240613T154500
DTEND;TZID=Pacific/Auckland:20240613T183000
DTSTAMP:20260425T042431
CREATED:20231127T225446Z
LAST-MODIFIED:20231127T225446Z
UID:20156-1718293500-1718303400@www.nelsonhockey.org.nz
SUMMARY:Junior Program II
DESCRIPTION:
URL:https://www.nelsonhockey.org.nz/event/junior-program-ii-6/2024-06-13/
LOCATION:NELSON HOCKEY\, SAXTON FIELDS\, Nelson\, Tasman/Nelson\, 7011\, New Zealand
CATEGORIES:Junior Programme
ATTACH;FMTTYPE=image/jpeg:https://www.nelsonhockey.org.nz/wp-content/uploads/2023/10/2024-NHA-Junior-Programme-II.jpg
GEO:-41.3280994;173.2181794
X-APPLE-STRUCTURED-LOCATION;VALUE=URI;X-ADDRESS=NELSON HOCKEY SAXTON FIELDS Nelson Tasman/Nelson 7011 New Zealand;X-APPLE-RADIUS=500;X-TITLE=SAXTON FIELDS:geo:173.2181794,-41.3280994
END:VEVENT
BEGIN:VEVENT
DTSTART;VALUE=DATE:20240615
DTEND;VALUE=DATE:20240616
DTSTAMP:20260425T042431
CREATED:20231128T202530Z
LAST-MODIFIED:20231128T202530Z
UID:20187-1718409600-1718495999@www.nelsonhockey.org.nz
SUMMARY:Coaching Forum II
DESCRIPTION:
URL:https://www.nelsonhockey.org.nz/event/coaching-forum-ii/
LOCATION:NELSON HOCKEY\, SAXTON FIELDS\, Nelson\, Tasman/Nelson\, 7011\, New Zealand
CATEGORIES:Hockey Clinics-Training Camps
ATTACH;FMTTYPE=image/jpeg:https://www.nelsonhockey.org.nz/wp-content/uploads/2023/06/Nelson-Hockey_Coaching_Various-Banner_Apr23-scaled.jpg
GEO:-41.3280994;173.2181794
X-APPLE-STRUCTURED-LOCATION;VALUE=URI;X-ADDRESS=NELSON HOCKEY SAXTON FIELDS Nelson Tasman/Nelson 7011 New Zealand;X-APPLE-RADIUS=500;X-TITLE=SAXTON FIELDS:geo:173.2181794,-41.3280994
END:VEVENT
BEGIN:VEVENT
DTSTART;VALUE=DATE:20240616
DTEND;VALUE=DATE:20240617
DTSTAMP:20260425T042431
CREATED:20231127T224010Z
LAST-MODIFIED:20231127T224010Z
UID:20147-1718496000-1718582399@www.nelsonhockey.org.nz
SUMMARY:TD U18 Training Camp
DESCRIPTION:
URL:https://www.nelsonhockey.org.nz/event/td-u18-training-camp/2024-06-16/
LOCATION:NELSON HOCKEY\, SAXTON FIELDS\, Nelson\, Tasman/Nelson\, 7011\, New Zealand
CATEGORIES:Hockey Clinics-Training Camps
ATTACH;FMTTYPE=image/png:https://www.nelsonhockey.org.nz/wp-content/uploads/2022/12/Tasman-Districts.png
GEO:-41.3280994;173.2181794
X-APPLE-STRUCTURED-LOCATION;VALUE=URI;X-ADDRESS=NELSON HOCKEY SAXTON FIELDS Nelson Tasman/Nelson 7011 New Zealand;X-APPLE-RADIUS=500;X-TITLE=SAXTON FIELDS:geo:173.2181794,-41.3280994
END:VEVENT
END:VCALENDAR