BEGIN:VCALENDAR
VERSION:2.0
PRODID:-//Nelson Hockey Association (1993) Inc - ECPv6.15.16//NONSGML v1.0//EN
CALSCALE:GREGORIAN
METHOD:PUBLISH
X-WR-CALNAME:Nelson Hockey Association (1993) Inc
X-ORIGINAL-URL:https://www.nelsonhockey.org.nz
X-WR-CALDESC:Events for Nelson Hockey Association (1993) Inc
REFRESH-INTERVAL;VALUE=DURATION:PT1H
X-Robots-Tag:noindex
X-PUBLISHED-TTL:PT1H
BEGIN:VTIMEZONE
TZID:Pacific/Auckland
BEGIN:STANDARD
TZOFFSETFROM:+1300
TZOFFSETTO:+1200
TZNAME:NZST
DTSTART:20230401T140000
END:STANDARD
BEGIN:DAYLIGHT
TZOFFSETFROM:+1200
TZOFFSETTO:+1300
TZNAME:NZDT
DTSTART:20230923T140000
END:DAYLIGHT
BEGIN:STANDARD
TZOFFSETFROM:+1300
TZOFFSETTO:+1200
TZNAME:NZST
DTSTART:20240406T140000
END:STANDARD
BEGIN:DAYLIGHT
TZOFFSETFROM:+1200
TZOFFSETTO:+1300
TZNAME:NZDT
DTSTART:20240928T140000
END:DAYLIGHT
BEGIN:STANDARD
TZOFFSETFROM:+1300
TZOFFSETTO:+1200
TZNAME:NZST
DTSTART:20250405T140000
END:STANDARD
BEGIN:DAYLIGHT
TZOFFSETFROM:+1200
TZOFFSETTO:+1300
TZNAME:NZDT
DTSTART:20250927T140000
END:DAYLIGHT
END:VTIMEZONE
BEGIN:VEVENT
DTSTART;VALUE=DATE:20240722
DTEND;VALUE=DATE:20240928
DTSTAMP:20260423T102529
CREATED:20231203T230618Z
LAST-MODIFIED:20231203T230618Z
UID:20276-1721606400-1727481599@www.nelsonhockey.org.nz
SUMMARY:Term 3
DESCRIPTION:
URL:https://www.nelsonhockey.org.nz/event/term-3/
ATTACH;FMTTYPE=image/jpeg:https://www.nelsonhockey.org.nz/wp-content/uploads/2023/11/Back-to-school.jpg
END:VEVENT
BEGIN:VEVENT
DTSTART;TZID=Pacific/Auckland:20240821T183000
DTEND;TZID=Pacific/Auckland:20240821T193000
DTSTAMP:20260423T102529
CREATED:20231127T222455Z
LAST-MODIFIED:20240527T062609Z
UID:21261-1724265000-1724268600@www.nelsonhockey.org.nz
SUMMARY:Gk Training Program
DESCRIPTION:
URL:https://www.nelsonhockey.org.nz/event/gk-training-program/2024-08-21/
LOCATION:NELSON HOCKEY\, SAXTON FIELDS\, Nelson\, Tasman/Nelson\, 7011\, New Zealand
CATEGORIES:GK Training
ATTACH;FMTTYPE=image/jpeg:https://www.nelsonhockey.org.nz/wp-content/uploads/2024/05/2024-NHA-GK-Training-Program-1.jpg
GEO:-41.3280994;173.2181794
X-APPLE-STRUCTURED-LOCATION;VALUE=URI;X-ADDRESS=NELSON HOCKEY SAXTON FIELDS Nelson Tasman/Nelson 7011 New Zealand;X-APPLE-RADIUS=500;X-TITLE=SAXTON FIELDS:geo:173.2181794,-41.3280994
END:VEVENT
BEGIN:VEVENT
DTSTART;VALUE=DATE:20240822
DTEND;VALUE=DATE:20240823
DTSTAMP:20260423T102529
CREATED:20231129T210317Z
LAST-MODIFIED:20231129T210317Z
UID:20221-1724284800-1724371199@www.nelsonhockey.org.nz
SUMMARY:Tasman Districts Sr.M&W Training
DESCRIPTION:
URL:https://www.nelsonhockey.org.nz/event/tasman-districts-sr-mw-training-2/2024-08-22/
LOCATION:NELSON HOCKEY\, SAXTON FIELDS\, Nelson\, Tasman/Nelson\, 7011\, New Zealand
CATEGORIES:Tasman Districts Hockey
ATTACH;FMTTYPE=image/jpeg:https://www.nelsonhockey.org.nz/wp-content/uploads/2023/11/download.jpg
GEO:-41.3280994;173.2181794
X-APPLE-STRUCTURED-LOCATION;VALUE=URI;X-ADDRESS=NELSON HOCKEY SAXTON FIELDS Nelson Tasman/Nelson 7011 New Zealand;X-APPLE-RADIUS=500;X-TITLE=SAXTON FIELDS:geo:173.2181794,-41.3280994
END:VEVENT
BEGIN:VEVENT
DTSTART;VALUE=DATE:20240822
DTEND;VALUE=DATE:20240823
DTSTAMP:20260423T102529
CREATED:20231129T210722Z
LAST-MODIFIED:20231129T210722Z
UID:20230-1724284800-1724371199@www.nelsonhockey.org.nz
SUMMARY:NHA U15's Training
DESCRIPTION:
URL:https://www.nelsonhockey.org.nz/event/nha-u15s-training/2024-08-22/
LOCATION:NELSON HOCKEY\, SAXTON FIELDS\, Nelson\, Tasman/Nelson\, 7011\, New Zealand
CATEGORIES:Junior Trials
ATTACH;FMTTYPE=image/jpeg:https://www.nelsonhockey.org.nz/wp-content/uploads/2023/07/Nelson-Hockey_NHA-Representative_Facebook-Banner_Nov22.jpg
GEO:-41.3280994;173.2181794
X-APPLE-STRUCTURED-LOCATION;VALUE=URI;X-ADDRESS=NELSON HOCKEY SAXTON FIELDS Nelson Tasman/Nelson 7011 New Zealand;X-APPLE-RADIUS=500;X-TITLE=SAXTON FIELDS:geo:173.2181794,-41.3280994
END:VEVENT
BEGIN:VEVENT
DTSTART;VALUE=DATE:20240822
DTEND;VALUE=DATE:20240823
DTSTAMP:20260423T102529
CREATED:20231129T210915Z
LAST-MODIFIED:20231129T210915Z
UID:20240-1724284800-1724371199@www.nelsonhockey.org.nz
SUMMARY:NHA U13's Training
DESCRIPTION:
URL:https://www.nelsonhockey.org.nz/event/nha-u13s-training/2024-08-22/
LOCATION:NELSON HOCKEY\, SAXTON FIELDS\, Nelson\, Tasman/Nelson\, 7011\, New Zealand
CATEGORIES:Junior Trials
ATTACH;FMTTYPE=image/jpeg:https://www.nelsonhockey.org.nz/wp-content/uploads/2023/07/Nelson-Hockey_NHA-Representative_Facebook-Banner_Nov22.jpg
GEO:-41.3280994;173.2181794
X-APPLE-STRUCTURED-LOCATION;VALUE=URI;X-ADDRESS=NELSON HOCKEY SAXTON FIELDS Nelson Tasman/Nelson 7011 New Zealand;X-APPLE-RADIUS=500;X-TITLE=SAXTON FIELDS:geo:173.2181794,-41.3280994
END:VEVENT
BEGIN:VEVENT
DTSTART;TZID=Pacific/Auckland:20240822T154500
DTEND;TZID=Pacific/Auckland:20240822T183000
DTSTAMP:20260423T102529
CREATED:20231129T205903Z
LAST-MODIFIED:20231129T205903Z
UID:20213-1724341500-1724351400@www.nelsonhockey.org.nz
SUMMARY:Junior Program III
DESCRIPTION:
URL:https://www.nelsonhockey.org.nz/event/junior-program-iii-4/2024-08-22/
LOCATION:NELSON HOCKEY\, SAXTON FIELDS\, Nelson\, Tasman/Nelson\, 7011\, New Zealand
CATEGORIES:Junior Programme
ATTACH;FMTTYPE=image/jpeg:https://www.nelsonhockey.org.nz/wp-content/uploads/2023/11/2024-NHA-Junior-Programme-III.jpg
GEO:-41.3280994;173.2181794
X-APPLE-STRUCTURED-LOCATION;VALUE=URI;X-ADDRESS=NELSON HOCKEY SAXTON FIELDS Nelson Tasman/Nelson 7011 New Zealand;X-APPLE-RADIUS=500;X-TITLE=SAXTON FIELDS:geo:173.2181794,-41.3280994
END:VEVENT
BEGIN:VEVENT
DTSTART;VALUE=DATE:20240824
DTEND;VALUE=DATE:20240826
DTSTAMP:20260423T102529
CREATED:20231129T211436Z
LAST-MODIFIED:20231129T211436Z
UID:20247-1724457600-1724630399@www.nelsonhockey.org.nz
SUMMARY:U13 Festival
DESCRIPTION:
URL:https://www.nelsonhockey.org.nz/event/u13-festival/
LOCATION:GREYMOUTH
CATEGORIES:Rep Tournaments
ATTACH;FMTTYPE=image/jpeg:https://www.nelsonhockey.org.nz/wp-content/uploads/2021/07/WCHA.jpg
ORGANIZER;CN="WEST COST HOCKEY ASSOCIATION":MAILTO:West Coast Hockey Association Amanda Curry
END:VEVENT
END:VCALENDAR