BEGIN:VCALENDAR
VERSION:2.0
PRODID:-//Nelson Hockey Association (1993) Inc - ECPv6.15.16//NONSGML v1.0//EN
CALSCALE:GREGORIAN
METHOD:PUBLISH
X-WR-CALNAME:Nelson Hockey Association (1993) Inc
X-ORIGINAL-URL:https://www.nelsonhockey.org.nz
X-WR-CALDESC:Events for Nelson Hockey Association (1993) Inc
REFRESH-INTERVAL;VALUE=DURATION:PT1H
X-Robots-Tag:noindex
X-PUBLISHED-TTL:PT1H
BEGIN:VTIMEZONE
TZID:Pacific/Auckland
BEGIN:STANDARD
TZOFFSETFROM:+1300
TZOFFSETTO:+1200
TZNAME:NZST
DTSTART:20230401T140000
END:STANDARD
BEGIN:DAYLIGHT
TZOFFSETFROM:+1200
TZOFFSETTO:+1300
TZNAME:NZDT
DTSTART:20230923T140000
END:DAYLIGHT
BEGIN:STANDARD
TZOFFSETFROM:+1300
TZOFFSETTO:+1200
TZNAME:NZST
DTSTART:20240406T140000
END:STANDARD
BEGIN:DAYLIGHT
TZOFFSETFROM:+1200
TZOFFSETTO:+1300
TZNAME:NZDT
DTSTART:20240928T140000
END:DAYLIGHT
BEGIN:STANDARD
TZOFFSETFROM:+1300
TZOFFSETTO:+1200
TZNAME:NZST
DTSTART:20250405T140000
END:STANDARD
BEGIN:DAYLIGHT
TZOFFSETFROM:+1200
TZOFFSETTO:+1300
TZNAME:NZDT
DTSTART:20250927T140000
END:DAYLIGHT
END:VTIMEZONE
BEGIN:VEVENT
DTSTART;VALUE=DATE:20240722
DTEND;VALUE=DATE:20240928
DTSTAMP:20260423T210406
CREATED:20231203T230618Z
LAST-MODIFIED:20231203T230618Z
UID:20276-1721606400-1727481599@www.nelsonhockey.org.nz
SUMMARY:Term 3
DESCRIPTION:
URL:https://www.nelsonhockey.org.nz/event/term-3/
ATTACH;FMTTYPE=image/jpeg:https://www.nelsonhockey.org.nz/wp-content/uploads/2023/11/Back-to-school.jpg
END:VEVENT
BEGIN:VEVENT
DTSTART;VALUE=DATE:20240910
DTEND;VALUE=DATE:20240911
DTSTAMP:20260423T210406
CREATED:20231203T232234Z
LAST-MODIFIED:20231203T232234Z
UID:20282-1725926400-1726012799@www.nelsonhockey.org.nz
SUMMARY:NHA Club Post-Season Meeting
DESCRIPTION:
URL:https://www.nelsonhockey.org.nz/event/nha-club-post-season-meeting/
LOCATION:NELSON HOCKEY\, SAXTON FIELDS\, Nelson\, Tasman/Nelson\, 7011\, New Zealand
CATEGORIES:NHA Admin
ATTACH;FMTTYPE=image/jpeg:https://www.nelsonhockey.org.nz/wp-content/uploads/2023/11/NHA-Logo.jpg
GEO:-41.3280994;173.2181794
X-APPLE-STRUCTURED-LOCATION;VALUE=URI;X-ADDRESS=NELSON HOCKEY SAXTON FIELDS Nelson Tasman/Nelson 7011 New Zealand;X-APPLE-RADIUS=500;X-TITLE=SAXTON FIELDS:geo:173.2181794,-41.3280994
END:VEVENT
BEGIN:VEVENT
DTSTART;VALUE=DATE:20240910
DTEND;VALUE=DATE:20240911
DTSTAMP:20260423T210406
CREATED:20231203T232405Z
LAST-MODIFIED:20231203T232405Z
UID:20284-1725926400-1726012799@www.nelsonhockey.org.nz
SUMMARY:Tasman Primary School Festival Y3&4
DESCRIPTION:
URL:https://www.nelsonhockey.org.nz/event/tasman-primary-school-festival-y34/
LOCATION:NELSON HOCKEY\, SAXTON FIELDS\, Nelson\, Tasman/Nelson\, 7011\, New Zealand
CATEGORIES:Primary Tournament
ATTACH;FMTTYPE=image/jpeg:https://www.nelsonhockey.org.nz/wp-content/uploads/2023/11/NHA-Logo.jpg
GEO:-41.3280994;173.2181794
X-APPLE-STRUCTURED-LOCATION;VALUE=URI;X-ADDRESS=NELSON HOCKEY SAXTON FIELDS Nelson Tasman/Nelson 7011 New Zealand;X-APPLE-RADIUS=500;X-TITLE=SAXTON FIELDS:geo:173.2181794,-41.3280994
END:VEVENT
BEGIN:VEVENT
DTSTART;VALUE=DATE:20240912
DTEND;VALUE=DATE:20240913
DTSTAMP:20260423T210406
CREATED:20231203T232555Z
LAST-MODIFIED:20231203T232555Z
UID:20287-1726099200-1726185599@www.nelsonhockey.org.nz
SUMMARY:Tasman Primary School Festival Y3&4 Postponement Day
DESCRIPTION:
URL:https://www.nelsonhockey.org.nz/event/tasman-primary-school-festival-y34-postponement-day/
LOCATION:NELSON HOCKEY\, SAXTON FIELDS\, Nelson\, Tasman/Nelson\, 7011\, New Zealand
CATEGORIES:Primary Tournament
ATTACH;FMTTYPE=image/jpeg:https://www.nelsonhockey.org.nz/wp-content/uploads/2023/11/NHA-Logo.jpg
GEO:-41.3280994;173.2181794
X-APPLE-STRUCTURED-LOCATION;VALUE=URI;X-ADDRESS=NELSON HOCKEY SAXTON FIELDS Nelson Tasman/Nelson 7011 New Zealand;X-APPLE-RADIUS=500;X-TITLE=SAXTON FIELDS:geo:173.2181794,-41.3280994
END:VEVENT
BEGIN:VEVENT
DTSTART;VALUE=DATE:20240912
DTEND;VALUE=DATE:20240913
DTSTAMP:20260423T210406
CREATED:20231129T210317Z
LAST-MODIFIED:20231129T210317Z
UID:20224-1726099200-1726185599@www.nelsonhockey.org.nz
SUMMARY:Tasman Districts Sr.M&W Training
DESCRIPTION:
URL:https://www.nelsonhockey.org.nz/event/tasman-districts-sr-mw-training-2/2024-09-12/
LOCATION:NELSON HOCKEY\, SAXTON FIELDS\, Nelson\, Tasman/Nelson\, 7011\, New Zealand
CATEGORIES:Tasman Districts Hockey
ATTACH;FMTTYPE=image/jpeg:https://www.nelsonhockey.org.nz/wp-content/uploads/2023/11/download.jpg
GEO:-41.3280994;173.2181794
X-APPLE-STRUCTURED-LOCATION;VALUE=URI;X-ADDRESS=NELSON HOCKEY SAXTON FIELDS Nelson Tasman/Nelson 7011 New Zealand;X-APPLE-RADIUS=500;X-TITLE=SAXTON FIELDS:geo:173.2181794,-41.3280994
END:VEVENT
BEGIN:VEVENT
DTSTART;VALUE=DATE:20240912
DTEND;VALUE=DATE:20240913
DTSTAMP:20260423T210406
CREATED:20231129T210722Z
LAST-MODIFIED:20231129T210722Z
UID:20233-1726099200-1726185599@www.nelsonhockey.org.nz
SUMMARY:NHA U15's Training
DESCRIPTION:
URL:https://www.nelsonhockey.org.nz/event/nha-u15s-training/2024-09-12/
LOCATION:NELSON HOCKEY\, SAXTON FIELDS\, Nelson\, Tasman/Nelson\, 7011\, New Zealand
CATEGORIES:Junior Trials
ATTACH;FMTTYPE=image/jpeg:https://www.nelsonhockey.org.nz/wp-content/uploads/2023/07/Nelson-Hockey_NHA-Representative_Facebook-Banner_Nov22.jpg
GEO:-41.3280994;173.2181794
X-APPLE-STRUCTURED-LOCATION;VALUE=URI;X-ADDRESS=NELSON HOCKEY SAXTON FIELDS Nelson Tasman/Nelson 7011 New Zealand;X-APPLE-RADIUS=500;X-TITLE=SAXTON FIELDS:geo:173.2181794,-41.3280994
END:VEVENT
BEGIN:VEVENT
DTSTART;VALUE=DATE:20240914
DTEND;VALUE=DATE:20240916
DTSTAMP:20260423T210406
CREATED:20231203T233418Z
LAST-MODIFIED:20231203T233418Z
UID:20289-1726272000-1726444799@www.nelsonhockey.org.nz
SUMMARY:U15B Supporters Cup + U15G JD Trophy
DESCRIPTION:
URL:https://www.nelsonhockey.org.nz/event/u15b-supporters-cup-u15g-jd-trophy/
LOCATION:Buller Hockey Association\, 140 Russell Street\, Westport\, West Hockey Association\, 7825\, New Zealand
CATEGORIES:Rep Tournaments
ATTACH;FMTTYPE=image/png:https://www.nelsonhockey.org.nz/wp-content/uploads/2022/12/Buller.png
END:VEVENT
BEGIN:VEVENT
DTSTART;VALUE=DATE:20240915
DTEND;VALUE=DATE:20240922
DTSTAMP:20260423T210406
CREATED:20231203T234322Z
LAST-MODIFIED:20231203T234322Z
UID:20296-1726358400-1726963199@www.nelsonhockey.org.nz
SUMMARY:HNZ NHL
DESCRIPTION:
URL:https://www.nelsonhockey.org.nz/event/hnz-nhl/
LOCATION:Manawatu Hockey\, 6 Manawaroa Street\, West End\, Palmerston North 4410\, Palmerston North\, Manawatu\, 4410\, New Zealand
CATEGORIES:NZ Hockey,Rep Tournaments
ATTACH;FMTTYPE=image/png:https://www.nelsonhockey.org.nz/wp-content/uploads/2022/11/Hockey-New-Zealand-Logo-1.png
ORGANIZER;CN="HOCKEY MANAWATU":MAILTO:office@hockeymanawatu.org.nz
END:VEVENT
END:VCALENDAR