BEGIN:VCALENDAR
VERSION:2.0
PRODID:-//Nelson Hockey Association (1993) Inc - ECPv6.15.16//NONSGML v1.0//EN
CALSCALE:GREGORIAN
METHOD:PUBLISH
X-WR-CALNAME:Nelson Hockey Association (1993) Inc
X-ORIGINAL-URL:https://www.nelsonhockey.org.nz
X-WR-CALDESC:Events for Nelson Hockey Association (1993) Inc
REFRESH-INTERVAL;VALUE=DURATION:PT1H
X-Robots-Tag:noindex
X-PUBLISHED-TTL:PT1H
BEGIN:VTIMEZONE
TZID:Pacific/Auckland
BEGIN:STANDARD
TZOFFSETFROM:+1300
TZOFFSETTO:+1200
TZNAME:NZST
DTSTART:20240406T140000
END:STANDARD
BEGIN:DAYLIGHT
TZOFFSETFROM:+1200
TZOFFSETTO:+1300
TZNAME:NZDT
DTSTART:20240928T140000
END:DAYLIGHT
BEGIN:STANDARD
TZOFFSETFROM:+1300
TZOFFSETTO:+1200
TZNAME:NZST
DTSTART:20250405T140000
END:STANDARD
BEGIN:DAYLIGHT
TZOFFSETFROM:+1200
TZOFFSETTO:+1300
TZNAME:NZDT
DTSTART:20250927T140000
END:DAYLIGHT
BEGIN:STANDARD
TZOFFSETFROM:+1300
TZOFFSETTO:+1200
TZNAME:NZST
DTSTART:20260404T140000
END:STANDARD
BEGIN:DAYLIGHT
TZOFFSETFROM:+1200
TZOFFSETTO:+1300
TZNAME:NZDT
DTSTART:20260926T140000
END:DAYLIGHT
END:VTIMEZONE
BEGIN:VEVENT
DTSTART;VALUE=DATE:20250127
DTEND;VALUE=DATE:20250412
DTSTAMP:20260421T133117
CREATED:20241227T200958Z
LAST-MODIFIED:20241227T201736Z
UID:22507-1737936000-1744415999@www.nelsonhockey.org.nz
SUMMARY:Term 1
DESCRIPTION:
URL:https://www.nelsonhockey.org.nz/event/term-1-2/
LOCATION:Tasman/Nelson
CATEGORIES:Term 1
ATTACH;FMTTYPE=image/jpeg:https://www.nelsonhockey.org.nz/wp-content/uploads/2023/11/Back-to-school.jpg
END:VEVENT
BEGIN:VEVENT
DTSTART;VALUE=DATE:20250324
DTEND;VALUE=DATE:20250325
DTSTAMP:20260421T133117
CREATED:20241227T220834Z
LAST-MODIFIED:20241227T220834Z
UID:22583-1742774400-1742860799@www.nelsonhockey.org.nz
SUMMARY:NHA Club Capabilities Session-(Presenter: Sunjay Ganda (CHA)
DESCRIPTION:
URL:https://www.nelsonhockey.org.nz/event/nha-club-capabilities-session-presenter-sunjay-ganda-cha/
LOCATION:NELSON HOCKEY\, SAXTON FIELDS\, Nelson\, Tasman/Nelson\, 7011\, New Zealand
CATEGORIES:NELSON HOCKEY ASSOCIATION
ATTACH;FMTTYPE=image/jpeg:https://www.nelsonhockey.org.nz/wp-content/uploads/2024/12/NHA-Logo-2.jpg
GEO:-41.3280994;173.2181794
X-APPLE-STRUCTURED-LOCATION;VALUE=URI;X-ADDRESS=NELSON HOCKEY SAXTON FIELDS Nelson Tasman/Nelson 7011 New Zealand;X-APPLE-RADIUS=500;X-TITLE=SAXTON FIELDS:geo:173.2181794,-41.3280994
END:VEVENT
BEGIN:VEVENT
DTSTART;TZID=Pacific/Auckland:20250324T160000
DTEND;TZID=Pacific/Auckland:20250324T170000
DTSTAMP:20260421T133117
CREATED:20241227T204310Z
LAST-MODIFIED:20241227T204310Z
UID:22530-1742832000-1742835600@www.nelsonhockey.org.nz
SUMMARY:Youth Hockey League
DESCRIPTION:
URL:https://www.nelsonhockey.org.nz/event/youth-hockey-league/2025-03-24/
LOCATION:NELSON HOCKEY\, SAXTON FIELDS\, Nelson\, Tasman/Nelson\, 7011\, New Zealand
CATEGORIES:YOUTH PROGRAM
ATTACH;FMTTYPE=image/jpeg:https://www.nelsonhockey.org.nz/wp-content/uploads/2024/12/Youth-Social-Hockey-T1-2025.jpg
GEO:-41.3280994;173.2181794
X-APPLE-STRUCTURED-LOCATION;VALUE=URI;X-ADDRESS=NELSON HOCKEY SAXTON FIELDS Nelson Tasman/Nelson 7011 New Zealand;X-APPLE-RADIUS=500;X-TITLE=SAXTON FIELDS:geo:173.2181794,-41.3280994
END:VEVENT
BEGIN:VEVENT
DTSTART;VALUE=DATE:20250325
DTEND;VALUE=DATE:20250326
DTSTAMP:20260421T133117
CREATED:20241227T221027Z
LAST-MODIFIED:20241227T221027Z
UID:22585-1742860800-1742947199@www.nelsonhockey.org.nz
SUMMARY:NHA Umpires Course -(Jr.& Sr)-(Presenter: Ethan Booth CHA)
DESCRIPTION:
URL:https://www.nelsonhockey.org.nz/event/nha-umpires-course-jr-sr-presenter-ethan-booth-cha/
LOCATION:Nelson Hockey Softball Pavillion\, Saxton Hockey Pavillion\, Stoke\, 7011\, New Zealand
CATEGORIES:Umpire Course
ATTACH;FMTTYPE=image/jpeg:https://www.nelsonhockey.org.nz/wp-content/uploads/2022/12/Nelson-Hockey_Umpires_Facebook-Banner_Nov22.jpg
END:VEVENT
BEGIN:VEVENT
DTSTART;TZID=Pacific/Auckland:20250326T180000
DTEND;TZID=Pacific/Auckland:20250326T200000
DTSTAMP:20260421T133117
CREATED:20241227T204847Z
LAST-MODIFIED:20241227T204847Z
UID:22556-1743012000-1743019200@www.nelsonhockey.org.nz
SUMMARY:Summer Social League I
DESCRIPTION:
URL:https://www.nelsonhockey.org.nz/event/summer-social-league-i-2/2025-03-26/
LOCATION:NELSON HOCKEY\, SAXTON FIELDS\, Nelson\, Tasman/Nelson\, 7011\, New Zealand
CATEGORIES:Summer Hockey-Renegade/Social
ATTACH;FMTTYPE=image/jpeg:https://www.nelsonhockey.org.nz/wp-content/uploads/2024/10/NHA-2025-SUMMER-SOCIAL-PROGRAM-FEBRUARY.jpg
GEO:-41.3280994;173.2181794
X-APPLE-STRUCTURED-LOCATION;VALUE=URI;X-ADDRESS=NELSON HOCKEY SAXTON FIELDS Nelson Tasman/Nelson 7011 New Zealand;X-APPLE-RADIUS=500;X-TITLE=SAXTON FIELDS:geo:173.2181794,-41.3280994
END:VEVENT
BEGIN:VEVENT
DTSTART;VALUE=DATE:20250327
DTEND;VALUE=DATE:20250328
DTSTAMP:20260421T133117
CREATED:20241227T221327Z
LAST-MODIFIED:20241227T221327Z
UID:22587-1743033600-1743119999@www.nelsonhockey.org.nz
SUMMARY:NHA U18 M&W Registrations Due Day
DESCRIPTION:
URL:https://www.nelsonhockey.org.nz/event/nha-u18-mw-registrations-due-day/
LOCATION:NELSON HOCKEY\, SAXTON FIELDS\, Nelson\, Tasman/Nelson\, 7011\, New Zealand
CATEGORIES:Nelson U18 Boys-Girls Trials
ATTACH;FMTTYPE=image/jpeg:https://www.nelsonhockey.org.nz/wp-content/uploads/2024/12/2025-TD-U18-REGISTRATIONS-OPEN.jpg
GEO:-41.3280994;173.2181794
X-APPLE-STRUCTURED-LOCATION;VALUE=URI;X-ADDRESS=NELSON HOCKEY SAXTON FIELDS Nelson Tasman/Nelson 7011 New Zealand;X-APPLE-RADIUS=500;X-TITLE=SAXTON FIELDS:geo:173.2181794,-41.3280994
END:VEVENT
BEGIN:VEVENT
DTSTART;TZID=Pacific/Auckland:20250327T154500
DTEND;TZID=Pacific/Auckland:20250327T183000
DTSTAMP:20260421T133117
CREATED:20241227T205022Z
LAST-MODIFIED:20241227T205022Z
UID:22561-1743090300-1743100200@www.nelsonhockey.org.nz
SUMMARY:Junior Program I
DESCRIPTION:
URL:https://www.nelsonhockey.org.nz/event/junior-program-i-8/2025-03-27/
LOCATION:NELSON HOCKEY\, SAXTON FIELDS\, Nelson\, Tasman/Nelson\, 7011\, New Zealand
CATEGORIES:Junior Programme
ATTACH;FMTTYPE=image/jpeg:https://www.nelsonhockey.org.nz/wp-content/uploads/2024/12/2025-NHA-Junior-Programme-I.jpg
GEO:-41.3280994;173.2181794
X-APPLE-STRUCTURED-LOCATION;VALUE=URI;X-ADDRESS=NELSON HOCKEY SAXTON FIELDS Nelson Tasman/Nelson 7011 New Zealand;X-APPLE-RADIUS=500;X-TITLE=SAXTON FIELDS:geo:173.2181794,-41.3280994
END:VEVENT
BEGIN:VEVENT
DTSTART;TZID=Pacific/Auckland:20250327T180000
DTEND;TZID=Pacific/Auckland:20250327T190000
DTSTAMP:20260421T133117
CREATED:20241227T203956Z
LAST-MODIFIED:20241227T205102Z
UID:22523-1743098400-1743102000@www.nelsonhockey.org.nz
SUMMARY:Masters Social League
DESCRIPTION:
URL:https://www.nelsonhockey.org.nz/event/masters-social-league/2025-03-27/
LOCATION:NELSON HOCKEY\, SAXTON FIELDS\, Nelson\, Tasman/Nelson\, 7011\, New Zealand
CATEGORIES:Masters
ATTACH;FMTTYPE=image/jpeg:https://www.nelsonhockey.org.nz/wp-content/uploads/2024/12/2025-Master-League-T1-1.jpg
GEO:-41.3280994;173.2181794
X-APPLE-STRUCTURED-LOCATION;VALUE=URI;X-ADDRESS=NELSON HOCKEY SAXTON FIELDS Nelson Tasman/Nelson 7011 New Zealand;X-APPLE-RADIUS=500;X-TITLE=SAXTON FIELDS:geo:173.2181794,-41.3280994
END:VEVENT
BEGIN:VEVENT
DTSTART;VALUE=DATE:20250328
DTEND;VALUE=DATE:20250329
DTSTAMP:20260421T133117
CREATED:20241227T221914Z
LAST-MODIFIED:20241227T221914Z
UID:22590-1743120000-1743206399@www.nelsonhockey.org.nz
SUMMARY:NHA Coaching Forum I
DESCRIPTION:
URL:https://www.nelsonhockey.org.nz/event/nha-coaching-forum-i-2/
LOCATION:Nelson Hockey Softball Pavillion\, Saxton Hockey Pavillion\, Stoke\, 7011\, New Zealand
CATEGORIES:Courses
ATTACH;FMTTYPE=image/jpeg:https://www.nelsonhockey.org.nz/wp-content/uploads/2023/06/Nelson-Hockey_Coaching_Various-Banner_Apr23-scaled.jpg
END:VEVENT
BEGIN:VEVENT
DTSTART;TZID=Pacific/Auckland:20250328T160000
DTEND;TZID=Pacific/Auckland:20250328T203000
DTSTAMP:20260421T133117
CREATED:20241227T210703Z
LAST-MODIFIED:20241227T210703Z
UID:22568-1743177600-1743193800@www.nelsonhockey.org.nz
SUMMARY:Player Development Program I-(U13's & U15's)-Performance Program I-(U18's)
DESCRIPTION:
URL:https://www.nelsonhockey.org.nz/event/player-development-program-i-u13s-u15s-performance-program-i-u18s/2025-03-28/
LOCATION:NELSON HOCKEY\, SAXTON FIELDS\, Nelson\, Tasman/Nelson\, 7011\, New Zealand
CATEGORIES:Nelson Hockey Development Program
ATTACH;FMTTYPE=image/jpeg:https://www.nelsonhockey.org.nz/wp-content/uploads/2024/12/2025-U13-U15-U18-NHA-DEVELOPMENT-PROGRAM-I-1.jpg
GEO:-41.3280994;173.2181794
X-APPLE-STRUCTURED-LOCATION;VALUE=URI;X-ADDRESS=NELSON HOCKEY SAXTON FIELDS Nelson Tasman/Nelson 7011 New Zealand;X-APPLE-RADIUS=500;X-TITLE=SAXTON FIELDS:geo:173.2181794,-41.3280994
END:VEVENT
END:VCALENDAR