BEGIN:VCALENDAR
VERSION:2.0
PRODID:-//Nelson Hockey Association (1993) Inc - ECPv6.15.16//NONSGML v1.0//EN
CALSCALE:GREGORIAN
METHOD:PUBLISH
X-WR-CALNAME:Nelson Hockey Association (1993) Inc
X-ORIGINAL-URL:https://www.nelsonhockey.org.nz
X-WR-CALDESC:Events for Nelson Hockey Association (1993) Inc
REFRESH-INTERVAL;VALUE=DURATION:PT1H
X-Robots-Tag:noindex
X-PUBLISHED-TTL:PT1H
BEGIN:VTIMEZONE
TZID:Pacific/Auckland
BEGIN:STANDARD
TZOFFSETFROM:+1300
TZOFFSETTO:+1200
TZNAME:NZST
DTSTART:20240406T140000
END:STANDARD
BEGIN:DAYLIGHT
TZOFFSETFROM:+1200
TZOFFSETTO:+1300
TZNAME:NZDT
DTSTART:20240928T140000
END:DAYLIGHT
BEGIN:STANDARD
TZOFFSETFROM:+1300
TZOFFSETTO:+1200
TZNAME:NZST
DTSTART:20250405T140000
END:STANDARD
BEGIN:DAYLIGHT
TZOFFSETFROM:+1200
TZOFFSETTO:+1300
TZNAME:NZDT
DTSTART:20250927T140000
END:DAYLIGHT
BEGIN:STANDARD
TZOFFSETFROM:+1300
TZOFFSETTO:+1200
TZNAME:NZST
DTSTART:20260404T140000
END:STANDARD
BEGIN:DAYLIGHT
TZOFFSETFROM:+1200
TZOFFSETTO:+1300
TZNAME:NZDT
DTSTART:20260926T140000
END:DAYLIGHT
END:VTIMEZONE
BEGIN:VEVENT
DTSTART;VALUE=DATE:20250714
DTEND;VALUE=DATE:20250920
DTSTAMP:20260423T095155
CREATED:20241229T201801Z
LAST-MODIFIED:20241229T201801Z
UID:22716-1752451200-1758326399@www.nelsonhockey.org.nz
SUMMARY:Term 3
DESCRIPTION:
URL:https://www.nelsonhockey.org.nz/event/term-3-2/
LOCATION:Tasman/Nelson
CATEGORIES:Term 3
ATTACH;FMTTYPE=image/jpeg:https://www.nelsonhockey.org.nz/wp-content/uploads/2023/11/Back-to-school.jpg
END:VEVENT
BEGIN:VEVENT
DTSTART;VALUE=DATE:20250729
DTEND;VALUE=DATE:20250731
DTSTAMP:20260423T095155
CREATED:20241229T203124Z
LAST-MODIFIED:20241229T203124Z
UID:22737-1753747200-1753919999@www.nelsonhockey.org.nz
SUMMARY:TSSSC Tournament
DESCRIPTION:
URL:https://www.nelsonhockey.org.nz/event/tsssc-tournament/
LOCATION:NELSON HOCKEY\, SAXTON FIELDS\, Nelson\, Tasman/Nelson\, 7011\, New Zealand
CATEGORIES:College Full Field Competition
ATTACH;FMTTYPE=image/jpeg:https://www.nelsonhockey.org.nz/wp-content/uploads/2024/10/2025-TSSSC-Tournament.jpg
GEO:-41.3280994;173.2181794
X-APPLE-STRUCTURED-LOCATION;VALUE=URI;X-ADDRESS=NELSON HOCKEY SAXTON FIELDS Nelson Tasman/Nelson 7011 New Zealand;X-APPLE-RADIUS=500;X-TITLE=SAXTON FIELDS:geo:173.2181794,-41.3280994
END:VEVENT
BEGIN:VEVENT
DTSTART;VALUE=DATE:20250730
DTEND;VALUE=DATE:20250731
DTSTAMP:20260423T095155
CREATED:20241229T203237Z
LAST-MODIFIED:20241229T203237Z
UID:22739-1753833600-1753919999@www.nelsonhockey.org.nz
SUMMARY:NHA U13's & U15's Teams Announcement
DESCRIPTION:
URL:https://www.nelsonhockey.org.nz/event/nha-u13s-u15s-teams-announcement/
LOCATION:NELSON HOCKEY\, SAXTON FIELDS\, Nelson\, Tasman/Nelson\, 7011\, New Zealand
CATEGORIES:U13-U15 Development Programme
ATTACH;FMTTYPE=image/jpeg:https://www.nelsonhockey.org.nz/wp-content/uploads/2022/12/Nelson-Hockey_NHA-Representative_Blog-Post-Banner_Nov22.jpg
GEO:-41.3280994;173.2181794
X-APPLE-STRUCTURED-LOCATION;VALUE=URI;X-ADDRESS=NELSON HOCKEY SAXTON FIELDS Nelson Tasman/Nelson 7011 New Zealand;X-APPLE-RADIUS=500;X-TITLE=SAXTON FIELDS:geo:173.2181794,-41.3280994
END:VEVENT
BEGIN:VEVENT
DTSTART;TZID=Pacific/Auckland:20250730T163000
DTEND;TZID=Pacific/Auckland:20250730T170000
DTSTAMP:20260423T095155
CREATED:20250516T022028Z
LAST-MODIFIED:20250516T022028Z
UID:24086-1753893000-1753894800@www.nelsonhockey.org.nz
SUMMARY:Primary Grade - Round 9 - Stoke Primary Mixed VS St Paul's Tasman
DESCRIPTION:
URL:https://www.nelsonhockey.org.nz/event/primary-grade-round-9-stoke-primary-mixed-vs-st-pauls-tasman/
LOCATION:Tasman/Nelson
CATEGORIES:Club Competition Week
END:VEVENT
BEGIN:VEVENT
DTSTART;TZID=Pacific/Auckland:20250730T163000
DTEND;TZID=Pacific/Auckland:20250730T170000
DTSTAMP:20260423T095155
CREATED:20250516T022225Z
LAST-MODIFIED:20250516T022225Z
UID:24087-1753893000-1753894800@www.nelsonhockey.org.nz
SUMMARY:Primary Grade - Round 9 - Waimai United Whizzers VS Waimai United
DESCRIPTION:
URL:https://www.nelsonhockey.org.nz/event/primary-grade-round-9-waimai-united-whizzers-vs-waimai-united/
LOCATION:Tasman/Nelson
CATEGORIES:Club Competition Week
END:VEVENT
BEGIN:VEVENT
DTSTART;TZID=Pacific/Auckland:20250730T163000
DTEND;TZID=Pacific/Auckland:20250730T173500
DTSTAMP:20260423T095155
CREATED:20250514T032344Z
LAST-MODIFIED:20250514T032344Z
UID:24015-1753893000-1753896900@www.nelsonhockey.org.nz
SUMMARY:Intermediate Grade - Round 9 - Waimai United  - Orange vs NC Prep Navy
DESCRIPTION:
URL:https://www.nelsonhockey.org.nz/event/intermediate-grade-round-9-waimai-united-orange-vs-nc-prep-navy/
LOCATION:Tasman/Nelson
CATEGORIES:Club Competition Week
END:VEVENT
BEGIN:VEVENT
DTSTART;TZID=Pacific/Auckland:20250730T163000
DTEND;TZID=Pacific/Auckland:20250730T173500
DTSTAMP:20260423T095155
CREATED:20250514T032344Z
LAST-MODIFIED:20250514T032344Z
UID:24014-1753893000-1753896900@www.nelsonhockey.org.nz
SUMMARY:Intermediate Grade - Round 9 - Federal Intermediate vs N.C.G. Prep Storm
DESCRIPTION:
URL:https://www.nelsonhockey.org.nz/event/intermediate-grade-round-9-federal-intermediate-vs-n-c-g-prep-storm/
LOCATION:Tasman/Nelson
CATEGORIES:Club Competition Week
END:VEVENT
BEGIN:VEVENT
DTSTART;TZID=Pacific/Auckland:20250730T170000
DTEND;TZID=Pacific/Auckland:20250730T173000
DTSTAMP:20260423T095155
CREATED:20250516T022027Z
LAST-MODIFIED:20250516T022027Z
UID:24085-1753894800-1753896600@www.nelsonhockey.org.nz
SUMMARY:Primary Grade - Round 9 - Federal Primary VS Tasman Tigers
DESCRIPTION:
URL:https://www.nelsonhockey.org.nz/event/primary-grade-round-9-federal-primary-vs-tasman-tigers/
LOCATION:Tasman/Nelson
CATEGORIES:Club Competition Week
END:VEVENT
BEGIN:VEVENT
DTSTART;TZID=Pacific/Auckland:20250730T170000
DTEND;TZID=Pacific/Auckland:20250730T173000
DTSTAMP:20260423T095155
CREATED:20250516T022225Z
LAST-MODIFIED:20250516T022225Z
UID:24088-1753894800-1753896600@www.nelsonhockey.org.nz
SUMMARY:Primary Grade - Round 9 - St Paul's Tasman VS Waimai United
DESCRIPTION:
URL:https://www.nelsonhockey.org.nz/event/primary-grade-round-9-st-pauls-tasman-vs-waimai-united/
LOCATION:Tasman/Nelson
CATEGORIES:Club Competition Week
END:VEVENT
BEGIN:VEVENT
DTSTART;TZID=Pacific/Auckland:20250730T173000
DTEND;TZID=Pacific/Auckland:20250730T180000
DTSTAMP:20260423T095155
CREATED:20250516T022225Z
LAST-MODIFIED:20250516T022225Z
UID:24089-1753896600-1753898400@www.nelsonhockey.org.nz
SUMMARY:Primary Grade - Round 9 - Tasman Tigers VS Stoke Primary Mixed
DESCRIPTION:
URL:https://www.nelsonhockey.org.nz/event/primary-grade-round-9-tasman-tigers-vs-stoke-primary-mixed/
LOCATION:Tasman/Nelson
CATEGORIES:Club Competition Week
END:VEVENT
BEGIN:VEVENT
DTSTART;TZID=Pacific/Auckland:20250730T173000
DTEND;TZID=Pacific/Auckland:20250730T180000
DTSTAMP:20260423T095155
CREATED:20250516T022225Z
LAST-MODIFIED:20250516T022225Z
UID:24090-1753896600-1753898400@www.nelsonhockey.org.nz
SUMMARY:Primary Grade - Round 9 - Federal Primary VS Waimai United Whizzers
DESCRIPTION:
URL:https://www.nelsonhockey.org.nz/event/primary-grade-round-9-federal-primary-vs-waimai-united-whizzers/
LOCATION:Tasman/Nelson
CATEGORIES:Club Competition Week
END:VEVENT
BEGIN:VEVENT
DTSTART;TZID=Pacific/Auckland:20250730T173500
DTEND;TZID=Pacific/Auckland:20250730T184000
DTSTAMP:20260423T095155
CREATED:20250514T032343Z
LAST-MODIFIED:20250514T032343Z
UID:24013-1753896900-1753900800@www.nelsonhockey.org.nz
SUMMARY:Intermediate Grade - Round 9 - Waimai United vs Stoke Intermediate mixed
DESCRIPTION:
URL:https://www.nelsonhockey.org.nz/event/intermediate-grade-round-9-waimai-united-vs-stoke-intermediate-mixed/
LOCATION:Tasman/Nelson
CATEGORIES:Club Competition Week
END:VEVENT
BEGIN:VEVENT
DTSTART;TZID=Pacific/Auckland:20250730T173500
DTEND;TZID=Pacific/Auckland:20250730T184000
DTSTAMP:20260423T095155
CREATED:20250514T033950Z
LAST-MODIFIED:20250514T033950Z
UID:24016-1753896900-1753900800@www.nelsonhockey.org.nz
SUMMARY:Intermediate Grade - Round 9 - Waimai United  - Blue vs NC Prep Sky
DESCRIPTION:
URL:https://www.nelsonhockey.org.nz/event/intermediate-grade-round-9-waimai-united-blue-vs-nc-prep-sky/
LOCATION:Tasman/Nelson
CATEGORIES:Club Competition Week
END:VEVENT
BEGIN:VEVENT
DTSTART;TZID=Pacific/Auckland:20250730T180000
DTEND;TZID=Pacific/Auckland:20250730T190000
DTSTAMP:20260423T095155
CREATED:20241228T011442Z
LAST-MODIFIED:20241228T011442Z
UID:22635-1753898400-1753902000@www.nelsonhockey.org.nz
SUMMARY:GK Training Program
DESCRIPTION:
URL:https://www.nelsonhockey.org.nz/event/gk-training-program-2/2025-07-30/
LOCATION:NELSON HOCKEY\, SAXTON FIELDS\, Nelson\, Tasman/Nelson\, 7011\, New Zealand
CATEGORIES:GK TRAINING PROGRAM
ATTACH;FMTTYPE=image/jpeg:https://www.nelsonhockey.org.nz/wp-content/uploads/2024/10/2025-NHA-GK-Training-Program.jpg
GEO:-41.3280994;173.2181794
X-APPLE-STRUCTURED-LOCATION;VALUE=URI;X-ADDRESS=NELSON HOCKEY SAXTON FIELDS Nelson Tasman/Nelson 7011 New Zealand;X-APPLE-RADIUS=500;X-TITLE=SAXTON FIELDS:geo:173.2181794,-41.3280994
END:VEVENT
BEGIN:VEVENT
DTSTART;TZID=Pacific/Auckland:20250731T154500
DTEND;TZID=Pacific/Auckland:20250731T183000
DTSTAMP:20260423T095155
CREATED:20241229T203521Z
LAST-MODIFIED:20241229T203521Z
UID:22742-1753976700-1753986600@www.nelsonhockey.org.nz
SUMMARY:Junior Program III
DESCRIPTION:
URL:https://www.nelsonhockey.org.nz/event/junior-program-iii-5/2025-07-31/
LOCATION:NELSON HOCKEY\, SAXTON FIELDS\, Nelson\, Tasman/Nelson\, 7011\, New Zealand
CATEGORIES:Junior Programme
ATTACH;FMTTYPE=image/jpeg:https://www.nelsonhockey.org.nz/wp-content/uploads/2024/10/2025-NHA-Junior-Programme-III.jpg
GEO:-41.3280994;173.2181794
X-APPLE-STRUCTURED-LOCATION;VALUE=URI;X-ADDRESS=NELSON HOCKEY SAXTON FIELDS Nelson Tasman/Nelson 7011 New Zealand;X-APPLE-RADIUS=500;X-TITLE=SAXTON FIELDS:geo:173.2181794,-41.3280994
END:VEVENT
BEGIN:VEVENT
DTSTART;TZID=Pacific/Auckland:20250731T190000
DTEND;TZID=Pacific/Auckland:20250731T203000
DTSTAMP:20260423T095155
CREATED:20241229T202430Z
LAST-MODIFIED:20241229T202430Z
UID:22724-1753988400-1753993800@www.nelsonhockey.org.nz
SUMMARY:Tasman Districts SR.M&W -Training
DESCRIPTION:
URL:https://www.nelsonhockey.org.nz/event/tasman-districts-sr-mw-training-3/2025-07-31/
LOCATION:NELSON HOCKEY\, SAXTON FIELDS\, Nelson\, Tasman/Nelson\, 7011\, New Zealand
CATEGORIES:Tasman Districts,Tasman Districts Hockey
ATTACH;FMTTYPE=image/png:https://www.nelsonhockey.org.nz/wp-content/uploads/2022/12/Tasman-Districts.png
GEO:-41.3280994;173.2181794
X-APPLE-STRUCTURED-LOCATION;VALUE=URI;X-ADDRESS=NELSON HOCKEY SAXTON FIELDS Nelson Tasman/Nelson 7011 New Zealand;X-APPLE-RADIUS=500;X-TITLE=SAXTON FIELDS:geo:173.2181794,-41.3280994
END:VEVENT
BEGIN:VEVENT
DTSTART;TZID=Pacific/Auckland:20250801T163000
DTEND;TZID=Pacific/Auckland:20250801T180000
DTSTAMP:20260423T095155
CREATED:20250430T031111Z
LAST-MODIFIED:20250430T031111Z
UID:23738-1754065800-1754071200@www.nelsonhockey.org.nz
SUMMARY:Secondary Boys - Round 11 - Garin Senior Boys vs Waimai United
DESCRIPTION:
URL:https://www.nelsonhockey.org.nz/event/secondary-boys-round-11-garin-senior-boys-vs-waimai-united/
LOCATION:Tasman/Nelson
CATEGORIES:Club Competition Week
END:VEVENT
BEGIN:VEVENT
DTSTART;TZID=Pacific/Auckland:20250801T163000
DTEND;TZID=Pacific/Auckland:20250801T180000
DTSTAMP:20260423T095155
CREATED:20250430T031654Z
LAST-MODIFIED:20250430T031654Z
UID:23812-1754065800-1754071200@www.nelsonhockey.org.nz
SUMMARY:Secondary Girls/Mixed - Round 11 - Tasman Titans vs Nelson College for Girls combined
DESCRIPTION:
URL:https://www.nelsonhockey.org.nz/event/secondary-girls-mixed-round-11-tasman-titans-vs-nelson-college-for-girls-combined/
LOCATION:Tasman/Nelson
CATEGORIES:Club Competition Week
END:VEVENT
BEGIN:VEVENT
DTSTART;TZID=Pacific/Auckland:20250801T175500
DTEND;TZID=Pacific/Auckland:20250801T192500
DTSTAMP:20260423T095155
CREATED:20250430T030448Z
LAST-MODIFIED:20250430T030448Z
UID:23750-1754070900-1754076300@www.nelsonhockey.org.nz
SUMMARY:Secondary Boys - Round 11 - NC Navy vs NC Sky
DESCRIPTION:
URL:https://www.nelsonhockey.org.nz/event/secondary-boys-round-11-nc-navy-vs-nc-sky/
LOCATION:Tasman/Nelson
CATEGORIES:Club Competition Week
END:VEVENT
BEGIN:VEVENT
DTSTART;TZID=Pacific/Auckland:20250801T175500
DTEND;TZID=Pacific/Auckland:20250801T192500
DTSTAMP:20260423T095155
CREATED:20250430T032057Z
LAST-MODIFIED:20250430T032057Z
UID:23824-1754070900-1754076300@www.nelsonhockey.org.nz
SUMMARY:Secondary Girls/Mixed - Round 11 - Garin Development vs Garin Senior Girls
DESCRIPTION:
URL:https://www.nelsonhockey.org.nz/event/secondary-girls-mixed-round-11-garin-development-vs-garin-senior-girls/
LOCATION:Tasman/Nelson
CATEGORIES:Club Competition Week
END:VEVENT
BEGIN:VEVENT
DTSTART;TZID=Pacific/Auckland:20250801T192000
DTEND;TZID=Pacific/Auckland:20250801T205000
DTSTAMP:20260423T095155
CREATED:20250430T025947Z
LAST-MODIFIED:20250430T025947Z
UID:23762-1754076000-1754081400@www.nelsonhockey.org.nz
SUMMARY:Secondary Boys - Round 11 - Stoke Mixed Secondary vs Federal
DESCRIPTION:
URL:https://www.nelsonhockey.org.nz/event/secondary-boys-round-11-stoke-mixed-secondary-vs-federal/
LOCATION:Tasman/Nelson
CATEGORIES:Club Competition Week
END:VEVENT
BEGIN:VEVENT
DTSTART;TZID=Pacific/Auckland:20250801T192000
DTEND;TZID=Pacific/Auckland:20250801T205000
DTSTAMP:20260423T095155
CREATED:20250430T032455Z
LAST-MODIFIED:20250430T032455Z
UID:23836-1754076000-1754081400@www.nelsonhockey.org.nz
SUMMARY:Secondary Girls/Mixed - Round 11 - Waimea College Tasman vs Nelson College for Girls 9&10
DESCRIPTION:
URL:https://www.nelsonhockey.org.nz/event/secondary-girls-mixed-round-11-waimea-college-tasman-vs-nelson-college-for-girls-910/
LOCATION:Tasman/Nelson
CATEGORIES:Club Competition Week
END:VEVENT
END:VCALENDAR