BEGIN:VCALENDAR
VERSION:2.0
PRODID:-//Nelson Hockey Association (1993) Inc - ECPv6.15.16//NONSGML v1.0//EN
CALSCALE:GREGORIAN
METHOD:PUBLISH
X-WR-CALNAME:Nelson Hockey Association (1993) Inc
X-ORIGINAL-URL:https://www.nelsonhockey.org.nz
X-WR-CALDESC:Events for Nelson Hockey Association (1993) Inc
REFRESH-INTERVAL;VALUE=DURATION:PT1H
X-Robots-Tag:noindex
X-PUBLISHED-TTL:PT1H
BEGIN:VTIMEZONE
TZID:Pacific/Auckland
BEGIN:STANDARD
TZOFFSETFROM:+1300
TZOFFSETTO:+1200
TZNAME:NZST
DTSTART:20250405T140000
END:STANDARD
BEGIN:DAYLIGHT
TZOFFSETFROM:+1200
TZOFFSETTO:+1300
TZNAME:NZDT
DTSTART:20250927T140000
END:DAYLIGHT
BEGIN:STANDARD
TZOFFSETFROM:+1300
TZOFFSETTO:+1200
TZNAME:NZST
DTSTART:20260404T140000
END:STANDARD
BEGIN:DAYLIGHT
TZOFFSETFROM:+1200
TZOFFSETTO:+1300
TZNAME:NZDT
DTSTART:20260926T140000
END:DAYLIGHT
BEGIN:STANDARD
TZOFFSETFROM:+1300
TZOFFSETTO:+1200
TZNAME:NZST
DTSTART:20270403T140000
END:STANDARD
BEGIN:DAYLIGHT
TZOFFSETFROM:+1200
TZOFFSETTO:+1300
TZNAME:NZDT
DTSTART:20270925T140000
END:DAYLIGHT
END:VTIMEZONE
BEGIN:VEVENT
DTSTART;TZID=Pacific/Auckland:20260509T090000
DTEND;TZID=Pacific/Auckland:20260509T170000
DTSTAMP:20260420T001949
CREATED:20260329T012000Z
LAST-MODIFIED:20260329T012000Z
UID:25428-1778317200-1778346000@www.nelsonhockey.org.nz
SUMMARY:U18M&W Stirling & Dodson Cups
DESCRIPTION:
URL:https://www.nelsonhockey.org.nz/event/u18mw-stirling-dodson-cups/2026-05-09/
LOCATION:Marlborough Hockey\, Blenheim\, New Zealand
CATEGORIES:Nelson U18 Boys-Girls Trials
ATTACH;FMTTYPE=image/jpeg:https://www.nelsonhockey.org.nz/wp-content/uploads/2025/04/Nelson-Hockey_NHA-Representative_Blog-Post-Banner_Nov22.jpg
GEO:-41.5134425;173.9612498
END:VEVENT
BEGIN:VEVENT
DTSTART;TZID=Pacific/Auckland:20260510T090000
DTEND;TZID=Pacific/Auckland:20260510T170000
DTSTAMP:20260420T001949
CREATED:20260329T012000Z
LAST-MODIFIED:20260329T012000Z
UID:25430-1778403600-1778432400@www.nelsonhockey.org.nz
SUMMARY:U18M&W Stirling & Dodson Cups
DESCRIPTION:
URL:https://www.nelsonhockey.org.nz/event/u18mw-stirling-dodson-cups/2026-05-10/
LOCATION:Marlborough Hockey\, Blenheim\, New Zealand
CATEGORIES:Nelson U18 Boys-Girls Trials
ATTACH;FMTTYPE=image/jpeg:https://www.nelsonhockey.org.nz/wp-content/uploads/2025/04/Nelson-Hockey_NHA-Representative_Blog-Post-Banner_Nov22.jpg
GEO:-41.5134425;173.9612498
END:VEVENT
END:VCALENDAR